Workbook
Name RESULTATS: '6èm Dan'!$W$2:$Z$14
Name RESULTATS: '3èm DAN'!$AA$2:$AD$14
Name RESULTATS: '4èm DAN'!$AA$2:$AD$14
Name RESULTATS: '7èm DAN'!$W$2:$Z$14
Name Date_Passage: Bilan!$B$2
Name RESULTATS: '5èm DAN'!$AA$2:$AD$14
Name RESULTATS: '1er DAN '!$W$2:$Z$14
Name RESULTATS: '2èm DAN'!$Z$2:$AC$14

Sheet Bilan
A1: Discipline : | B1: KENDO | C1: NAT ou REG : | D1: REG
A2: Date : | C2: Lieu : | F2: IMPUTATION | G2: GRADES
D3: 1er Jury (1er au 3e dan) | E3: 2ème Jury (4e au 5e dan) | F3: 3ème Jury | G3: KENGRADES
A4: Composition du/des jury(s) | C4: Juré(e) 1 : | G4: IAIGRADES
C5: Juré(e) 2 : | G5: JOGRADES
C6: Juré(e) 3 : | G6: NAGGRADES
C7: Juré(e) 4 : | G7: CHAGRADES
C8: Juré(e) 5 :
B9: (5e et 6e dan uniquement) | C9: Juré(e) 6 :
B11: (Facultatif) | C11: Remplaçant(e) 1 :
B12: (Facultatif) | C12: Remplaçant(e) 2 :
C14: Stagiaire 1 :
C15: Stagiaire 2 :
A17: Grade | B17: Nombre d'inscrits | C17: Nombre de reçus | D17: % de reçus | E17: Total Inscriptions | F17: Total Enregistrements | G17: Total | I17: RIB | J17: 18206 00433 65115829810 93
A18: 1er DAN | B18: =COUNTA('1er DAN '!B2:B51) -> 0 | C18: =('1er DAN '!K52) -> 0 | D18: =(C18/B18) -> #DIV/0! | E18: =('1er DAN '!J52) -> 15 | F18: =('1er DAN '!L52) -> 0 | G18: =SUM(E18:F18) -> 15 | I18: IBAN | J18: FR76 1820 6004 3365 1158 2981 093
A19: 2e DAN | B19: =COUNTA('2èm DAN'!B2:B51) -> 0 | C19: =('2èm DAN'!N52) -> 0 | D19: =(C19/B19) -> #DIV/0! | E19: =('2èm DAN'!M52) -> 25 | F19: =('2èm DAN'!O52) -> 0 | G19: =SUM(E19:F19) -> 25 | I19: BIC | J19: AGRIFRPP882
A20: 3e DAN | B20: =COUNTA('3èm DAN'!B2:B51) -> 0 | C20: =('3èm DAN'!N52) -> 0 | D20: =(C20/B20) -> #DIV/0! | E20: =('3èm DAN'!M52) -> 35 | F20: =('3èm DAN'!O52) -> 0 | G20: =SUM(E20:F20) -> 35 | J20: ASSOC. FF DE JUDO JUJITSU ET DISCIPLINES ASSOCIEES- KENDO
A21: 4e DAN | B21: =COUNTA('4èm DAN'!B2:B51) -> 0 | C21: =('4èm DAN'!N52) -> 0 | D21: =(C21/B21) -> #DIV/0! | E21: =('4èm DAN'!M52) -> 45 | F21: =('4èm DAN'!O52) -> 0 | G21: =SUM(E21:F21) -> 45 | J21: 21 AV DE LA PORTE DE CHATILLON
A22: 5e DAN | B22: =COUNTA('5èm DAN'!B2:B51) -> 0 | C22: =('5èm DAN'!N52) -> 0 | D22: =(C22/B22) -> #DIV/0! | E22: =('5èm DAN'!M52) -> 55 | F22: =('5èm DAN'!O52) -> 0 | G22: =SUM(E22:F22) -> 55 | J22: 75014 PARIS
A23: 6e DAN | B23: =COUNTA('6èm Dan'!B2:B51) -> 0 | C23: ='6èm Dan'!J52 -> 0 | D23: =(C23/B23) -> #DIV/0! | E23: ='6èm Dan'!I52 -> 0 | F23: ='6èm Dan'!K52 -> 0 | G23: =SUM(E23:F23) -> 0
A24: 7e DAN | B24: =COUNTA('7èm DAN'!B2:B51) -> 0 | C24: ='7èm DAN'!J52 -> 0 | D24: =(C24/B24) -> #DIV/0! | E24: ='7èm DAN'!I52 -> 0 | F24: ='7èm DAN'!K52 -> 0 | G24: =SUM(E24:F24) -> 0
A25: TOTAL | B25: =SUM(B18:B24) -> 0 | C25: =SUM(C18:C24) -> 0 | D25: =(C25/B25) -> #DIV/0! | E25: =SUM(E18:E24) -> 175 | F25: =SUM(F18:F24) -> 0 | G25: =SUM(G18:G24) -> 175
E27: Financier ok ? | F27: =+SUM(F25)-SUM('Bilan financier'!C:C) -> 0

Sheet Bilan financier
A1: Type paiement | B1: Nom du payeur | C1: Montant
A3: Chèque | C3: 0
A4: Chèque
A5: Chèque
A6: Chèque
A7: Chèque
A8: Chèque
A9: Chèque
A10: Chèque
A11: Chèque
A12: Chèque
A13: Chèque
A14: Chèque
A15: Chèque
... A25: Chèque

Sheet 1er DAN 
A1: N° | B1: Nom | C1: Prénom | D1: Email | E1: Club | F1: Région | G1: Date de Naissance | H1: N° licence | I1: Validation de l'inscription | J1: Inscription | K1: Résultat | L1: Enreg. | N1: Jury 1 | O1: Jury 2 | P1: Jury 3 | Q1: Jury 4 | R1: Jury 5 | S1: Decision 1 | T1: Kata | U1: Decision 2 | W1: Nb de Jury | X1: Nb de Oui | Y1: Nb de Non | Z1: Nb Indécis | AB1: (J+1)/2 | AC1: (J-1)/2
A2: 101 | I2: =IF(G2<>"",IF((DATE(YEAR(G2)+13,MONTH(G2),DAY(G2)))<=Date_Passage,"OK","PAS L'AGE"),"") | J2: 15 | K2: =(U2) -> N | N2: N | O2: N | P2: N | Q2: N | R2: N | S2: =IF(AND(X2>=AB2),"O",IF(AND(Y2>=AB2),"N",IF(AND(X2=AC2,Y2=AC2),"O",IF(AND(X2<=AC2,Y2<=AC2),"I")))) -> N | T2: N | U2: =IF(T2="","",T2) -> N | W2: =COUNTA(N2:R2) -> 5 | X2: =COUNTIF(N2:R2,"O") -> 0 | Y2: =COUNTIF(N2:R2,"N") -> 5 | Z2: =COUNTIF(N2:R2,"I") -> 0 | AB2: =(W2+1)/2 -> 3 | AC2: =(W2-1)/2 -> 2
A3: 102 | I3: =IF(G3<>"",IF((DATE(YEAR(G3)+13,MONTH(G3),DAY(G3)))<=Date_Passage,"OK","PAS L'AGE"),"") | K3: =(U3) -> N | N3: N | O3: N | P3: N | Q3: N | R3: N | S3: =IF(AND(X3>=AB3),"O",IF(AND(Y3>=AB3),"N",IF(AND(X3=AC3,Y3=AC3),"O",IF(AND(X3<=AC3,Y3<=AC3),"I")))) -> N | T3: N | U3: =IF(T3="","",T3) -> N | W3: =COUNTA(N3:R3) -> 5 | X3: =COUNTIF(N3:R3,"O") -> 0 | Y3: =COUNTIF(N3:R3,"N") -> 5 | Z3: =COUNTIF(N3:R3,"I") -> 0 | AB3: =(W3+1)/2 -> 3 | AC3: =(W3-1)/2 -> 2
A4: 103 | I4: =IF(G4<>"",IF((DATE(YEAR(G4)+13,MONTH(G4),DAY(G4)))<=Date_Passage,"OK","PAS L'AGE"),"") | K4: =(U4) -> N | N4: N | O4: N | P4: N | Q4: N | R4: N | S4: =IF(AND(X4>=AB4),"O",IF(AND(Y4>=AB4),"N",IF(AND(X4=AC4,Y4=AC4),"O",IF(AND(X4<=AC4,Y4<=AC4),"I")))) -> N | T4: N | U4: =IF(T4="","",T4) -> N | W4: =COUNTA(N4:R4) -> 5 | X4: =COUNTIF(N4:R4,"O") -> 0 | Y4: =COUNTIF(N4:R4,"N") -> 5 | Z4: =COUNTIF(N4:R4,"I") -> 0 | AB4: =(W4+1)/2 -> 3 | AC4: =(W4-1)/2 -> 2
A5: 104 | I5: =IF(G5<>"",IF((DATE(YEAR(G5)+13,MONTH(G5),DAY(G5)))<=Date_Passage,"OK","PAS L'AGE"),"") | K5: =(U5) -> N | N5: N | O5: N | P5: N | Q5: N | R5: N | S5: =IF(AND(X5>=AB5),"O",IF(AND(Y5>=AB5),"N",IF(AND(X5=AC5,Y5=AC5),"O",IF(AND(X5<=AC5,Y5<=AC5),"I")))) -> N | T5: N | U5: =IF(T5="","",T5) -> N | W5: =COUNTA(N5:R5) -> 5 | X5: =COUNTIF(N5:R5,"O") -> 0 | Y5: =COUNTIF(N5:R5,"N") -> 5 | Z5: =COUNTIF(N5:R5,"I") -> 0 | AB5: =(W5+1)/2 -> 3 | AC5: =(W5-1)/2 -> 2
A6: 105 | I6: =IF(G6<>"",IF((DATE(YEAR(G6)+13,MONTH(G6),DAY(G6)))<=Date_Passage,"OK","PAS L'AGE"),"") | K6: =(U6) -> N | N6: N | O6: N | P6: N | Q6: N | R6: N | S6: =IF(AND(X6>=AB6),"O",IF(AND(Y6>=AB6),"N",IF(AND(X6=AC6,Y6=AC6),"O",IF(AND(X6<=AC6,Y6<=AC6),"I")))) -> N | T6: N | U6: =IF(T6="","",T6) -> N | W6: =COUNTA(N6:R6) -> 5 | X6: =COUNTIF(N6:R6,"O") -> 0 | Y6: =COUNTIF(N6:R6,"N") -> 5 | Z6: =COUNTIF(N6:R6,"I") -> 0 | AB6: =(W6+1)/2 -> 3 | AC6: =(W6-1)/2 -> 2
A7: 106 | I7: =IF(G7<>"",IF((DATE(YEAR(G7)+13,MONTH(G7),DAY(G7)))<=Date_Passage,"OK","PAS L'AGE"),"") | K7: =(U7) -> N | N7: N | O7: N | P7: N | Q7: N | R7: N | S7: =IF(AND(X7>=AB7),"O",IF(AND(Y7>=AB7),"N",IF(AND(X7=AC7,Y7=AC7),"O",IF(AND(X7<=AC7,Y7<=AC7),"I")))) -> N | T7: N | U7: =IF(T7="","",T7) -> N | W7: =COUNTA(N7:R7) -> 5 | X7: =COUNTIF(N7:R7,"O") -> 0 | Y7: =COUNTIF(N7:R7,"N") -> 5 | Z7: =COUNTIF(N7:R7,"I") -> 0 | AB7: =(W7+1)/2 -> 3 | AC7: =(W7-1)/2 -> 2
A8: 107 | I8: =IF(G8<>"",IF((DATE(YEAR(G8)+13,MONTH(G8),DAY(G8)))<=Date_Passage,"OK","PAS L'AGE"),"") | K8: =(U8) -> N | N8: N | O8: N | P8: N | Q8: N | R8: N | S8: =IF(AND(X8>=AB8),"O",IF(AND(Y8>=AB8),"N",IF(AND(X8=AC8,Y8=AC8),"O",IF(AND(X8<=AC8,Y8<=AC8),"I")))) -> N | T8: N | U8: =IF(T8="","",T8) -> N | W8: =COUNTA(N8:R8) -> 5 | X8: =COUNTIF(N8:R8,"O") -> 0 | Y8: =COUNTIF(N8:R8,"N") -> 5 | Z8: =COUNTIF(N8:R8,"I") -> 0 | AB8: =(W8+1)/2 -> 3 | AC8: =(W8-1)/2 -> 2
A9: 108 | I9: =IF(G9<>"",IF((DATE(YEAR(G9)+13,MONTH(G9),DAY(G9)))<=Date_Passage,"OK","PAS L'AGE"),"") | K9: =(U9) -> N | N9: N | O9: N | P9: N | Q9: N | R9: N | S9: =IF(AND(X9>=AB9),"O",IF(AND(Y9>=AB9),"N",IF(AND(X9=AC9,Y9=AC9),"O",IF(AND(X9<=AC9,Y9<=AC9),"I")))) -> N | T9: N | U9: =IF(T9="","",T9) -> N | W9: =COUNTA(N9:R9) -> 5 | X9: =COUNTIF(N9:R9,"O") -> 0 | Y9: =COUNTIF(N9:R9,"N") -> 5 | Z9: =COUNTIF(N9:R9,"I") -> 0 | AB9: =(W9+1)/2 -> 3 | AC9: =(W9-1)/2 -> 2
A10: 109 | I10: =IF(G10<>"",IF((DATE(YEAR(G10)+13,MONTH(G10),DAY(G10)))<=Date_Passage,"OK","PAS L'AGE"),"") | K10: =(U10) -> N | N10: N | O10: N | P10: N | Q10: N | R10: N | S10: =IF(AND(X10>=AB10),"O",IF(AND(Y10>=AB10),"N",IF(AND(X10=AC10,Y10=AC10),"O",IF(AND(X10<=AC10,Y10<=AC10),"I")))) -> N | T10: N | U10: =IF(T10="","",T10) -> N | W10: =COUNTA(N10:R10) -> 5 | X10: =COUNTIF(N10:R10,"O") -> 0 | Y10: =COUNTIF(N10:R10,"N") -> 5 | Z10: =COUNTIF(N10:R10,"I") -> 0 | AB10: =(W10+1)/2 -> 3 | AC10: =(W10-1)/2 -> 2
A11: 110 | I11: =IF(G11<>"",IF((DATE(YEAR(G11)+13,MONTH(G11),DAY(G11)))<=Date_Passage,"OK","PAS L'AGE"),"") | K11: =(U11) -> N | N11: N | O11: N | P11: N | Q11: N | R11: N | S11: =IF(AND(X11>=AB11),"O",IF(AND(Y11>=AB11),"N",IF(AND(X11=AC11,Y11=AC11),"O",IF(AND(X11<=AC11,Y11<=AC11),"I")))) -> N | T11: N | U11: =IF(T11="","",T11) -> N | W11: =COUNTA(N11:R11) -> 5 | X11: =COUNTIF(N11:R11,"O") -> 0 | Y11: =COUNTIF(N11:R11,"N") -> 5 | Z11: =COUNTIF(N11:R11,"I") -> 0 | AB11: =(W11+1)/2 -> 3 | AC11: =(W11-1)/2 -> 2
A12: 111 | I12: =IF(G12<>"",IF((DATE(YEAR(G12)+13,MONTH(G12),DAY(G12)))<=Date_Passage,"OK","PAS L'AGE"),"") | K12: =(U12) -> N | N12: N | O12: N | P12: N | Q12: N | R12: N | S12: =IF(AND(X12>=AB12),"O",IF(AND(Y12>=AB12),"N",IF(AND(X12=AC12,Y12=AC12),"O",IF(AND(X12<=AC12,Y12<=AC12),"I")))) -> N | T12: N | U12: =IF(T12="","",T12) -> N | W12: =COUNTA(N12:R12) -> 5 | X12: =COUNTIF(N12:R12,"O") -> 0 | Y12: =COUNTIF(N12:R12,"N") -> 5 | Z12: =COUNTIF(N12:R12,"I") -> 0 | AB12: =(W12+1)/2 -> 3 | AC12: =(W12-1)/2 -> 2
A13: 112 | I13: =IF(G13<>"",IF((DATE(YEAR(G13)+13,MONTH(G13),DAY(G13)))<=Date_Passage,"OK","PAS L'AGE"),"") | K13: =(U13) -> N | N13: N | O13: N | P13: N | Q13: N | R13: N | S13: =IF(AND(X13>=AB13),"O",IF(AND(Y13>=AB13),"N",IF(AND(X13=AC13,Y13=AC13),"O",IF(AND(X13<=AC13,Y13<=AC13),"I")))) -> N | T13: N | U13: =IF(T13="","",T13) -> N | W13: =COUNTA(N13:R13) -> 5 | X13: =COUNTIF(N13:R13,"O") -> 0 | Y13: =COUNTIF(N13:R13,"N") -> 5 | Z13: =COUNTIF(N13:R13,"I") -> 0 | AB13: =(W13+1)/2 -> 3 | AC13: =(W13-1)/2 -> 2
A14: 113 | I14: =IF(G14<>"",IF((DATE(YEAR(G14)+13,MONTH(G14),DAY(G14)))<=Date_Passage,"OK","PAS L'AGE"),"") | K14: =(U14) -> N | N14: N | O14: N | P14: N | Q14: N | R14: N | S14: =IF(AND(X14>=AB14),"O",IF(AND(Y14>=AB14),"N",IF(AND(X14=AC14,Y14=AC14),"O",IF(AND(X14<=AC14,Y14<=AC14),"I")))) -> N | T14: N | U14: =IF(T14="","",T14) -> N | W14: =COUNTA(N14:R14) -> 5 | X14: =COUNTIF(N14:R14,"O") -> 0 | Y14: =COUNTIF(N14:R14,"N") -> 5 | Z14: =COUNTIF(N14:R14,"I") -> 0 | AB14: =(W14+1)/2 -> 3 | AC14: =(W14-1)/2 -> 2
... A51: 150 | I51: =IF(G51<>"",IF((DATE(YEAR(G51)+13,MONTH(G51),DAY(G51)))<=Date_Passage,"OK","PAS L'AGE"),"") | K51: =(U51) -> N | N51: N | O51: N | P51: N | Q51: N | R51: N | S51: =IF(AND(X51>=AB51),"O",IF(AND(Y51>=AB51),"N",IF(AND(X51=AC51,Y51=AC51),"O",IF(AND(X51<=AC51,Y51<=AC51),"I")))) -> N | T51: N | U51: =IF(T51="","",T51) -> N | W51: =COUNTA(N51:R51) -> 5 | X51: =COUNTIF(N51:R51,"O") -> 0 | Y51: =COUNTIF(N51:R51,"N") -> 5 | Z51: =COUNTIF(N51:R51,"I") -> 0 | AB51: =(W51+1)/2 -> 3 | AC51: =(W51-1)/2 -> 2
I52: =IF(G52<>"",IF((DATE(YEAR(G52)+13,MONTH(G52),DAY(G52)))<=Date_Passage,"OK","PAS L'AGE"),"") | J52: =SUM(J2:J51) -> 15 | K52: =COUNTIF(K2:K51,"O") -> 0 | L52: =SUM(L2:L51) -> 0

Sheet Fiche jury 1D
A7: PASSAGE DE GRADES DU : | E7: =IF(Bilan!B2="","",Bilan!B2) | H7: - | I7: =IF(Bilan!D2="","",Bilan!D2)
A9: Nom du Juré :
A11: N° | B11: Age | C11: Kirigaeshi | D11: Keiko 1 | E11: Keiko 2 | F11: Décision 1 | G11: Kata | H11: Décision 2 | I11: Observations
A12: 101 | B12: =IF('1er DAN '!G2="","",INT((TODAY()-'1er DAN '!G2)/365))
A13: 102 | B13: =IF('1er DAN '!G3="","",INT((TODAY()-'1er DAN '!G3)/365))
A14: 103 | B14: =IF('1er DAN '!G4="","",INT((TODAY()-'1er DAN '!G4)/365))
A15: 104 | B15: =IF('1er DAN '!G5="","",INT((TODAY()-'1er DAN '!G5)/365))
A16: 105 | B16: =IF('1er DAN '!G6="","",INT((TODAY()-'1er DAN '!G6)/365))
A17: 106 | B17: =IF('1er DAN '!G7="","",INT((TODAY()-'1er DAN '!G7)/365))
A18: 107 | B18: =IF('1er DAN '!G8="","",INT((TODAY()-'1er DAN '!G8)/365))
A19: 108 | B19: =IF('1er DAN '!G9="","",INT((TODAY()-'1er DAN '!G9)/365))
A20: 109 | B20: =IF('1er DAN '!G10="","",INT((TODAY()-'1er DAN '!G10)/365))
A21: 110 | B21: =IF('1er DAN '!G11="","",INT((TODAY()-'1er DAN '!G11)/365))
A22: 111 | B22: =IF('1er DAN '!G12="","",INT((TODAY()-'1er DAN '!G12)/365))
A23: 112 | B23: =IF('1er DAN '!G13="","",INT((TODAY()-'1er DAN '!G13)/365))
... A41: 130 | B41: =IF('1er DAN '!G31="","",INT((TODAY()-'1er DAN '!G31)/365))
A45: SIGNATURE
F48: CNK.FFJDA - INJ. 21,25 Avenue de la Porte de Châtillon 75680 PARIS Cedex 14

Sheet Résultat 1er DAN
A2: PASSAGE DE GRADES DU : | C2: =IF(Bilan!B2="","",Bilan!B2) | E2: =IF(Bilan!D2="","",Bilan!D2) | G2: PASSAGE DE GRADES DU : | I2: =IF(Bilan!B2="","",Bilan!B2) | K2: =IF(Bilan!D2="","",Bilan!D2)
A4: =IF('1er DAN '!K2="O",'1er DAN '!A2," ") | C4: =IF('1er DAN '!K12="O",'1er DAN '!A12," ") | E4: =IF('1er DAN '!K22="O",'1er DAN '!A22," ") | G4: =IF('1er DAN '!K32="O",'1er DAN '!A32," ") | I4: =IF('1er DAN '!K42="O",'1er DAN '!A42," ")
A5: =IF('1er DAN '!K3="O",'1er DAN '!A3," ") | C5: =IF('1er DAN '!K13="O",'1er DAN '!A13," ") | E5: =IF('1er DAN '!K23="O",'1er DAN '!A23," ") | G5: =IF('1er DAN '!K33="O",'1er DAN '!A33," ") | I5: =IF('1er DAN '!K43="O",'1er DAN '!A43," ")
A6: =IF('1er DAN '!K4="O",'1er DAN '!A4," ") | C6: =IF('1er DAN '!K14="O",'1er DAN '!A14," ") | E6: =IF('1er DAN '!K24="O",'1er DAN '!A24," ") | G6: =IF('1er DAN '!K34="O",'1er DAN '!A34," ") | I6: =IF('1er DAN '!K44="O",'1er DAN '!A44," ")
A7: =IF('1er DAN '!K5="O",'1er DAN '!A5," ") | C7: =IF('1er DAN '!K15="O",'1er DAN '!A15," ") | E7: =IF('1er DAN '!K25="O",'1er DAN '!A25," ") | G7: =IF('1er DAN '!K35="O",'1er DAN '!A35," ") | I7: =IF('1er DAN '!K45="O",'1er DAN '!A45," ")
A8: =IF('1er DAN '!K6="O",'1er DAN '!A6," ") | C8: =IF('1er DAN '!K16="O",'1er DAN '!A16," ") | E8: =IF('1er DAN '!K26="O",'1er DAN '!A26," ") | G8: =IF('1er DAN '!K36="O",'1er DAN '!A36," ") | I8: =IF('1er DAN '!K46="O",'1er DAN '!A46," ")
A9: =IF('1er DAN '!K7="O",'1er DAN '!A7," ") | C9: =IF('1er DAN '!K17="O",'1er DAN '!A17," ") | E9: =IF('1er DAN '!K27="O",'1er DAN '!A27," ") | G9: =IF('1er DAN '!K37="O",'1er DAN '!A37," ") | I9: =IF('1er DAN '!K47="O",'1er DAN '!A47," ")
A10: =IF('1er DAN '!K8="O",'1er DAN '!A8," ") | C10: =IF('1er DAN '!K18="O",'1er DAN '!A18," ") | E10: =IF('1er DAN '!K28="O",'1er DAN '!A28," ") | G10: =IF('1er DAN '!K38="O",'1er DAN '!A38," ") | I10: =IF('1er DAN '!K48="O",'1er DAN '!A48," ")
A11: =IF('1er DAN '!K9="O",'1er DAN '!A9," ") | C11: =IF('1er DAN '!K19="O",'1er DAN '!A19," ") | E11: =IF('1er DAN '!K29="O",'1er DAN '!A29," ") | G11: =IF('1er DAN '!K39="O",'1er DAN '!A39," ") | I11: =IF('1er DAN '!K49="O",'1er DAN '!A49," ")
A12: =IF('1er DAN '!K10="O",'1er DAN '!A10," ") | C12: =IF('1er DAN '!K20="O",'1er DAN '!A20," ") | E12: =IF('1er DAN '!K30="O",'1er DAN '!A30," ") | G12: =IF('1er DAN '!K40="O",'1er DAN '!A40," ") | I12: =IF('1er DAN '!K50="O",'1er DAN '!A50," ")
A13: =IF('1er DAN '!K11="O",'1er DAN '!A11," ") | C13: =IF('1er DAN '!K21="O",'1er DAN '!A21," ") | E13: =IF('1er DAN '!K31="O",'1er DAN '!A31," ") | G13: =IF('1er DAN '!K41="O",'1er DAN '!A41," ") | I13: =IF('1er DAN '!K51="O",'1er DAN '!A51," ")

Sheet 2èm DAN
A1: N° | B1: Nom | C1: Prénom | D1: Email | E1: Club | F1: Région | G1: Date de Naissance | H1: N° licence | I1: Date du grade précédent | J1: Validation de l'inscription | K1: Validation de l'inscription (à 30 jours) | L1: Délai (335 jours min.) | M1: Inscription | N1: Résultat | O1: Enreg. | Q1: Jury 1 | R1: Jury 2 | S1: Jury 3 | T1: Jury 4 | U1: Jury 5 | V1: Decision 1 | W1: Kata | X1: Decision 2 | Z1: Nb de Jury | AA1: Nb de Oui | AB1: Nb de Non | AC1: Nb Indécis | AE1: (J+1)/2 | AF1: (J-1)/2
A2: 201 | J2: =IF(I2<>"",IF(YEAR(I2)+1<YEAR(Date_Passage),"OK",IF(AND(YEAR(I2)+1=YEAR(Date_Passage),MONTH(I2)<=MONTH(Date_Passage)),"OK","PAS LES DELAIS")),"") | K2: =IF(I2<>"",IF( OR( ABS(DATEDIF(I2,Date_Passage,"d") - 365)<=30,ABS(DATEDIF(I2,Date_Passage,"d") )>=365),"OK","PAS DANS LES DELAIS"),"") | L2: =IF(I2="","", DATEDIF(I2,Date_Passage,"d")) | M2: 25 | N2: =('2èm DAN'!X2) -> N | O2: 0 | Q2: N | R2: N | S2: N | T2: N | U2: N | V2: =IF(AND(AA2>=AE2),"O",IF(AND(AB2>=AE2),"N",IF(AND(AA2=AF2,AB2=AF2),"O",IF(AND(AA2<=AF2,AB2<=AF2),"I")))) -> N | W2: N | X2: =IF(W2="","",W2) -> N | Z2: =COUNTA(Q2:U2) -> 5 | AA2: =COUNTIF(Q2:U2,"O") -> 0 | AB2: =COUNTIF(Q2:U2,"N") -> 5 | AC2: =COUNTIF(Q2:U2,"I") -> 0 | AE2: =(Z2+1)/2 -> 3 | AF2: =(Z2-1)/2 -> 2
A3: 202 | J3: =IF(I3<>"",IF(YEAR(I3)+1<YEAR(Date_Passage),"OK",IF(AND(YEAR(I3)+1=YEAR(Date_Passage),MONTH(I3)<=MONTH(Date_Passage)),"OK","PAS LES DELAIS")),"") | K3: =IF(I3<>"",IF( OR( ABS(DATEDIF(I3,Date_Passage,"d") - 365)<=30,ABS(DATEDIF(I3,Date_Passage,"d") )>=365),"OK","PAS DANS LES DELAIS"),"") | L3: =IF(I3="","", DATEDIF(I3,Date_Passage,"d")) | N3: =(X3) -> N | Q3: N | R3: N | S3: N | T3: N | U3: N | V3: =IF(AND(AA3>=AE3),"O",IF(AND(AB3>=AE3),"N",IF(AND(AA3=AF3,AB3=AF3),"O",IF(AND(AA3<=AF3,AB3<=AF3),"I")))) -> N | W3: N | X3: =IF(W3="","",W3) -> N | Z3: =COUNTA(Q3:U3) -> 5 | AA3: =COUNTIF(Q3:U3,"O") -> 0 | AB3: =COUNTIF(Q3:U3,"N") -> 5 | AC3: =COUNTIF(Q3:U3,"I") -> 0 | AE3: =(Z3+1)/2 -> 3 | AF3: =(Z3-1)/2 -> 2
A4: 203 | J4: =IF(I4<>"",IF(YEAR(I4)+1<YEAR(Date_Passage),"OK",IF(AND(YEAR(I4)+1=YEAR(Date_Passage),MONTH(I4)<=MONTH(Date_Passage)),"OK","PAS LES DELAIS")),"") | K4: =IF(I4<>"",IF( OR( ABS(DATEDIF(I4,Date_Passage,"d") - 365)<=30,ABS(DATEDIF(I4,Date_Passage,"d") )>=365),"OK","PAS DANS LES DELAIS"),"") | L4: =IF(I4="","", DATEDIF(I4,Date_Passage,"d")) | N4: =(X4) -> N | Q4: N | R4: N | S4: N | T4: N | U4: N | V4: =IF(AND(AA4>=AE4),"O",IF(AND(AB4>=AE4),"N",IF(AND(AA4=AF4,AB4=AF4),"O",IF(AND(AA4<=AF4,AB4<=AF4),"I")))) -> N | W4: N | X4: =IF(W4="","",W4) -> N | Z4: =COUNTA(Q4:U4) -> 5 | AA4: =COUNTIF(Q4:U4,"O") -> 0 | AB4: =COUNTIF(Q4:U4,"N") -> 5 | AC4: =COUNTIF(Q4:U4,"I") -> 0 | AE4: =(Z4+1)/2 -> 3 | AF4: =(Z4-1)/2 -> 2
A5: 204 | J5: =IF(I5<>"",IF(YEAR(I5)+1<YEAR(Date_Passage),"OK",IF(AND(YEAR(I5)+1=YEAR(Date_Passage),MONTH(I5)<=MONTH(Date_Passage)),"OK","PAS LES DELAIS")),"") | K5: =IF(I5<>"",IF( OR( ABS(DATEDIF(I5,Date_Passage,"d") - 365)<=30,ABS(DATEDIF(I5,Date_Passage,"d") )>=365),"OK","PAS DANS LES DELAIS"),"") | L5: =IF(I5="","", DATEDIF(I5,Date_Passage,"d")) | N5: =(X5) -> N | Q5: N | R5: N | S5: N | T5: N | U5: N | V5: =IF(AND(AA5>=AE5),"O",IF(AND(AB5>=AE5),"N",IF(AND(AA5=AF5,AB5=AF5),"O",IF(AND(AA5<=AF5,AB5<=AF5),"I")))) -> N | W5: N | X5: =IF(W5="","",W5) -> N | Z5: =COUNTA(Q5:U5) -> 5 | AA5: =COUNTIF(Q5:U5,"O") -> 0 | AB5: =COUNTIF(Q5:U5,"N") -> 5 | AC5: =COUNTIF(Q5:U5,"I") -> 0 | AE5: =(Z5+1)/2 -> 3 | AF5: =(Z5-1)/2 -> 2
A6: 205 | J6: =IF(I6<>"",IF(YEAR(I6)+1<YEAR(Date_Passage),"OK",IF(AND(YEAR(I6)+1=YEAR(Date_Passage),MONTH(I6)<=MONTH(Date_Passage)),"OK","PAS LES DELAIS")),"") | K6: =IF(I6<>"",IF( OR( ABS(DATEDIF(I6,Date_Passage,"d") - 365)<=30,ABS(DATEDIF(I6,Date_Passage,"d") )>=365),"OK","PAS DANS LES DELAIS"),"") | L6: =IF(I6="","", DATEDIF(I6,Date_Passage,"d")) | N6: =(X6) -> N | Q6: N | R6: N | S6: N | T6: N | U6: N | V6: =IF(AND(AA6>=AE6),"O",IF(AND(AB6>=AE6),"N",IF(AND(AA6=AF6,AB6=AF6),"O",IF(AND(AA6<=AF6,AB6<=AF6),"I")))) -> N | W6: N | X6: =IF(W6="","",W6) -> N | Z6: =COUNTA(Q6:U6) -> 5 | AA6: =COUNTIF(Q6:U6,"O") -> 0 | AB6: =COUNTIF(Q6:U6,"N") -> 5 | AC6: =COUNTIF(Q6:U6,"I") -> 0 | AE6: =(Z6+1)/2 -> 3 | AF6: =(Z6-1)/2 -> 2
A7: 206 | J7: =IF(I7<>"",IF(YEAR(I7)+1<YEAR(Date_Passage),"OK",IF(AND(YEAR(I7)+1=YEAR(Date_Passage),MONTH(I7)<=MONTH(Date_Passage)),"OK","PAS LES DELAIS")),"") | K7: =IF(I7<>"",IF( OR( ABS(DATEDIF(I7,Date_Passage,"d") - 365)<=30,ABS(DATEDIF(I7,Date_Passage,"d") )>=365),"OK","PAS DANS LES DELAIS"),"") | L7: =IF(I7="","", DATEDIF(I7,Date_Passage,"d")) | N7: =(X7) -> N | Q7: N | R7: N | S7: N | T7: N | U7: N | V7: =IF(AND(AA7>=AE7),"O",IF(AND(AB7>=AE7),"N",IF(AND(AA7=AF7,AB7=AF7),"O",IF(AND(AA7<=AF7,AB7<=AF7),"I")))) -> N | W7: N | X7: =IF(W7="","",W7) -> N | Z7: =COUNTA(Q7:U7) -> 5 | AA7: =COUNTIF(Q7:U7,"O") -> 0 | AB7: =COUNTIF(Q7:U7,"N") -> 5 | AC7: =COUNTIF(Q7:U7,"I") -> 0 | AE7: =(Z7+1)/2 -> 3 | AF7: =(Z7-1)/2 -> 2
A8: 207 | J8: =IF(I8<>"",IF(YEAR(I8)+1<YEAR(Date_Passage),"OK",IF(AND(YEAR(I8)+1=YEAR(Date_Passage),MONTH(I8)<=MONTH(Date_Passage)),"OK","PAS LES DELAIS")),"") | K8: =IF(I8<>"",IF( OR( ABS(DATEDIF(I8,Date_Passage,"d") - 365)<=30,ABS(DATEDIF(I8,Date_Passage,"d") )>=365),"OK","PAS DANS LES DELAIS"),"") | L8: =IF(I8="","", DATEDIF(I8,Date_Passage,"d")) | N8: =(X8) -> N | Q8: N | R8: N | S8: N | T8: N | U8: N | V8: =IF(AND(AA8>=AE8),"O",IF(AND(AB8>=AE8),"N",IF(AND(AA8=AF8,AB8=AF8),"O",IF(AND(AA8<=AF8,AB8<=AF8),"I")))) -> N | W8: N | X8: =IF(W8="","",W8) -> N | Z8: =COUNTA(Q8:U8) -> 5 | AA8: =COUNTIF(Q8:U8,"O") -> 0 | AB8: =COUNTIF(Q8:U8,"N") -> 5 | AC8: =COUNTIF(Q8:U8,"I") -> 0 | AE8: =(Z8+1)/2 -> 3 | AF8: =(Z8-1)/2 -> 2
A9: 208 | J9: =IF(I9<>"",IF(YEAR(I9)+1<YEAR(Date_Passage),"OK",IF(AND(YEAR(I9)+1=YEAR(Date_Passage),MONTH(I9)<=MONTH(Date_Passage)),"OK","PAS LES DELAIS")),"") | K9: =IF(I9<>"",IF( OR( ABS(DATEDIF(I9,Date_Passage,"d") - 365)<=30,ABS(DATEDIF(I9,Date_Passage,"d") )>=365),"OK","PAS DANS LES DELAIS"),"") | L9: =IF(I9="","", DATEDIF(I9,Date_Passage,"d")) | N9: =(X9) -> N | Q9: N | R9: N | S9: N | T9: N | U9: N | V9: =IF(AND(AA9>=AE9),"O",IF(AND(AB9>=AE9),"N",IF(AND(AA9=AF9,AB9=AF9),"O",IF(AND(AA9<=AF9,AB9<=AF9),"I")))) -> N | W9: N | X9: =IF(W9="","",W9) -> N | Z9: =COUNTA(Q9:U9) -> 5 | AA9: =COUNTIF(Q9:U9,"O") -> 0 | AB9: =COUNTIF(Q9:U9,"N") -> 5 | AC9: =COUNTIF(Q9:U9,"I") -> 0 | AE9: =(Z9+1)/2 -> 3 | AF9: =(Z9-1)/2 -> 2
A10: 209 | J10: =IF(I10<>"",IF(YEAR(I10)+1<YEAR(Date_Passage),"OK",IF(AND(YEAR(I10)+1=YEAR(Date_Passage),MONTH(I10)<=MONTH(Date_Passage)),"OK","PAS LES DELAIS")),"") | K10: =IF(I10<>"",IF( OR( ABS(DATEDIF(I10,Date_Passage,"d") - 365)<=30,ABS(DATEDIF(I10,Date_Passage,"d") )>=365),"OK","PAS DANS LES DELAIS"),"") | L10: =IF(I10="","", DATEDIF(I10,Date_Passage,"d")) | N10: =(X10) -> N | Q10: N | R10: N | S10: N | T10: N | U10: N | V10: =IF(AND(AA10>=AE10),"O",IF(AND(AB10>=AE10),"N",IF(AND(AA10=AF10,AB10=AF10),"O",IF(AND(AA10<=AF10,AB10<=AF10),"I")))) -> N | W10: N | X10: =IF(W10="","",W10) -> N | Z10: =COUNTA(Q10:U10) -> 5 | AA10: =COUNTIF(Q10:U10,"O") -> 0 | AB10: =COUNTIF(Q10:U10,"N") -> 5 | AC10: =COUNTIF(Q10:U10,"I") -> 0 | AE10: =(Z10+1)/2 -> 3 | AF10: =(Z10-1)/2 -> 2
A11: 210 | J11: =IF(I11<>"",IF(YEAR(I11)+1<YEAR(Date_Passage),"OK",IF(AND(YEAR(I11)+1=YEAR(Date_Passage),MONTH(I11)<=MONTH(Date_Passage)),"OK","PAS LES DELAIS")),"") | K11: =IF(I11<>"",IF( OR( ABS(DATEDIF(I11,Date_Passage,"d") - 365)<=30,ABS(DATEDIF(I11,Date_Passage,"d") )>=365),"OK","PAS DANS LES DELAIS"),"") | L11: =IF(I11="","", DATEDIF(I11,Date_Passage,"d")) | N11: =(X11) -> N | Q11: N | R11: N | S11: N | T11: N | U11: N | V11: =IF(AND(AA11>=AE11),"O",IF(AND(AB11>=AE11),"N",IF(AND(AA11=AF11,AB11=AF11),"O",IF(AND(AA11<=AF11,AB11<=AF11),"I")))) -> N | W11: N | X11: =IF(W11="","",W11) -> N | Z11: =COUNTA(Q11:U11) -> 5 | AA11: =COUNTIF(Q11:U11,"O") -> 0 | AB11: =COUNTIF(Q11:U11,"N") -> 5 | AC11: =COUNTIF(Q11:U11,"I") -> 0 | AE11: =(Z11+1)/2 -> 3 | AF11: =(Z11-1)/2 -> 2
A12: 211 | J12: =IF(I12<>"",IF(YEAR(I12)+1<YEAR(Date_Passage),"OK",IF(AND(YEAR(I12)+1=YEAR(Date_Passage),MONTH(I12)<=MONTH(Date_Passage)),"OK","PAS LES DELAIS")),"") | K12: =IF(I12<>"",IF( OR( ABS(DATEDIF(I12,Date_Passage,"d") - 365)<=30,ABS(DATEDIF(I12,Date_Passage,"d") )>=365),"OK","PAS DANS LES DELAIS"),"") | L12: =IF(I12="","", DATEDIF(I12,Date_Passage,"d")) | N12: =(X12) -> N | Q12: N | R12: N | S12: N | T12: N | U12: N | V12: =IF(AND(AA12>=AE12),"O",IF(AND(AB12>=AE12),"N",IF(AND(AA12=AF12,AB12=AF12),"O",IF(AND(AA12<=AF12,AB12<=AF12),"I")))) -> N | W12: N | X12: =IF(W12="","",W12) -> N | Z12: =COUNTA(Q12:U12) -> 5 | AA12: =COUNTIF(Q12:U12,"O") -> 0 | AB12: =COUNTIF(Q12:U12,"N") -> 5 | AC12: =COUNTIF(Q12:U12,"I") -> 0 | AE12: =(Z12+1)/2 -> 3 | AF12: =(Z12-1)/2 -> 2
A13: 212 | J13: =IF(I13<>"",IF(YEAR(I13)+1<YEAR(Date_Passage),"OK",IF(AND(YEAR(I13)+1=YEAR(Date_Passage),MONTH(I13)<=MONTH(Date_Passage)),"OK","PAS LES DELAIS")),"") | K13: =IF(I13<>"",IF( OR( ABS(DATEDIF(I13,Date_Passage,"d") - 365)<=30,ABS(DATEDIF(I13,Date_Passage,"d") )>=365),"OK","PAS DANS LES DELAIS"),"") | L13: =IF(I13="","", DATEDIF(I13,Date_Passage,"d")) | N13: =(X13) -> N | Q13: N | R13: N | S13: N | T13: N | U13: N | V13: =IF(AND(AA13>=AE13),"O",IF(AND(AB13>=AE13),"N",IF(AND(AA13=AF13,AB13=AF13),"O",IF(AND(AA13<=AF13,AB13<=AF13),"I")))) -> N | W13: N | X13: =IF(W13="","",W13) -> N | Z13: =COUNTA(Q13:U13) -> 5 | AA13: =COUNTIF(Q13:U13,"O") -> 0 | AB13: =COUNTIF(Q13:U13,"N") -> 5 | AC13: =COUNTIF(Q13:U13,"I") -> 0 | AE13: =(Z13+1)/2 -> 3 | AF13: =(Z13-1)/2 -> 2
A14: 213 | J14: =IF(I14<>"",IF(YEAR(I14)+1<YEAR(Date_Passage),"OK",IF(AND(YEAR(I14)+1=YEAR(Date_Passage),MONTH(I14)<=MONTH(Date_Passage)),"OK","PAS LES DELAIS")),"") | K14: =IF(I14<>"",IF( OR( ABS(DATEDIF(I14,Date_Passage,"d") - 365)<=30,ABS(DATEDIF(I14,Date_Passage,"d") )>=365),"OK","PAS DANS LES DELAIS"),"") | L14: =IF(I14="","", DATEDIF(I14,Date_Passage,"d")) | N14: =(X14) -> N | Q14: N | R14: N | S14: N | T14: N | U14: N | V14: =IF(AND(AA14>=AE14),"O",IF(AND(AB14>=AE14),"N",IF(AND(AA14=AF14,AB14=AF14),"O",IF(AND(AA14<=AF14,AB14<=AF14),"I")))) -> N | W14: N | X14: =IF(W14="","",W14) -> N | Z14: =COUNTA(Q14:U14) -> 5 | AA14: =COUNTIF(Q14:U14,"O") -> 0 | AB14: =COUNTIF(Q14:U14,"N") -> 5 | AC14: =COUNTIF(Q14:U14,"I") -> 0 | AE14: =(Z14+1)/2 -> 3 | AF14: =(Z14-1)/2 -> 2
... A51: 250 | J51: =IF(I51<>"",IF(YEAR(I51)+1<YEAR(Date_Passage),"OK",IF(AND(YEAR(I51)+1=YEAR(Date_Passage),MONTH(I51)<=MONTH(Date_Passage)),"OK","PAS LES DELAIS")),"") | K51: =IF(I51<>"",IF( OR( ABS(DATEDIF(I51,Date_Passage,"d") - 365)<=30,ABS(DATEDIF(I51,Date_Passage,"d") )>=365),"OK","PAS DANS LES DELAIS"),"") | L51: =IF(I51="","", DATEDIF(I51,Date_Passage,"d")) | N51: =(X51) -> N | Q51: N | R51: N | S51: N | T51: N | U51: N | V51: =IF(AND(AA51>=AE51),"O",IF(AND(AB51>=AE51),"N",IF(AND(AA51=AF51,AB51=AF51),"O",IF(AND(AA51<=AF51,AB51<=AF51),"I")))) -> N | W51: N | X51: =IF(W51="","",W51) -> N | Z51: =COUNTA(Q51:U51) -> 5 | AA51: =COUNTIF(Q51:U51,"O") -> 0 | AB51: =COUNTIF(Q51:U51,"N") -> 5 | AC51: =COUNTIF(Q51:U51,"I") -> 0 | AE51: =(Z51+1)/2 -> 3 | AF51: =(Z51-1)/2 -> 2
M52: =SUM(M2:M51) -> 25 | N52: =COUNTIF(N2:N51,"O") -> 0 | O52: =SUM(O2:O51) -> 0

Sheet Fiche jury 2D
A7: PASSAGE DE GRADES DU : | E7: =IF(Bilan!B2="","",Bilan!B2) | H7: - | I7: =IF(Bilan!D2="","",Bilan!D2)
A9: Nom du Juré :
A11: N° | B11: Age | C11: Kirigaeshi | D11: Keiko 1 | E11: Keiko 2 | F11: Décision 1 | G11: Kata | H11: Décision 2 | I11: Observations
A12: 201 | B12: =IF('2èm DAN'!G2="","",INT((TODAY()-'2èm DAN'!G2)/365))
A13: 202 | B13: =IF('2èm DAN'!G3="","",INT((TODAY()-'2èm DAN'!G3)/365))
A14: 203 | B14: =IF('2èm DAN'!G4="","",INT((TODAY()-'2èm DAN'!G4)/365))
A15: 204 | B15: =IF('2èm DAN'!G5="","",INT((TODAY()-'2èm DAN'!G5)/365))
A16: 205 | B16: =IF('2èm DAN'!G6="","",INT((TODAY()-'2èm DAN'!G6)/365))
A17: 206 | B17: =IF('2èm DAN'!G7="","",INT((TODAY()-'2èm DAN'!G7)/365))
A18: 207 | B18: =IF('2èm DAN'!G8="","",INT((TODAY()-'2èm DAN'!G8)/365))
A19: 208 | B19: =IF('2èm DAN'!G9="","",INT((TODAY()-'2èm DAN'!G9)/365))
A20: 209 | B20: =IF('2èm DAN'!G10="","",INT((TODAY()-'2èm DAN'!G10)/365))
A21: 210 | B21: =IF('2èm DAN'!G11="","",INT((TODAY()-'2èm DAN'!G11)/365))
A22: 211 | B22: =IF('2èm DAN'!G12="","",INT((TODAY()-'2èm DAN'!G12)/365))
A23: 212 | B23: =IF('2èm DAN'!G13="","",INT((TODAY()-'2èm DAN'!G13)/365))
... A41: 230 | B41: =IF('2èm DAN'!G31="","",INT((TODAY()-'2èm DAN'!G31)/365))
A45: SIGNATURE
F48: CNK.FFJDA - INJ. 21,25 Avenue de la Porte de Châtillon 75680 PARIS Cedex 14

Sheet Résultat 2èm DAN
A2: PASSAGE DE GRADES DU : | C2: =IF(Bilan!B2="","",Bilan!B2) | E2: =IF(Bilan!D2="","",Bilan!D2) | G2: PASSAGE DE GRADES DU : | I2: =IF(Bilan!B2="","",Bilan!B2) | J2: =IF(Bilan!D2="","",Bilan!D2)
A4: =IF('2èm DAN'!N2="O",'2èm DAN'!A2," ") | C4: =IF('2èm DAN'!N12="O",'2èm DAN'!A12," ") | E4: =IF('2èm DAN'!N22="O",'2èm DAN'!A22," ") | G4: =IF('2èm DAN'!N32="O",'2èm DAN'!A32," ") | I4: =IF('2èm DAN'!N42="O",'2èm DAN'!A42," ")
A5: =IF('2èm DAN'!N3="O",'2èm DAN'!A3," ") | C5: =IF('2èm DAN'!N13="O",'2èm DAN'!A13," ") | E5: =IF('2èm DAN'!N23="O",'2èm DAN'!A23," ") | G5: =IF('2èm DAN'!N33="O",'2èm DAN'!A33," ") | I5: =IF('2èm DAN'!N43="O",'2èm DAN'!A43," ")
A6: =IF('2èm DAN'!N4="O",'2èm DAN'!A4," ") | C6: =IF('2èm DAN'!N14="O",'2èm DAN'!A14," ") | E6: =IF('2èm DAN'!N24="O",'2èm DAN'!A24," ") | G6: =IF('2èm DAN'!N34="O",'2èm DAN'!A34," ") | I6: =IF('2èm DAN'!N44="O",'2èm DAN'!A44," ")
A7: =IF('2èm DAN'!N5="O",'2èm DAN'!A5," ") | C7: =IF('2èm DAN'!N15="O",'2èm DAN'!A15," ") | E7: =IF('2èm DAN'!N25="O",'2èm DAN'!A25," ") | G7: =IF('2èm DAN'!N35="O",'2èm DAN'!A35," ") | I7: =IF('2èm DAN'!N45="O",'2èm DAN'!A45," ")
A8: =IF('2èm DAN'!N6="O",'2èm DAN'!A6," ") | C8: =IF('2èm DAN'!N16="O",'2èm DAN'!A16," ") | E8: =IF('2èm DAN'!N26="O",'2èm DAN'!A26," ") | G8: =IF('2èm DAN'!N36="O",'2èm DAN'!A36," ") | I8: =IF('2èm DAN'!N46="O",'2èm DAN'!A46," ")
A9: =IF('2èm DAN'!N7="O",'2èm DAN'!A7," ") | C9: =IF('2èm DAN'!N17="O",'2èm DAN'!A17," ") | E9: =IF('2èm DAN'!N27="O",'2èm DAN'!A27," ") | G9: =IF('2èm DAN'!N37="O",'2èm DAN'!A37," ") | I9: =IF('2èm DAN'!N47="O",'2èm DAN'!A47," ")
A10: =IF('2èm DAN'!N8="O",'2èm DAN'!A8," ") | C10: =IF('2èm DAN'!N18="O",'2èm DAN'!A18," ") | E10: =IF('2èm DAN'!N28="O",'2èm DAN'!A28," ") | G10: =IF('2èm DAN'!N38="O",'2èm DAN'!A38," ") | I10: =IF('2èm DAN'!N48="O",'2èm DAN'!A48," ")
A11: =IF('2èm DAN'!N9="O",'2èm DAN'!A9," ") | C11: =IF('2èm DAN'!N19="O",'2èm DAN'!A19," ") | E11: =IF('2èm DAN'!N29="O",'2èm DAN'!A29," ") | G11: =IF('2èm DAN'!N39="O",'2èm DAN'!A39," ") | I11: =IF('2èm DAN'!N49="O",'2èm DAN'!A49," ")
A12: =IF('2èm DAN'!N10="O",'2èm DAN'!A10," ") | C12: =IF('2èm DAN'!N20="O",'2èm DAN'!A20," ") | E12: =IF('2èm DAN'!N30="O",'2èm DAN'!A30," ") | G12: =IF('2èm DAN'!N40="O",'2èm DAN'!A40," ") | I12: =IF('2èm DAN'!N50="O",'2èm DAN'!A50," ")
A13: =IF('2èm DAN'!N11="O",'2èm DAN'!A11," ") | C13: =IF('2èm DAN'!N21="O",'2èm DAN'!A21," ") | E13: =IF('2èm DAN'!N31="O",'2èm DAN'!A31," ") | G13: =IF('2èm DAN'!N41="O",'2èm DAN'!A41," ") | I13: =IF('2èm DAN'!N51="O",'2èm DAN'!A51," ")

Sheet 3èm DAN
A1: N° | B1: Nom | C1: Prénom | D1: Email | E1: Club | F1: Région | G1: Date de Naissance | H1: N° licence | I1: Date du grade précédent | J1: Validation de l'inscription | K1: Validation de l'inscription (à 30 jours) | L1: Délai (700 jours min.) | M1: Inscription | N1: Résultat | O1: Enreg. | Q1: Jury 1 | R1: Jury 2 | S1: Jury 3 | T1: Jury 4 | U1: Jury 5 | V1: Decision 1 | W1: Kata | X1: Decision 2 | Z1: Nb de Jury | AA1: Nb de Oui | AB1: Nb de Non | AC1: Nb Indécis | AE1: (J+1)/2 | AF1: (J-1)/2
A2: 301 | J2: =IF(I2<>"",IF(YEAR(I2)+2<YEAR(Date_Passage),"OK",IF(AND(YEAR(I2)+2=YEAR(Date_Passage),MONTH(I2)<=MONTH(Date_Passage)),"OK","PAS LES DELAIS")),"") | K2: =IF(I2<>"",IF( OR( ABS(DATEDIF(I2,Date_Passage,"d") - 730)<=30,ABS(DATEDIF(I2,Date_Passage,"d") )>=730),"OK","PAS DANS LES DELAIS"),"") | L2: =IF(I2="","", DATEDIF(I2,Date_Passage,"d")) | M2: 35 | N2: =('3èm DAN'!X2) -> N | O2: 0 | Q2: N | R2: N | S2: N | T2: N | U2: N | V2: =IF(AND(AA2>=AE2),"O",IF(AND(AB2>=AE2),"N",IF(AND(AA2=AF2,AB2=AF2),"O",IF(AND(AA2<=AF2,AB2<=AF2),"I",IF(AND(AA2=AB2),"N"))))) -> N | W2: N | X2: =IF(W2="","",W2) -> N | Z2: =COUNTA(Q2:U2) -> 5 | AA2: =COUNTIF(Q2:U2,"O") -> 0 | AB2: =COUNTIF(Q2:U2,"N") -> 5 | AC2: =COUNTIF(Q2:U2,"I") -> 0 | AE2: =(Z2+1)/2 -> 3 | AF2: =(Z2-1)/2 -> 2
A3: 302 | J3: =IF(I3<>"",IF(YEAR(I3)+2<YEAR(Date_Passage),"OK",IF(AND(YEAR(I3)+2=YEAR(Date_Passage),MONTH(I3)<=MONTH(Date_Passage)),"OK","PAS LES DELAIS")),"") | K3: =IF(I3<>"",IF( OR( ABS(DATEDIF(I3,Date_Passage,"d") - 730)<=30,ABS(DATEDIF(I3,Date_Passage,"d") )>=730),"OK","PAS DANS LES DELAIS"),"") | L3: =IF(I3="","", DATEDIF(I3,Date_Passage,"d")) | N3: =('3èm DAN'!X3) -> N | Q3: N | R3: N | S3: N | T3: N | U3: N | V3: =IF(AND(AA3>=AE3),"O",IF(AND(AB3>=AE3),"N",IF(AND(AA3=AF3,AB3=AF3),"O",IF(AND(AA3<=AF3,AB3<=AF3),"I",IF(AND(AA3=AB3),"N"))))) -> N | W3: N | X3: =IF(W3="","",W3) -> N | Z3: =COUNTA(Q3:U3) -> 5 | AA3: =COUNTIF(Q3:U3,"O") -> 0 | AB3: =COUNTIF(Q3:U3,"N") -> 5 | AC3: =COUNTIF(Q3:U3,"I") -> 0 | AE3: =(Z3+1)/2 -> 3 | AF3: =(Z3-1)/2 -> 2
A4: 303 | J4: =IF(I4<>"",IF(YEAR(I4)+2<YEAR(Date_Passage),"OK",IF(AND(YEAR(I4)+2=YEAR(Date_Passage),MONTH(I4)<=MONTH(Date_Passage)),"OK","PAS LES DELAIS")),"") | K4: =IF(I4<>"",IF( OR( ABS(DATEDIF(I4,Date_Passage,"d") - 730)<=30,ABS(DATEDIF(I4,Date_Passage,"d") )>=730),"OK","PAS DANS LES DELAIS"),"") | L4: =IF(I4="","", DATEDIF(I4,Date_Passage,"d")) | N4: =('3èm DAN'!X4) -> N | Q4: N | R4: N | S4: N | T4: N | U4: N | V4: =IF(AND(AA4>=AE4),"O",IF(AND(AB4>=AE4),"N",IF(AND(AA4=AF4,AB4=AF4),"O",IF(AND(AA4<=AF4,AB4<=AF4),"I",IF(AND(AA4=AB4),"N"))))) -> N | W4: N | X4: =IF(W4="","",W4) -> N | Z4: =COUNTA(Q4:U4) -> 5 | AA4: =COUNTIF(Q4:U4,"O") -> 0 | AB4: =COUNTIF(Q4:U4,"N") -> 5 | AC4: =COUNTIF(Q4:U4,"I") -> 0 | AE4: =(Z4+1)/2 -> 3 | AF4: =(Z4-1)/2 -> 2
A5: 304 | J5: =IF(I5<>"",IF(YEAR(I5)+2<YEAR(Date_Passage),"OK",IF(AND(YEAR(I5)+2=YEAR(Date_Passage),MONTH(I5)<=MONTH(Date_Passage)),"OK","PAS LES DELAIS")),"") | K5: =IF(I5<>"",IF( OR( ABS(DATEDIF(I5,Date_Passage,"d") - 730)<=30,ABS(DATEDIF(I5,Date_Passage,"d") )>=730),"OK","PAS DANS LES DELAIS"),"") | L5: =IF(I5="","", DATEDIF(I5,Date_Passage,"d")) | N5: =('3èm DAN'!X5) -> N | Q5: N | R5: N | S5: N | T5: N | U5: N | V5: =IF(AND(AA5>=AE5),"O",IF(AND(AB5>=AE5),"N",IF(AND(AA5=AF5,AB5=AF5),"O",IF(AND(AA5<=AF5,AB5<=AF5),"I",IF(AND(AA5=AB5),"N"))))) -> N | W5: N | X5: =IF(W5="","",W5) -> N | Z5: =COUNTA(Q5:U5) -> 5 | AA5: =COUNTIF(Q5:U5,"O") -> 0 | AB5: =COUNTIF(Q5:U5,"N") -> 5 | AC5: =COUNTIF(Q5:U5,"I") -> 0 | AE5: =(Z5+1)/2 -> 3 | AF5: =(Z5-1)/2 -> 2
A6: 305 | J6: =IF(I6<>"",IF(YEAR(I6)+2<YEAR(Date_Passage),"OK",IF(AND(YEAR(I6)+2=YEAR(Date_Passage),MONTH(I6)<=MONTH(Date_Passage)),"OK","PAS LES DELAIS")),"") | K6: =IF(I6<>"",IF( OR( ABS(DATEDIF(I6,Date_Passage,"d") - 730)<=30,ABS(DATEDIF(I6,Date_Passage,"d") )>=730),"OK","PAS DANS LES DELAIS"),"") | L6: =IF(I6="","", DATEDIF(I6,Date_Passage,"d")) | N6: =('3èm DAN'!X6) -> N | Q6: N | R6: N | S6: N | T6: N | U6: N | V6: =IF(AND(AA6>=AE6),"O",IF(AND(AB6>=AE6),"N",IF(AND(AA6=AF6,AB6=AF6),"O",IF(AND(AA6<=AF6,AB6<=AF6),"I",IF(AND(AA6=AB6),"N"))))) -> N | W6: N | X6: =IF(W6="","",W6) -> N | Z6: =COUNTA(Q6:U6) -> 5 | AA6: =COUNTIF(Q6:U6,"O") -> 0 | AB6: =COUNTIF(Q6:U6,"N") -> 5 | AC6: =COUNTIF(Q6:U6,"I") -> 0 | AE6: =(Z6+1)/2 -> 3 | AF6: =(Z6-1)/2 -> 2
A7: 306 | J7: =IF(I7<>"",IF(YEAR(I7)+2<YEAR(Date_Passage),"OK",IF(AND(YEAR(I7)+2=YEAR(Date_Passage),MONTH(I7)<=MONTH(Date_Passage)),"OK","PAS LES DELAIS")),"") | K7: =IF(I7<>"",IF( OR( ABS(DATEDIF(I7,Date_Passage,"d") - 730)<=30,ABS(DATEDIF(I7,Date_Passage,"d") )>=730),"OK","PAS DANS LES DELAIS"),"") | L7: =IF(I7="","", DATEDIF(I7,Date_Passage,"d")) | N7: =('3èm DAN'!X7) -> N | Q7: N | R7: N | S7: N | T7: N | U7: N | V7: =IF(AND(AA7>=AE7),"O",IF(AND(AB7>=AE7),"N",IF(AND(AA7=AF7,AB7=AF7),"O",IF(AND(AA7<=AF7,AB7<=AF7),"I",IF(AND(AA7=AB7),"N"))))) -> N | W7: N | X7: =IF(W7="","",W7) -> N | Z7: =COUNTA(Q7:U7) -> 5 | AA7: =COUNTIF(Q7:U7,"O") -> 0 | AB7: =COUNTIF(Q7:U7,"N") -> 5 | AC7: =COUNTIF(Q7:U7,"I") -> 0 | AE7: =(Z7+1)/2 -> 3 | AF7: =(Z7-1)/2 -> 2
A8: 307 | J8: =IF(I8<>"",IF(YEAR(I8)+2<YEAR(Date_Passage),"OK",IF(AND(YEAR(I8)+2=YEAR(Date_Passage),MONTH(I8)<=MONTH(Date_Passage)),"OK","PAS LES DELAIS")),"") | K8: =IF(I8<>"",IF( OR( ABS(DATEDIF(I8,Date_Passage,"d") - 730)<=30,ABS(DATEDIF(I8,Date_Passage,"d") )>=730),"OK","PAS DANS LES DELAIS"),"") | L8: =IF(I8="","", DATEDIF(I8,Date_Passage,"d")) | N8: =('3èm DAN'!X8) -> N | Q8: N | R8: N | S8: N | T8: N | U8: N | V8: =IF(AND(AA8>=AE8),"O",IF(AND(AB8>=AE8),"N",IF(AND(AA8=AF8,AB8=AF8),"O",IF(AND(AA8<=AF8,AB8<=AF8),"I",IF(AND(AA8=AB8),"N"))))) -> N | W8: N | X8: =IF(W8="","",W8) -> N | Z8: =COUNTA(Q8:U8) -> 5 | AA8: =COUNTIF(Q8:U8,"O") -> 0 | AB8: =COUNTIF(Q8:U8,"N") -> 5 | AC8: =COUNTIF(Q8:U8,"I") -> 0 | AE8: =(Z8+1)/2 -> 3 | AF8: =(Z8-1)/2 -> 2
A9: 308 | J9: =IF(I9<>"",IF(YEAR(I9)+2<YEAR(Date_Passage),"OK",IF(AND(YEAR(I9)+2=YEAR(Date_Passage),MONTH(I9)<=MONTH(Date_Passage)),"OK","PAS LES DELAIS")),"") | K9: =IF(I9<>"",IF( OR( ABS(DATEDIF(I9,Date_Passage,"d") - 730)<=30,ABS(DATEDIF(I9,Date_Passage,"d") )>=730),"OK","PAS DANS LES DELAIS"),"") | L9: =IF(I9="","", DATEDIF(I9,Date_Passage,"d")) | N9: =('3èm DAN'!X9) -> N | Q9: N | R9: N | S9: N | T9: N | U9: N | V9: =IF(AND(AA9>=AE9),"O",IF(AND(AB9>=AE9),"N",IF(AND(AA9=AF9,AB9=AF9),"O",IF(AND(AA9<=AF9,AB9<=AF9),"I",IF(AND(AA9=AB9),"N"))))) -> N | W9: N | X9: =IF(W9="","",W9) -> N | Z9: =COUNTA(Q9:U9) -> 5 | AA9: =COUNTIF(Q9:U9,"O") -> 0 | AB9: =COUNTIF(Q9:U9,"N") -> 5 | AC9: =COUNTIF(Q9:U9,"I") -> 0 | AE9: =(Z9+1)/2 -> 3 | AF9: =(Z9-1)/2 -> 2
A10: 309 | J10: =IF(I10<>"",IF(YEAR(I10)+2<YEAR(Date_Passage),"OK",IF(AND(YEAR(I10)+2=YEAR(Date_Passage),MONTH(I10)<=MONTH(Date_Passage)),"OK","PAS LES DELAIS")),"") | K10: =IF(I10<>"",IF( OR( ABS(DATEDIF(I10,Date_Passage,"d") - 730)<=30,ABS(DATEDIF(I10,Date_Passage,"d") )>=730),"OK","PAS DANS LES DELAIS"),"") | L10: =IF(I10="","", DATEDIF(I10,Date_Passage,"d")) | N10: =('3èm DAN'!X10) -> N | Q10: N | R10: N | S10: N | T10: N | U10: N | V10: =IF(AND(AA10>=AE10),"O",IF(AND(AB10>=AE10),"N",IF(AND(AA10=AF10,AB10=AF10),"O",IF(AND(AA10<=AF10,AB10<=AF10),"I",IF(AND(AA10=AB10),"N"))))) -> N | W10: N | X10: =IF(W10="","",W10) -> N | Z10: =COUNTA(Q10:U10) -> 5 | AA10: =COUNTIF(Q10:U10,"O") -> 0 | AB10: =COUNTIF(Q10:U10,"N") -> 5 | AC10: =COUNTIF(Q10:U10,"I") -> 0 | AE10: =(Z10+1)/2 -> 3 | AF10: =(Z10-1)/2 -> 2
A11: 310 | J11: =IF(I11<>"",IF(YEAR(I11)+2<YEAR(Date_Passage),"OK",IF(AND(YEAR(I11)+2=YEAR(Date_Passage),MONTH(I11)<=MONTH(Date_Passage)),"OK","PAS LES DELAIS")),"") | K11: =IF(I11<>"",IF( OR( ABS(DATEDIF(I11,Date_Passage,"d") - 730)<=30,ABS(DATEDIF(I11,Date_Passage,"d") )>=730),"OK","PAS DANS LES DELAIS"),"") | L11: =IF(I11="","", DATEDIF(I11,Date_Passage,"d")) | N11: =('3èm DAN'!X11) -> N | Q11: N | R11: N | S11: N | T11: N | U11: N | V11: =IF(AND(AA11>=AE11),"O",IF(AND(AB11>=AE11),"N",IF(AND(AA11=AF11,AB11=AF11),"O",IF(AND(AA11<=AF11,AB11<=AF11),"I",IF(AND(AA11=AB11),"N"))))) -> N | W11: N | X11: =IF(W11="","",W11) -> N | Z11: =COUNTA(Q11:U11) -> 5 | AA11: =COUNTIF(Q11:U11,"O") -> 0 | AB11: =COUNTIF(Q11:U11,"N") -> 5 | AC11: =COUNTIF(Q11:U11,"I") -> 0 | AE11: =(Z11+1)/2 -> 3 | AF11: =(Z11-1)/2 -> 2
A12: 311 | J12: =IF(I12<>"",IF(YEAR(I12)+2<YEAR(Date_Passage),"OK",IF(AND(YEAR(I12)+2=YEAR(Date_Passage),MONTH(I12)<=MONTH(Date_Passage)),"OK","PAS LES DELAIS")),"") | K12: =IF(I12<>"",IF( OR( ABS(DATEDIF(I12,Date_Passage,"d") - 730)<=30,ABS(DATEDIF(I12,Date_Passage,"d") )>=730),"OK","PAS DANS LES DELAIS"),"") | L12: =IF(I12="","", DATEDIF(I12,Date_Passage,"d")) | N12: =('3èm DAN'!X12) -> N | Q12: N | R12: N | S12: N | T12: N | U12: N | V12: =IF(AND(AA12>=AE12),"O",IF(AND(AB12>=AE12),"N",IF(AND(AA12=AF12,AB12=AF12),"O",IF(AND(AA12<=AF12,AB12<=AF12),"I",IF(AND(AA12=AB12),"N"))))) -> N | W12: N | X12: =IF(W12="","",W12) -> N | Z12: =COUNTA(Q12:U12) -> 5 | AA12: =COUNTIF(Q12:U12,"O") -> 0 | AB12: =COUNTIF(Q12:U12,"N") -> 5 | AC12: =COUNTIF(Q12:U12,"I") -> 0 | AE12: =(Z12+1)/2 -> 3 | AF12: =(Z12-1)/2 -> 2
A13: 312 | J13: =IF(I13<>"",IF(YEAR(I13)+2<YEAR(Date_Passage),"OK",IF(AND(YEAR(I13)+2=YEAR(Date_Passage),MONTH(I13)<=MONTH(Date_Passage)),"OK","PAS LES DELAIS")),"") | K13: =IF(I13<>"",IF( OR( ABS(DATEDIF(I13,Date_Passage,"d") - 730)<=30,ABS(DATEDIF(I13,Date_Passage,"d") )>=730),"OK","PAS DANS LES DELAIS"),"") | L13: =IF(I13="","", DATEDIF(I13,Date_Passage,"d")) | N13: =('3èm DAN'!X13) -> N | Q13: N | R13: N | S13: N | T13: N | U13: N | V13: =IF(AND(AA13>=AE13),"O",IF(AND(AB13>=AE13),"N",IF(AND(AA13=AF13,AB13=AF13),"O",IF(AND(AA13<=AF13,AB13<=AF13),"I",IF(AND(AA13=AB13),"N"))))) -> N | W13: N | X13: =IF(W13="","",W13) -> N | Z13: =COUNTA(Q13:U13) -> 5 | AA13: =COUNTIF(Q13:U13,"O") -> 0 | AB13: =COUNTIF(Q13:U13,"N") -> 5 | AC13: =COUNTIF(Q13:U13,"I") -> 0 | AE13: =(Z13+1)/2 -> 3 | AF13: =(Z13-1)/2 -> 2
A14: 313 | J14: =IF(I14<>"",IF(YEAR(I14)+2<YEAR(Date_Passage),"OK",IF(AND(YEAR(I14)+2=YEAR(Date_Passage),MONTH(I14)<=MONTH(Date_Passage)),"OK","PAS LES DELAIS")),"") | K14: =IF(I14<>"",IF( OR( ABS(DATEDIF(I14,Date_Passage,"d") - 730)<=30,ABS(DATEDIF(I14,Date_Passage,"d") )>=730),"OK","PAS DANS LES DELAIS"),"") | L14: =IF(I14="","", DATEDIF(I14,Date_Passage,"d")) | N14: =('3èm DAN'!X14) -> N | Q14: N | R14: N | S14: N | T14: N | U14: N | V14: =IF(AND(AA14>=AE14),"O",IF(AND(AB14>=AE14),"N",IF(AND(AA14=AF14,AB14=AF14),"O",IF(AND(AA14<=AF14,AB14<=AF14),"I",IF(AND(AA14=AB14),"N"))))) -> N | W14: N | X14: =IF(W14="","",W14) -> N | Z14: =COUNTA(Q14:U14) -> 5 | AA14: =COUNTIF(Q14:U14,"O") -> 0 | AB14: =COUNTIF(Q14:U14,"N") -> 5 | AC14: =COUNTIF(Q14:U14,"I") -> 0 | AE14: =(Z14+1)/2 -> 3 | AF14: =(Z14-1)/2 -> 2
... A51: 350 | J51: =IF(I51<>"",IF(YEAR(I51)+2<YEAR(Date_Passage),"OK",IF(AND(YEAR(I51)+2=YEAR(Date_Passage),MONTH(I51)<=MONTH(Date_Passage)),"OK","PAS LES DELAIS")),"") | K51: =IF(I51<>"",IF( OR( ABS(DATEDIF(I51,Date_Passage,"d") - 730)<=30,ABS(DATEDIF(I51,Date_Passage,"d") )>=730),"OK","PAS DANS LES DELAIS"),"") | L51: =IF(I51="","", DATEDIF(I51,Date_Passage,"d")) | N51: =('3èm DAN'!X51) -> N | Q51: N | R51: N | S51: N | T51: N | U51: N | V51: =IF(AND(AA51>=AE51),"O",IF(AND(AB51>=AE51),"N",IF(AND(AA51=AF51,AB51=AF51),"O",IF(AND(AA51<=AF51,AB51<=AF51),"I",IF(AND(AA51=AB51),"N"))))) -> N | W51: N | X51: =IF(W51="","",W51) -> N | Z51: =COUNTA(Q51:U51) -> 5 | AA51: =COUNTIF(Q51:U51,"O") -> 0 | AB51: =COUNTIF(Q51:U51,"N") -> 5 | AC51: =COUNTIF(Q51:U51,"I") -> 0 | AE51: =(Z51+1)/2 -> 3 | AF51: =(Z51-1)/2 -> 2
K52: =IF(I52<>"",IF( OR( ABS(DATEDIF(I52,Date_Passage,"d") - 730)<=30,ABS(DATEDIF(I52,Date_Passage,"d") )>=730),"OK","PAS DANS LES DELAIS"),"") | L52: =IF(I52="","", DATEDIF(I52,Date_Passage,"d")) | M52: =SUM(M2:M51) -> 35 | N52: =COUNTIF(N2:N51,"O") -> 0 | O52: =SUM(O2:O51) -> 0

Sheet Fiche jury 3D
A7: PASSAGE DE GRADES DU : | E7: =IF(Bilan!B2="","",Bilan!B2) | H7: - | I7: =IF(Bilan!D2="","",Bilan!D2)
A9: Nom du Juré :
A11: N° | B11: Age | C11: Kirigaeshi | D11: Keiko 1 | E11: Keiko 2 | F11: Décision 1 | G11: Kata | H11: Décision 2 | I11: Observations
A12: 301 | B12: =IF('3èm DAN'!G2="","",INT((TODAY()-'3èm DAN'!G2)/365))
A13: 302 | B13: =IF('3èm DAN'!G3="","",INT((TODAY()-'3èm DAN'!G3)/365))
A14: 303 | B14: =IF('3èm DAN'!G4="","",INT((TODAY()-'3èm DAN'!G4)/365))
A15: 304 | B15: =IF('3èm DAN'!G5="","",INT((TODAY()-'3èm DAN'!G5)/365))
A16: 305 | B16: =IF('3èm DAN'!G6="","",INT((TODAY()-'3èm DAN'!G6)/365))
A17: 306 | B17: =IF('3èm DAN'!G7="","",INT((TODAY()-'3èm DAN'!G7)/365))
A18: 307 | B18: =IF('3èm DAN'!G8="","",INT((TODAY()-'3èm DAN'!G8)/365))
A19: 308 | B19: =IF('3èm DAN'!G9="","",INT((TODAY()-'3èm DAN'!G9)/365))
A20: 309 | B20: =IF('3èm DAN'!G10="","",INT((TODAY()-'3èm DAN'!G10)/365))
A21: 310 | B21: =IF('3èm DAN'!G11="","",INT((TODAY()-'3èm DAN'!G11)/365))
A22: 311 | B22: =IF('3èm DAN'!G12="","",INT((TODAY()-'3èm DAN'!G12)/365))
A23: 312 | B23: =IF('3èm DAN'!G13="","",INT((TODAY()-'3èm DAN'!G13)/365))
... A41: 330 | B41: =IF('3èm DAN'!G31="","",INT((TODAY()-'3èm DAN'!G31)/365))
A45: SIGNATURE
F48: CNK.FFJDA - INJ. 21,25 Avenue de la Porte de Châtillon 75680 PARIS Cedex 14

Sheet Résultat 3èm D
A2: PASSAGE DE GRADES DU : | C2: =IF(Bilan!B2="","",Bilan!B2) | E2: =IF(Bilan!D2="","",Bilan!D2) | G2: PASSAGE DE GRADES DU : | I2: =IF(Bilan!B2="","",Bilan!B2) | K2: =IF(Bilan!D2="","",Bilan!D2)
A4: =IF('3èm DAN'!N2="O",'3èm DAN'!A2," ") | C4: =IF('3èm DAN'!N12="O",'3èm DAN'!A12," ") | E4: =IF('3èm DAN'!N22="O",'3èm DAN'!A22," ") | G4: =IF('3èm DAN'!N32="O",'3èm DAN'!A32," ") | I4: =IF('3èm DAN'!N42="O",'3èm DAN'!A42," ")
A5: =IF('3èm DAN'!N3="O",'3èm DAN'!A3," ") | C5: =IF('3èm DAN'!N13="O",'3èm DAN'!A13," ") | E5: =IF('3èm DAN'!N23="O",'3èm DAN'!A23," ") | G5: =IF('3èm DAN'!N33="O",'3èm DAN'!A33," ") | I5: =IF('3èm DAN'!N43="O",'3èm DAN'!A43," ")
A6: =IF('3èm DAN'!N4="O",'3èm DAN'!A4," ") | C6: =IF('3èm DAN'!N14="O",'3èm DAN'!A14," ") | E6: =IF('3èm DAN'!N24="O",'3èm DAN'!A24," ") | G6: =IF('3èm DAN'!N34="O",'3èm DAN'!A34," ") | I6: =IF('3èm DAN'!N44="O",'3èm DAN'!A44," ")
A7: =IF('3èm DAN'!N5="O",'3èm DAN'!A5," ") | C7: =IF('3èm DAN'!N15="O",'3èm DAN'!A15," ") | E7: =IF('3èm DAN'!N25="O",'3èm DAN'!A25," ") | G7: =IF('3èm DAN'!N35="O",'3èm DAN'!A35," ") | I7: =IF('3èm DAN'!N45="O",'3èm DAN'!A45," ")
A8: =IF('3èm DAN'!N6="O",'3èm DAN'!A6," ") | C8: =IF('3èm DAN'!N16="O",'3èm DAN'!A16," ") | E8: =IF('3èm DAN'!N26="O",'3èm DAN'!A26," ") | G8: =IF('3èm DAN'!N36="O",'3èm DAN'!A36," ") | I8: =IF('3èm DAN'!N46="O",'3èm DAN'!A46," ")
A9: =IF('3èm DAN'!N7="O",'3èm DAN'!A7," ") | C9: =IF('3èm DAN'!N17="O",'3èm DAN'!A17," ") | E9: =IF('3èm DAN'!N27="O",'3èm DAN'!A27," ") | G9: =IF('3èm DAN'!N37="O",'3èm DAN'!A37," ") | I9: =IF('3èm DAN'!N47="O",'3èm DAN'!A47," ")
A10: =IF('3èm DAN'!N8="O",'3èm DAN'!A8," ") | C10: =IF('3èm DAN'!N18="O",'3èm DAN'!A18," ") | E10: =IF('3èm DAN'!N28="O",'3èm DAN'!A28," ") | G10: =IF('3èm DAN'!N38="O",'3èm DAN'!A38," ") | I10: =IF('3èm DAN'!N48="O",'3èm DAN'!A48," ")
A11: =IF('3èm DAN'!N9="O",'3èm DAN'!A9," ") | C11: =IF('3èm DAN'!N19="O",'3èm DAN'!A19," ") | E11: =IF('3èm DAN'!N29="O",'3èm DAN'!A29," ") | G11: =IF('3èm DAN'!N39="O",'3èm DAN'!A39," ") | I11: =IF('3èm DAN'!N49="O",'3èm DAN'!A49," ")
A12: =IF('3èm DAN'!N10="O",'3èm DAN'!A10," ") | C12: =IF('3èm DAN'!N20="O",'3èm DAN'!A20," ") | E12: =IF('3èm DAN'!N30="O",'3èm DAN'!A30," ") | G12: =IF('3èm DAN'!N40="O",'3èm DAN'!A40," ") | I12: =IF('3èm DAN'!N50="O",'3èm DAN'!A50," ")
A13: =IF('3èm DAN'!N11="O",'3èm DAN'!A11," ") | C13: =IF('3èm DAN'!N21="O",'3èm DAN'!A21," ") | E13: =IF('3èm DAN'!N31="O",'3èm DAN'!A31," ") | G13: =IF('3èm DAN'!N41="O",'3èm DAN'!A41," ") | I13: =IF('3èm DAN'!N51="O",'3èm DAN'!A51," ")

Sheet 4èm DAN
A1: N° | B1: Nom | C1: Prénom | D1: Email | E1: Club | F1: Région | G1: Date de Naissance | H1: N° licence | I1: Date du grade précédent | J1: Validation de l'inscription | K1: Validation de l'inscription (à 30 jours) | L1: Délai | M1: Inscription | N1: Résultat | O1: Enreg. | Q1: Jury 1 | R1: Jury 2 | S1: Jury 3 | T1: Jury 4 | U1: Jury 5 | V1: Jury 6 | W1: Decision 1 | X1: Kata | Y1: Decision 2 | AA1: Nb de Jury | AB1: Nb de Oui | AC1: Nb de Non | AD1: Nb Indécis | AF1: (J+1)/2 | AG1: (J-1)/2
A2: 401 | J2: =IF(I2<>"",IF(YEAR(I2)+3<YEAR(Date_Passage),"OK",IF(AND(YEAR(I2)+3=YEAR(Date_Passage),MONTH(I2)<=MONTH(Date_Passage)),"OK","PAS LES DELAIS")),"") | K2: =IF(I2<>"",IF( OR( ABS(DATEDIF(I2,Date_Passage,"d") - 1095)<=30,ABS(DATEDIF(I2,Date_Passage,"d") )>=1095),"OK","PAS DANS LES DELAIS"),"") | L2: =IF(I2="","", DATEDIF(I2,Date_Passage,"d")) | M2: 45 | N2: =(Y2) -> N | O2: 0 | Q2: N | R2: N | S2: N | T2: N | U2: N | V2: N | W2: =IF(AND(AB2>=4),"O",IF(AND(AC2>=3),"N",IF(AND(AB2=3,AC2=2),"O",IF(AND(AB2<=4,AC2<=3),"I")))) -> N | X2: N | Y2: =IF(X2="","",X2) -> N | AA2: =COUNTA(Q2:V2) -> 6 | AB2: =COUNTIF(Q2:V2,"O") -> 0 | AC2: =COUNTIF(Q2:V2,"N") -> 6 | AD2: =COUNTIF(Q2:V2,"I") -> 0 | AF2: =(AA2+1)/2 -> 3.5 | AG2: =(AA2-1)/2 -> 2.5
A3: 402 | J3: =IF(I3<>"",IF(YEAR(I3)+3<YEAR(Date_Passage),"OK",IF(AND(YEAR(I3)+3=YEAR(Date_Passage),MONTH(I3)<=MONTH(Date_Passage)),"OK","PAS LES DELAIS")),"") | K3: =IF(I3<>"",IF( OR( ABS(DATEDIF(I3,Date_Passage,"d") - 1095)<=30,ABS(DATEDIF(I3,Date_Passage,"d") )>=1095),"OK","PAS DANS LES DELAIS"),"") | L3: =IF(I3="","", DATEDIF(I3,Date_Passage,"d")) | N3: =(Y3) -> N | Q3: N | R3: N | S3: N | T3: N | U3: N | V3: N | W3: =IF(AND(AB3>=4),"O",IF(AND(AC3>=3),"N",IF(AND(AB3=3,AC3=2),"O",IF(AND(AB3<=4,AC3<=3),"I")))) -> N | X3: N | Y3: =IF(X3="","",X3) -> N | AA3: =COUNTA(Q3:V3) -> 6 | AB3: =COUNTIF(Q3:V3,"O") -> 0 | AC3: =COUNTIF(Q3:V3,"N") -> 6 | AD3: =COUNTIF(Q3:V3,"I") -> 0 | AF3: =(AA3+1)/2 -> 3.5 | AG3: =(AA3-1)/2 -> 2.5
A4: 403 | J4: =IF(I4<>"",IF(YEAR(I4)+3<YEAR(Date_Passage),"OK",IF(AND(YEAR(I4)+3=YEAR(Date_Passage),MONTH(I4)<=MONTH(Date_Passage)),"OK","PAS LES DELAIS")),"") | K4: =IF(I4<>"",IF( OR( ABS(DATEDIF(I4,Date_Passage,"d") - 1095)<=30,ABS(DATEDIF(I4,Date_Passage,"d") )>=1095),"OK","PAS DANS LES DELAIS"),"") | L4: =IF(I4="","", DATEDIF(I4,Date_Passage,"d")) | N4: =(Y4) -> N | Q4: N | R4: N | S4: N | T4: N | U4: N | V4: N | W4: =IF(AND(AB4>=4),"O",IF(AND(AC4>=3),"N",IF(AND(AB4=3,AC4=2),"O",IF(AND(AB4<=4,AC4<=3),"I")))) -> N | X4: N | Y4: =IF(X4="","",X4) -> N | AA4: =COUNTA(Q4:V4) -> 6 | AB4: =COUNTIF(Q4:V4,"O") -> 0 | AC4: =COUNTIF(Q4:V4,"N") -> 6 | AD4: =COUNTIF(Q4:V4,"I") -> 0 | AF4: =(AA4+1)/2 -> 3.5 | AG4: =(AA4-1)/2 -> 2.5
A5: 404 | J5: =IF(I5<>"",IF(YEAR(I5)+3<YEAR(Date_Passage),"OK",IF(AND(YEAR(I5)+3=YEAR(Date_Passage),MONTH(I5)<=MONTH(Date_Passage)),"OK","PAS LES DELAIS")),"") | K5: =IF(I5<>"",IF( OR( ABS(DATEDIF(I5,Date_Passage,"d") - 1095)<=30,ABS(DATEDIF(I5,Date_Passage,"d") )>=1095),"OK","PAS DANS LES DELAIS"),"") | L5: =IF(I5="","", DATEDIF(I5,Date_Passage,"d")) | N5: =(Y5) -> N | Q5: N | R5: N | S5: N | T5: N | U5: N | V5: N | W5: =IF(AND(AB5>=4),"O",IF(AND(AC5>=3),"N",IF(AND(AB5=3,AC5=2),"O",IF(AND(AB5<=4,AC5<=3),"I")))) -> N | X5: N | Y5: =IF(X5="","",X5) -> N | AA5: =COUNTA(Q5:V5) -> 6 | AB5: =COUNTIF(Q5:V5,"O") -> 0 | AC5: =COUNTIF(Q5:V5,"N") -> 6 | AD5: =COUNTIF(Q5:V5,"I") -> 0 | AF5: =(AA5+1)/2 -> 3.5 | AG5: =(AA5-1)/2 -> 2.5
A6: 405 | J6: =IF(I6<>"",IF(YEAR(I6)+3<YEAR(Date_Passage),"OK",IF(AND(YEAR(I6)+3=YEAR(Date_Passage),MONTH(I6)<=MONTH(Date_Passage)),"OK","PAS LES DELAIS")),"") | K6: =IF(I6<>"",IF( OR( ABS(DATEDIF(I6,Date_Passage,"d") - 1095)<=30,ABS(DATEDIF(I6,Date_Passage,"d") )>=1095),"OK","PAS DANS LES DELAIS"),"") | L6: =IF(I6="","", DATEDIF(I6,Date_Passage,"d")) | N6: =(Y6) -> N | Q6: N | R6: N | S6: N | T6: N | U6: N | V6: N | W6: =IF(AND(AB6>=4),"O",IF(AND(AC6>=3),"N",IF(AND(AB6=3,AC6=2),"O",IF(AND(AB6<=4,AC6<=3),"I")))) -> N | X6: N | Y6: =IF(X6="","",X6) -> N | AA6: =COUNTA(Q6:V6) -> 6 | AB6: =COUNTIF(Q6:V6,"O") -> 0 | AC6: =COUNTIF(Q6:V6,"N") -> 6 | AD6: =COUNTIF(Q6:V6,"I") -> 0 | AF6: =(AA6+1)/2 -> 3.5 | AG6: =(AA6-1)/2 -> 2.5
A7: 406 | J7: =IF(I7<>"",IF(YEAR(I7)+3<YEAR(Date_Passage),"OK",IF(AND(YEAR(I7)+3=YEAR(Date_Passage),MONTH(I7)<=MONTH(Date_Passage)),"OK","PAS LES DELAIS")),"") | K7: =IF(I7<>"",IF( OR( ABS(DATEDIF(I7,Date_Passage,"d") - 1095)<=30,ABS(DATEDIF(I7,Date_Passage,"d") )>=1095),"OK","PAS DANS LES DELAIS"),"") | L7: =IF(I7="","", DATEDIF(I7,Date_Passage,"d")) | N7: =(Y7) -> N | Q7: N | R7: N | S7: N | T7: N | U7: N | V7: N | W7: =IF(AND(AB7>=4),"O",IF(AND(AC7>=3),"N",IF(AND(AB7=3,AC7=2),"O",IF(AND(AB7<=4,AC7<=3),"I")))) -> N | X7: N | Y7: =IF(X7="","",X7) -> N | AA7: =COUNTA(Q7:V7) -> 6 | AB7: =COUNTIF(Q7:V7,"O") -> 0 | AC7: =COUNTIF(Q7:V7,"N") -> 6 | AD7: =COUNTIF(Q7:V7,"I") -> 0 | AF7: =(AA7+1)/2 -> 3.5 | AG7: =(AA7-1)/2 -> 2.5
A8: 407 | J8: =IF(I8<>"",IF(YEAR(I8)+3<YEAR(Date_Passage),"OK",IF(AND(YEAR(I8)+3=YEAR(Date_Passage),MONTH(I8)<=MONTH(Date_Passage)),"OK","PAS LES DELAIS")),"") | K8: =IF(I8<>"",IF( OR( ABS(DATEDIF(I8,Date_Passage,"d") - 1095)<=30,ABS(DATEDIF(I8,Date_Passage,"d") )>=1095),"OK","PAS DANS LES DELAIS"),"") | L8: =IF(I8="","", DATEDIF(I8,Date_Passage,"d")) | N8: =(Y8) -> N | Q8: N | R8: N | S8: N | T8: N | U8: N | V8: N | W8: =IF(AND(AB8>=4),"O",IF(AND(AC8>=3),"N",IF(AND(AB8=3,AC8=2),"O",IF(AND(AB8<=4,AC8<=3),"I")))) -> N | X8: N | Y8: =IF(X8="","",X8) -> N | AA8: =COUNTA(Q8:V8) -> 6 | AB8: =COUNTIF(Q8:V8,"O") -> 0 | AC8: =COUNTIF(Q8:V8,"N") -> 6 | AD8: =COUNTIF(Q8:V8,"I") -> 0 | AF8: =(AA8+1)/2 -> 3.5 | AG8: =(AA8-1)/2 -> 2.5
A9: 408 | J9: =IF(I9<>"",IF(YEAR(I9)+3<YEAR(Date_Passage),"OK",IF(AND(YEAR(I9)+3=YEAR(Date_Passage),MONTH(I9)<=MONTH(Date_Passage)),"OK","PAS LES DELAIS")),"") | K9: =IF(I9<>"",IF( OR( ABS(DATEDIF(I9,Date_Passage,"d") - 1095)<=30,ABS(DATEDIF(I9,Date_Passage,"d") )>=1095),"OK","PAS DANS LES DELAIS"),"") | L9: =IF(I9="","", DATEDIF(I9,Date_Passage,"d")) | N9: =(Y9) -> N | Q9: N | R9: N | S9: N | T9: N | U9: N | V9: N | W9: =IF(AND(AB9>=4),"O",IF(AND(AC9>=3),"N",IF(AND(AB9=3,AC9=2),"O",IF(AND(AB9<=4,AC9<=3),"I")))) -> N | X9: N | Y9: =IF(X9="","",X9) -> N | AA9: =COUNTA(Q9:V9) -> 6 | AB9: =COUNTIF(Q9:V9,"O") -> 0 | AC9: =COUNTIF(Q9:V9,"N") -> 6 | AD9: =COUNTIF(Q9:V9,"I") -> 0 | AF9: =(AA9+1)/2 -> 3.5 | AG9: =(AA9-1)/2 -> 2.5
A10: 409 | J10: =IF(I10<>"",IF(YEAR(I10)+3<YEAR(Date_Passage),"OK",IF(AND(YEAR(I10)+3=YEAR(Date_Passage),MONTH(I10)<=MONTH(Date_Passage)),"OK","PAS LES DELAIS")),"") | K10: =IF(I10<>"",IF( OR( ABS(DATEDIF(I10,Date_Passage,"d") - 1095)<=30,ABS(DATEDIF(I10,Date_Passage,"d") )>=1095),"OK","PAS DANS LES DELAIS"),"") | L10: =IF(I10="","", DATEDIF(I10,Date_Passage,"d")) | N10: =(Y10) -> N | Q10: N | R10: N | S10: N | T10: N | U10: N | V10: N | W10: =IF(AND(AB10>=4),"O",IF(AND(AC10>=3),"N",IF(AND(AB10=3,AC10=2),"O",IF(AND(AB10<=4,AC10<=3),"I")))) -> N | X10: N | Y10: =IF(X10="","",X10) -> N | AA10: =COUNTA(Q10:V10) -> 6 | AB10: =COUNTIF(Q10:V10,"O") -> 0 | AC10: =COUNTIF(Q10:V10,"N") -> 6 | AD10: =COUNTIF(Q10:V10,"I") -> 0 | AF10: =(AA10+1)/2 -> 3.5 | AG10: =(AA10-1)/2 -> 2.5
A11: 410 | J11: =IF(I11<>"",IF(YEAR(I11)+3<YEAR(Date_Passage),"OK",IF(AND(YEAR(I11)+3=YEAR(Date_Passage),MONTH(I11)<=MONTH(Date_Passage)),"OK","PAS LES DELAIS")),"") | K11: =IF(I11<>"",IF( OR( ABS(DATEDIF(I11,Date_Passage,"d") - 1095)<=30,ABS(DATEDIF(I11,Date_Passage,"d") )>=1095),"OK","PAS DANS LES DELAIS"),"") | L11: =IF(I11="","", DATEDIF(I11,Date_Passage,"d")) | N11: =(Y11) -> N | Q11: N | R11: N | S11: N | T11: N | U11: N | V11: N | W11: =IF(AND(AB11>=4),"O",IF(AND(AC11>=3),"N",IF(AND(AB11=3,AC11=2),"O",IF(AND(AB11<=4,AC11<=3),"I")))) -> N | X11: N | Y11: =IF(X11="","",X11) -> N | AA11: =COUNTA(Q11:V11) -> 6 | AB11: =COUNTIF(Q11:V11,"O") -> 0 | AC11: =COUNTIF(Q11:V11,"N") -> 6 | AD11: =COUNTIF(Q11:V11,"I") -> 0 | AF11: =(AA11+1)/2 -> 3.5 | AG11: =(AA11-1)/2 -> 2.5
A12: 411 | J12: =IF(I12<>"",IF(YEAR(I12)+3<YEAR(Date_Passage),"OK",IF(AND(YEAR(I12)+3=YEAR(Date_Passage),MONTH(I12)<=MONTH(Date_Passage)),"OK","PAS LES DELAIS")),"") | K12: =IF(I12<>"",IF( OR( ABS(DATEDIF(I12,Date_Passage,"d") - 1095)<=30,ABS(DATEDIF(I12,Date_Passage,"d") )>=1095),"OK","PAS DANS LES DELAIS"),"") | L12: =IF(I12="","", DATEDIF(I12,Date_Passage,"d")) | N12: =(Y12) -> N | Q12: N | R12: N | S12: N | T12: N | U12: N | V12: N | W12: =IF(AND(AB12>=4),"O",IF(AND(AC12>=3),"N",IF(AND(AB12=3,AC12=2),"O",IF(AND(AB12<=4,AC12<=3),"I")))) -> N | X12: N | Y12: =IF(X12="","",X12) -> N | AA12: =COUNTA(Q12:V12) -> 6 | AB12: =COUNTIF(Q12:V12,"O") -> 0 | AC12: =COUNTIF(Q12:V12,"N") -> 6 | AD12: =COUNTIF(Q12:V12,"I") -> 0 | AF12: =(AA12+1)/2 -> 3.5 | AG12: =(AA12-1)/2 -> 2.5
A13: 412 | J13: =IF(I13<>"",IF(YEAR(I13)+3<YEAR(Date_Passage),"OK",IF(AND(YEAR(I13)+3=YEAR(Date_Passage),MONTH(I13)<=MONTH(Date_Passage)),"OK","PAS LES DELAIS")),"") | K13: =IF(I13<>"",IF( OR( ABS(DATEDIF(I13,Date_Passage,"d") - 1095)<=30,ABS(DATEDIF(I13,Date_Passage,"d") )>=1095),"OK","PAS DANS LES DELAIS"),"") | L13: =IF(I13="","", DATEDIF(I13,Date_Passage,"d")) | N13: =(Y13) -> N | Q13: N | R13: N | S13: N | T13: N | U13: N | V13: N | W13: =IF(AND(AB13>=4),"O",IF(AND(AC13>=3),"N",IF(AND(AB13=3,AC13=2),"O",IF(AND(AB13<=4,AC13<=3),"I")))) -> N | X13: N | Y13: =IF(X13="","",X13) -> N | AA13: =COUNTA(Q13:V13) -> 6 | AB13: =COUNTIF(Q13:V13,"O") -> 0 | AC13: =COUNTIF(Q13:V13,"N") -> 6 | AD13: =COUNTIF(Q13:V13,"I") -> 0 | AF13: =(AA13+1)/2 -> 3.5 | AG13: =(AA13-1)/2 -> 2.5
A14: 413 | J14: =IF(I14<>"",IF(YEAR(I14)+3<YEAR(Date_Passage),"OK",IF(AND(YEAR(I14)+3=YEAR(Date_Passage),MONTH(I14)<=MONTH(Date_Passage)),"OK","PAS LES DELAIS")),"") | K14: =IF(I14<>"",IF( OR( ABS(DATEDIF(I14,Date_Passage,"d") - 1095)<=30,ABS(DATEDIF(I14,Date_Passage,"d") )>=1095),"OK","PAS DANS LES DELAIS"),"") | L14: =IF(I14="","", DATEDIF(I14,Date_Passage,"d")) | N14: =(Y14) -> N | Q14: N | R14: N | S14: N | T14: N | U14: N | V14: N | W14: =IF(AND(AB14>=4),"O",IF(AND(AC14>=3),"N",IF(AND(AB14=3,AC14=2),"O",IF(AND(AB14<=4,AC14<=3),"I")))) -> N | X14: N | Y14: =IF(X14="","",X14) -> N | AA14: =COUNTA(Q14:V14) -> 6 | AB14: =COUNTIF(Q14:V14,"O") -> 0 | AC14: =COUNTIF(Q14:V14,"N") -> 6 | AD14: =COUNTIF(Q14:V14,"I") -> 0 | AF14: =(AA14+1)/2 -> 3.5 | AG14: =(AA14-1)/2 -> 2.5
... A51: 450 | J51: =IF(I51<>"",IF(YEAR(I51)+3<YEAR(Date_Passage),"OK",IF(AND(YEAR(I51)+3=YEAR(Date_Passage),MONTH(I51)<=MONTH(Date_Passage)),"OK","PAS LES DELAIS")),"") | K51: =IF(I51<>"",IF( OR( ABS(DATEDIF(I51,Date_Passage,"d") - 1095)<=30,ABS(DATEDIF(I51,Date_Passage,"d") )>=1095),"OK","PAS DANS LES DELAIS"),"") | L51: =IF(I51="","", DATEDIF(I51,Date_Passage,"d")) | N51: =(Y51) -> N | Q51: N | R51: N | S51: N | T51: N | U51: N | V51: N | W51: =IF(AND(AB51>=4),"O",IF(AND(AC51>=3),"N",IF(AND(AB51=3,AC51=2),"O",IF(AND(AB51<=4,AC51<=3),"I")))) -> N | X51: N | Y51: =IF(X51="","",X51) -> N | AA51: =COUNTA(Q51:V51) -> 6 | AB51: =COUNTIF(Q51:V51,"O") -> 0 | AC51: =COUNTIF(Q51:V51,"N") -> 6 | AD51: =COUNTIF(Q51:V51,"I") -> 0 | AF51: =(AA51+1)/2 -> 3.5 | AG51: =(AA51-1)/2 -> 2.5
K52: =IF(I52<>"",IF( OR( ABS(DATEDIF(I52,Date_Passage,"d") - 1095)<=30,ABS(DATEDIF(I52,Date_Passage,"d") )>=1095),"OK","PAS DANS LES DELAIS"),"") | L52: =IF(I52="","", DATEDIF(I52,Date_Passage,"d")) | M52: =SUM(M2:M51) -> 45 | N52: =COUNTIF(N2:N51,"O") -> 0 | O52: =SUM(O2:O51) -> 0
K53: =IF(I53<>"",IF( OR( ABS(DATEDIF(I53,Date_Passage,"d") - 1095)<=30,ABS(DATEDIF(I53,Date_Passage,"d") )>=1095),"OK","PAS DANS LES DELAIS"),"") | L53: =IF(I53="","", DATEDIF(I53,Date_Passage,"d"))

Sheet Fiche jury 4D
A7: PASSAGE DE GRADES DU : | E7: =IF(Bilan!B2="","",Bilan!B2) | H7: - | I7: =IF(Bilan!D2="","",Bilan!D2)
A9: Nom du Juré :
A11: N° | B11: Age | C11: Kirigaeshi | D11: Keiko 1 | E11: Keiko 2 | F11: Décision 1 | G11: Kata | H11: Décision 2 | I11: Observations
A12: 401 | B12: =IF('4èm DAN'!G2="","",INT((TODAY()-'4èm DAN'!G2)/365))
A13: 402 | B13: =IF('4èm DAN'!G3="","",INT((TODAY()-'4èm DAN'!G3)/365))
A14: 403 | B14: =IF('4èm DAN'!G4="","",INT((TODAY()-'4èm DAN'!G4)/365))
A15: 404 | B15: =IF('4èm DAN'!G5="","",INT((TODAY()-'4èm DAN'!G5)/365))
A16: 405 | B16: =IF('4èm DAN'!G6="","",INT((TODAY()-'4èm DAN'!G6)/365))
A17: 406 | B17: =IF('4èm DAN'!G7="","",INT((TODAY()-'4èm DAN'!G7)/365))
A18: 407 | B18: =IF('4èm DAN'!G8="","",INT((TODAY()-'4èm DAN'!G8)/365))
A19: 408 | B19: =IF('4èm DAN'!G9="","",INT((TODAY()-'4èm DAN'!G9)/365))
A20: 409 | B20: =IF('4èm DAN'!G10="","",INT((TODAY()-'4èm DAN'!G10)/365))
A21: 410 | B21: =IF('4èm DAN'!G11="","",INT((TODAY()-'4èm DAN'!G11)/365))
A22: 411 | B22: =IF('4èm DAN'!G12="","",INT((TODAY()-'4èm DAN'!G12)/365))
A23: 412 | B23: =IF('4èm DAN'!G13="","",INT((TODAY()-'4èm DAN'!G13)/365))
... A41: 430 | B41: =IF('4èm DAN'!G31="","",INT((TODAY()-'4èm DAN'!G31)/365))
A45: SIGNATURE
F48: CNK.FFJDA - INJ. 21,25 Avenue de la Porte de Châtillon 75680 PARIS Cedex 14

Sheet Résultat 4èm DAN
A2: PASSAGE DE GRADES DU : | C2: =IF(Bilan!B2="","",Bilan!B2) | E2: =IF(Bilan!D2="","",Bilan!D2) | G2: PASSAGE DE GRADES DU : | I2: =IF(Bilan!B2="","",Bilan!B2) | K2: =IF(Bilan!D2="","",Bilan!D2)
A4: =IF('4èm DAN'!N2="O",'4èm DAN'!A2," ") | C4: =IF('4èm DAN'!N12="O",'4èm DAN'!A12," ") | E4: =IF('4èm DAN'!N22="O",'4èm DAN'!A22," ") | G4: =IF('4èm DAN'!N32="O",'4èm DAN'!A32," ") | I4: =IF('4èm DAN'!N42="O",'4èm DAN'!A42," ")
A5: =IF('4èm DAN'!N3="O",'4èm DAN'!A3," ") | C5: =IF('4èm DAN'!N13="O",'4èm DAN'!A13," ") | E5: =IF('4èm DAN'!N23="O",'4èm DAN'!A23," ") | G5: =IF('4èm DAN'!N33="O",'4èm DAN'!A33," ") | I5: =IF('4èm DAN'!N43="O",'4èm DAN'!A43," ")
A6: =IF('4èm DAN'!N4="O",'4èm DAN'!A4," ") | C6: =IF('4èm DAN'!N14="O",'4èm DAN'!A14," ") | E6: =IF('4èm DAN'!N24="O",'4èm DAN'!A24," ") | G6: =IF('4èm DAN'!N34="O",'4èm DAN'!A34," ") | I6: =IF('4èm DAN'!N44="O",'4èm DAN'!A44," ")
A7: =IF('4èm DAN'!N5="O",'4èm DAN'!A5," ") | C7: =IF('4èm DAN'!N15="O",'4èm DAN'!A15," ") | E7: =IF('4èm DAN'!N25="O",'4èm DAN'!A25," ") | G7: =IF('4èm DAN'!N35="O",'4èm DAN'!A35," ") | I7: =IF('4èm DAN'!N45="O",'4èm DAN'!A45," ")
A8: =IF('4èm DAN'!N6="O",'4èm DAN'!A6," ") | C8: =IF('4èm DAN'!N16="O",'4èm DAN'!A16," ") | E8: =IF('4èm DAN'!N26="O",'4èm DAN'!A26," ") | G8: =IF('4èm DAN'!N36="O",'4èm DAN'!A36," ") | I8: =IF('4èm DAN'!N46="O",'4èm DAN'!A46," ")
A9: =IF('4èm DAN'!N7="O",'4èm DAN'!A7," ") | C9: =IF('4èm DAN'!N17="O",'4èm DAN'!A17," ") | E9: =IF('4èm DAN'!N27="O",'4èm DAN'!A27," ") | G9: =IF('4èm DAN'!N37="O",'4èm DAN'!A37," ") | I9: =IF('4èm DAN'!N47="O",'4èm DAN'!A47," ")
A10: =IF('4èm DAN'!N8="O",'4èm DAN'!A8," ") | C10: =IF('4èm DAN'!N18="O",'4èm DAN'!A18," ") | E10: =IF('4èm DAN'!N28="O",'4èm DAN'!A28," ") | G10: =IF('4èm DAN'!N38="O",'4èm DAN'!A38," ") | I10: =IF('4èm DAN'!N48="O",'4èm DAN'!A48," ")
