Workbook
Name Date_Passage: Bilan!$B$2
Name RESULTATS: '1er DAN '!$U$2:$X$14
Name RESULTATS: '2èm DAN'!$V$2:$Y$14
Name RESULTATS: '3èm DAN'!$W$2:$Z$14
Name RESULTATS: '4èm DAN'!$W$2:$Z$14
Name RESULTATS: '5èm DAN'!$W$2:$Z$14
Name RESULTATS: '6èm Dan'!$W$2:$Z$14
Name RESULTATS: '7èm DAN'!$W$2:$Z$14

Sheet Bilan
A1: Discipline : | B1: KENDO | C1: Niveau T.G (NAT ou REG) : | D1: REG
A2: Date : | C2: Lieu : | F2: IMPUTATION | G2: GRADES
D3: 1er Jury | E3: 2ème Jury | F3: 3ème Jury | G3: KENGRADES
A4: Constitution du(des) Jury(s) : | C4: Juré 1 : | G4: IAIGRADES
C5: Juré 2 : | G5: JOGRADES
C6: Juré 3 : | G6: NAGGRADES
C7: Juré 4 : | G7: CHAGRADES
C8: Juré 5 :
C9: Juré 6 :
C11: Stagiaire 1
C12: Stagiaire 2
A14: Grade | B14: Nombre d'inscrits | C14: Nombre de reçus | D14: % de reçus | E14: Total Inscriptions | F14: Total Enregistrements | G14: Total
A15: 1er DAN | B15: =COUNTA('1er DAN '!B2:B51) -> 0 | C15: =('1er DAN '!I52) -> 0 | D15: =(C15/B15) -> #DIV/0! | E15: =('1er DAN '!H52) -> 15 | F15: =('1er DAN '!J52) -> 0 | G15: =SUM(E15:F15) -> 15
A16: 2 ème DAN | B16: =COUNTA('2èm DAN'!B2:B51) -> 0 | C16: =('2èm DAN'!J52) -> 0 | D16: =(C16/B16) -> #DIV/0! | E16: =('2èm DAN'!I52) -> 25 | F16: =('2èm DAN'!K52) -> 0 | G16: =SUM(E16:F16) -> 25
A17: 3 ème DAN | B17: =COUNTA('3èm DAN'!B2:B51) -> 0 | C17: =('3èm DAN'!J52) -> 0 | D17: =(C17/B17) -> #DIV/0! | E17: =('3èm DAN'!I52) -> 35 | F17: =('3èm DAN'!K52) -> 0 | G17: =SUM(E17:F17) -> 35
A18: 4 ème DAN | B18: =COUNTA('4èm DAN'!B2:B51) -> 0 | C18: =('4èm DAN'!J52) -> 0 | D18: =(C18/B18) -> #DIV/0! | E18: =('4èm DAN'!I52) -> 45 | F18: =('4èm DAN'!K52) -> 0 | G18: =SUM(E18:F18) -> 45
A19: 5 ème DAN | B19: =COUNTA('5èm DAN'!B2:B51) -> 0 | C19: =('5èm DAN'!J52) -> 0 | D19: =(C19/B19) -> #DIV/0! | E19: =('5èm DAN'!I52) -> 55 | F19: =('5èm DAN'!K52) -> 0 | G19: =SUM(E19:F19) -> 55
A20: 6 ème DAN | B20: =COUNTA('6èm Dan'!B2:B51) -> 0 | C20: ='6èm Dan'!J52 -> 0 | D20: =(C20/B20) -> #DIV/0! | E20: ='6èm Dan'!I52 -> 0 | F20: ='6èm Dan'!K52 -> 0 | G20: =SUM(E20:F20) -> 0
A21: 7 ème DAN | B21: =COUNTA('7èm DAN'!B2:B51) -> 0 | C21: ='7èm DAN'!J52 -> 0 | D21: =(C21/B21) -> #DIV/0! | E21: ='7èm DAN'!I52 -> 0 | F21: ='7èm DAN'!K52 -> 0 | G21: =SUM(E21:F21) -> 0
A22: TOTAL | B22: =SUM(B15:B21) -> 0 | C22: =SUM(C15:C21) -> 0 | D22: =(C22/B22) -> #DIV/0! | E22: =SUM(E15:E21) -> 175 | F22: =SUM(F15:F21) -> 0 | G22: =SUM(G15:G21) -> 175
E24: Financier ok ? | F24: =+SUM(F22)-SUM('Bilan financier'!C:C) -> 0

Sheet Bilan financier
A1: Type paiement | B1: Nom sur cheque | C1: Montant
A2: Chèque

Sheet 1er DAN 
A1: N° | B1: Nom | C1: Prénom | D1: CLUB | E1: Date de Naissance | F1: N° licence | G1: Validation de l'inscription | H1: Inscription | I1: Résultat | J1: Enreg. | L1: Jury 1 | M1: Jury 2 | N1: Jury 3 | O1: Jury 4 | P1: Jury 5 | Q1: Decision 1 | R1: Kata | S1: Decision 2 | U1: Nb de Jury | V1: Nb de Oui | W1: Nb de Non | X1: Nb Indécis | Z1: (J+1)/2 | AA1: (J-1)/2
A2: 101 | G2: =IF(E2<>"",IF((DATE(YEAR(E2)+13,MONTH(E2),DAY(E2)))<=Date_Passage,"OK","PAS L'AGE"),"") | H2: 15 | I2: =(S2) -> N | J2: 0 | L2: N | M2: N | N2: N | O2: N | P2: N | Q2: =IF(AND(V2>=Z2),"O",IF(AND(W2>=Z2),"N",IF(AND(V2=AA2,W2=AA2),"O",IF(AND(V2<=AA2,W2<=AA2),"I")))) -> N | R2: N | S2: =IF(R2="","",R2) -> N | U2: =COUNTA(L2:P2) -> 5 | V2: =COUNTIF(L2:P2,"O") -> 0 | W2: =COUNTIF(L2:P2,"N") -> 5 | X2: =COUNTIF(L2:P2,"I") -> 0 | Z2: =(U2+1)/2 -> 3 | AA2: =(U2-1)/2 -> 2
A3: 102 | G3: =IF(E3<>"",IF((DATE(YEAR(E3)+13,MONTH(E3),DAY(E3)))<=Date_Passage,"OK","PAS L'AGE"),"") | I3: =(S3) -> N | L3: N | M3: N | N3: N | O3: N | P3: N | Q3: =IF(AND(V3>=Z3),"O",IF(AND(W3>=Z3),"N",IF(AND(V3=AA3,W3=AA3),"O",IF(AND(V3<=AA3,W3<=AA3),"I")))) -> N | R3: N | S3: =IF(R3="","",R3) -> N | U3: =COUNTA(L3:P3) -> 5 | V3: =COUNTIF(L3:P3,"O") -> 0 | W3: =COUNTIF(L3:P3,"N") -> 5 | X3: =COUNTIF(L3:P3,"I") -> 0 | Z3: =(U3+1)/2 -> 3 | AA3: =(U3-1)/2 -> 2
A4: 103 | G4: =IF(E4<>"",IF((DATE(YEAR(E4)+13,MONTH(E4),DAY(E4)))<=Date_Passage,"OK","PAS L'AGE"),"") | I4: =(S4) -> N | L4: N | M4: N | N4: N | O4: N | P4: N | Q4: =IF(AND(V4>=Z4),"O",IF(AND(W4>=Z4),"N",IF(AND(V4=AA4,W4=AA4),"O",IF(AND(V4<=AA4,W4<=AA4),"I")))) -> N | R4: N | S4: =IF(R4="","",R4) -> N | U4: =COUNTA(L4:P4) -> 5 | V4: =COUNTIF(L4:P4,"O") -> 0 | W4: =COUNTIF(L4:P4,"N") -> 5 | X4: =COUNTIF(L4:P4,"I") -> 0 | Z4: =(U4+1)/2 -> 3 | AA4: =(U4-1)/2 -> 2
A5: 104 | G5: =IF(E5<>"",IF((DATE(YEAR(E5)+13,MONTH(E5),DAY(E5)))<=Date_Passage,"OK","PAS L'AGE"),"") | I5: =(S5) -> N | L5: N | M5: N | N5: N | O5: N | P5: N | Q5: =IF(AND(V5>=Z5),"O",IF(AND(W5>=Z5),"N",IF(AND(V5=AA5,W5=AA5),"O",IF(AND(V5<=AA5,W5<=AA5),"I")))) -> N | R5: N | S5: =IF(R5="","",R5) -> N | U5: =COUNTA(L5:P5) -> 5 | V5: =COUNTIF(L5:P5,"O") -> 0 | W5: =COUNTIF(L5:P5,"N") -> 5 | X5: =COUNTIF(L5:P5,"I") -> 0 | Z5: =(U5+1)/2 -> 3 | AA5: =(U5-1)/2 -> 2
A6: 105 | G6: =IF(E6<>"",IF((DATE(YEAR(E6)+13,MONTH(E6),DAY(E6)))<=Date_Passage,"OK","PAS L'AGE"),"") | I6: =(S6) -> N | L6: N | M6: N | N6: N | O6: N | P6: N | Q6: =IF(AND(V6>=Z6),"O",IF(AND(W6>=Z6),"N",IF(AND(V6=AA6,W6=AA6),"O",IF(AND(V6<=AA6,W6<=AA6),"I")))) -> N | R6: N | S6: =IF(R6="","",R6) -> N | U6: =COUNTA(L6:P6) -> 5 | V6: =COUNTIF(L6:P6,"O") -> 0 | W6: =COUNTIF(L6:P6,"N") -> 5 | X6: =COUNTIF(L6:P6,"I") -> 0 | Z6: =(U6+1)/2 -> 3 | AA6: =(U6-1)/2 -> 2
A7: 106 | G7: =IF(E7<>"",IF((DATE(YEAR(E7)+13,MONTH(E7),DAY(E7)))<=Date_Passage,"OK","PAS L'AGE"),"") | I7: =(S7) -> N | L7: N | M7: N | N7: N | O7: N | P7: N | Q7: =IF(AND(V7>=Z7),"O",IF(AND(W7>=Z7),"N",IF(AND(V7=AA7,W7=AA7),"O",IF(AND(V7<=AA7,W7<=AA7),"I")))) -> N | R7: N | S7: =IF(R7="","",R7) -> N | U7: =COUNTA(L7:P7) -> 5 | V7: =COUNTIF(L7:P7,"O") -> 0 | W7: =COUNTIF(L7:P7,"N") -> 5 | X7: =COUNTIF(L7:P7,"I") -> 0 | Z7: =(U7+1)/2 -> 3 | AA7: =(U7-1)/2 -> 2
A8: 107 | G8: =IF(E8<>"",IF((DATE(YEAR(E8)+13,MONTH(E8),DAY(E8)))<=Date_Passage,"OK","PAS L'AGE"),"") | I8: =(S8) -> N | L8: N | M8: N | N8: N | O8: N | P8: N | Q8: =IF(AND(V8>=Z8),"O",IF(AND(W8>=Z8),"N",IF(AND(V8=AA8,W8=AA8),"O",IF(AND(V8<=AA8,W8<=AA8),"I")))) -> N | R8: N | S8: =IF(R8="","",R8) -> N | U8: =COUNTA(L8:P8) -> 5 | V8: =COUNTIF(L8:P8,"O") -> 0 | W8: =COUNTIF(L8:P8,"N") -> 5 | X8: =COUNTIF(L8:P8,"I") -> 0 | Z8: =(U8+1)/2 -> 3 | AA8: =(U8-1)/2 -> 2
A9: 108 | G9: =IF(E9<>"",IF((DATE(YEAR(E9)+13,MONTH(E9),DAY(E9)))<=Date_Passage,"OK","PAS L'AGE"),"") | I9: =(S9) -> N | L9: N | M9: N | N9: N | O9: N | P9: N | Q9: =IF(AND(V9>=Z9),"O",IF(AND(W9>=Z9),"N",IF(AND(V9=AA9,W9=AA9),"O",IF(AND(V9<=AA9,W9<=AA9),"I")))) -> N | R9: N | S9: =IF(R9="","",R9) -> N | U9: =COUNTA(L9:P9) -> 5 | V9: =COUNTIF(L9:P9,"O") -> 0 | W9: =COUNTIF(L9:P9,"N") -> 5 | X9: =COUNTIF(L9:P9,"I") -> 0 | Z9: =(U9+1)/2 -> 3 | AA9: =(U9-1)/2 -> 2
A10: 109 | G10: =IF(E10<>"",IF((DATE(YEAR(E10)+13,MONTH(E10),DAY(E10)))<=Date_Passage,"OK","PAS L'AGE"),"") | I10: =(S10) -> N | L10: N | M10: N | N10: N | O10: N | P10: N | Q10: =IF(AND(V10>=Z10),"O",IF(AND(W10>=Z10),"N",IF(AND(V10=AA10,W10=AA10),"O",IF(AND(V10<=AA10,W10<=AA10),"I")))) -> N | R10: N | S10: =IF(R10="","",R10) -> N | U10: =COUNTA(L10:P10) -> 5 | V10: =COUNTIF(L10:P10,"O") -> 0 | W10: =COUNTIF(L10:P10,"N") -> 5 | X10: =COUNTIF(L10:P10,"I") -> 0 | Z10: =(U10+1)/2 -> 3 | AA10: =(U10-1)/2 -> 2
A11: 110 | G11: =IF(E11<>"",IF((DATE(YEAR(E11)+13,MONTH(E11),DAY(E11)))<=Date_Passage,"OK","PAS L'AGE"),"") | I11: =(S11) -> N | L11: N | M11: N | N11: N | O11: N | P11: N | Q11: =IF(AND(V11>=Z11),"O",IF(AND(W11>=Z11),"N",IF(AND(V11=AA11,W11=AA11),"O",IF(AND(V11<=AA11,W11<=AA11),"I")))) -> N | R11: N | S11: =IF(R11="","",R11) -> N | U11: =COUNTA(L11:P11) -> 5 | V11: =COUNTIF(L11:P11,"O") -> 0 | W11: =COUNTIF(L11:P11,"N") -> 5 | X11: =COUNTIF(L11:P11,"I") -> 0 | Z11: =(U11+1)/2 -> 3 | AA11: =(U11-1)/2 -> 2
A12: 111 | G12: =IF(E12<>"",IF((DATE(YEAR(E12)+13,MONTH(E12),DAY(E12)))<=Date_Passage,"OK","PAS L'AGE"),"") | I12: =(S12) -> N | L12: N | M12: N | N12: N | O12: N | P12: N | Q12: =IF(AND(V12>=Z12),"O",IF(AND(W12>=Z12),"N",IF(AND(V12=AA12,W12=AA12),"O",IF(AND(V12<=AA12,W12<=AA12),"I")))) -> N | R12: N | S12: =IF(R12="","",R12) -> N | U12: =COUNTA(L12:P12) -> 5 | V12: =COUNTIF(L12:P12,"O") -> 0 | W12: =COUNTIF(L12:P12,"N") -> 5 | X12: =COUNTIF(L12:P12,"I") -> 0 | Z12: =(U12+1)/2 -> 3 | AA12: =(U12-1)/2 -> 2
A13: 112 | G13: =IF(E13<>"",IF((DATE(YEAR(E13)+13,MONTH(E13),DAY(E13)))<=Date_Passage,"OK","PAS L'AGE"),"") | I13: =(S13) -> N | L13: N | M13: N | N13: N | O13: N | P13: N | Q13: =IF(AND(V13>=Z13),"O",IF(AND(W13>=Z13),"N",IF(AND(V13=AA13,W13=AA13),"O",IF(AND(V13<=AA13,W13<=AA13),"I")))) -> N | R13: N | S13: =IF(R13="","",R13) -> N | U13: =COUNTA(L13:P13) -> 5 | V13: =COUNTIF(L13:P13,"O") -> 0 | W13: =COUNTIF(L13:P13,"N") -> 5 | X13: =COUNTIF(L13:P13,"I") -> 0 | Z13: =(U13+1)/2 -> 3 | AA13: =(U13-1)/2 -> 2
A14: 113 | G14: =IF(E14<>"",IF((DATE(YEAR(E14)+13,MONTH(E14),DAY(E14)))<=Date_Passage,"OK","PAS L'AGE"),"") | I14: =(S14) -> N | L14: N | M14: N | N14: N | O14: N | P14: N | Q14: =IF(AND(V14>=Z14),"O",IF(AND(W14>=Z14),"N",IF(AND(V14=AA14,W14=AA14),"O",IF(AND(V14<=AA14,W14<=AA14),"I")))) -> N | R14: N | S14: =IF(R14="","",R14) -> N | U14: =COUNTA(L14:P14) -> 5 | V14: =COUNTIF(L14:P14,"O") -> 0 | W14: =COUNTIF(L14:P14,"N") -> 5 | X14: =COUNTIF(L14:P14,"I") -> 0 | Z14: =(U14+1)/2 -> 3 | AA14: =(U14-1)/2 -> 2
... A51: 150 | G51: =IF(E51<>"",IF((DATE(YEAR(E51)+13,MONTH(E51),DAY(E51)))<=Date_Passage,"OK","PAS L'AGE"),"") | I51: =(S51) -> N | L51: N | M51: N | N51: N | O51: N | P51: N | Q51: =IF(AND(V51>=Z51),"O",IF(AND(W51>=Z51),"N",IF(AND(V51=AA51,W51=AA51),"O",IF(AND(V51<=AA51,W51<=AA51),"I")))) -> N | R51: N | S51: =IF(R51="","",R51) -> N | U51: =COUNTA(L51:P51) -> 5 | V51: =COUNTIF(L51:P51,"O") -> 0 | W51: =COUNTIF(L51:P51,"N") -> 5 | X51: =COUNTIF(L51:P51,"I") -> 0 | Z51: =(U51+1)/2 -> 3 | AA51: =(U51-1)/2 -> 2
G52: =IF(E52<>"",IF((DATE(YEAR(E52)+13,MONTH(E52),DAY(E52)))<=Date_Passage,"OK","PAS L'AGE"),"") | H52: =SUM(H2:H51) -> 15 | I52: =COUNTIF(I2:I51,"O") -> 0 | J52: =SUM(J2:J51) -> 0

Sheet Fiche jury 1D
A7: PASSAGE DE GRADES DU : | E7: =IF(Bilan!B2="","",Bilan!B2) | H7: - | I7: =IF(Bilan!D2="","",Bilan!D2)
A9: Nom du Juré :
A11: N° | B11: Age | C11: Kirigaeshi | D11: Keiko 1 | E11: Keiko 2 | F11: Décision 1 | G11: Kata | H11: Décision 2 | I11: Observations
A12: 101 | B12: =IF('1er DAN '!E2="","",INT((TODAY()-'1er DAN '!E2)/365))
A13: 102 | B13: =IF('1er DAN '!E3="","",INT((TODAY()-'1er DAN '!E3)/365))
A14: 103 | B14: =IF('1er DAN '!E4="","",INT((TODAY()-'1er DAN '!E4)/365))
A15: 104 | B15: =IF('1er DAN '!E5="","",INT((TODAY()-'1er DAN '!E5)/365))
A16: 105 | B16: =IF('1er DAN '!E6="","",INT((TODAY()-'1er DAN '!E6)/365))
A17: 106 | B17: =IF('1er DAN '!E7="","",INT((TODAY()-'1er DAN '!E7)/365))
A18: 107 | B18: =IF('1er DAN '!E8="","",INT((TODAY()-'1er DAN '!E8)/365))
A19: 108 | B19: =IF('1er DAN '!E9="","",INT((TODAY()-'1er DAN '!E9)/365))
A20: 109 | B20: =IF('1er DAN '!E10="","",INT((TODAY()-'1er DAN '!E10)/365))
A21: 110 | B21: =IF('1er DAN '!E11="","",INT((TODAY()-'1er DAN '!E11)/365))
A22: 111 | B22: =IF('1er DAN '!E12="","",INT((TODAY()-'1er DAN '!E12)/365))
A23: 112 | B23: =IF('1er DAN '!E13="","",INT((TODAY()-'1er DAN '!E13)/365))
... A41: 130 | B41: =IF('1er DAN '!E31="","",INT((TODAY()-'1er DAN '!E31)/365))
A45: SIGNATURE
F48: CNK.FFJDA - INJ. 21,25 Avenue de la Porte de Châtillon 75680 PARIS Cedex 14

Sheet Résultat 1er DAN
A2: PASSAGE DE GRADES DU : | C2: =IF(Bilan!B2="","",Bilan!B2) | E2: =IF(Bilan!D2="","",Bilan!D2) | G2: PASSAGE DE GRADES DU : | I2: =IF(Bilan!B2="","",Bilan!B2) | K2: =IF(Bilan!D2="","",Bilan!D2)
A4: =IF('1er DAN '!I2="O",'1er DAN '!A2," ") | C4: =IF('1er DAN '!I12="O",'1er DAN '!A12," ") | E4: =IF('1er DAN '!I22="O",'1er DAN '!A22," ") | G4: =IF('1er DAN '!I32="O",'1er DAN '!A32," ") | I4: =IF('1er DAN '!I42="O",'1er DAN '!A42," ")
A5: =IF('1er DAN '!I3="O",'1er DAN '!A3," ") | C5: =IF('1er DAN '!I13="O",'1er DAN '!A13," ") | E5: =IF('1er DAN '!I23="O",'1er DAN '!A23," ") | G5: =IF('1er DAN '!I33="O",'1er DAN '!A33," ") | I5: =IF('1er DAN '!I43="O",'1er DAN '!A43," ")
A6: =IF('1er DAN '!I4="O",'1er DAN '!A4," ") | C6: =IF('1er DAN '!I14="O",'1er DAN '!A14," ") | E6: =IF('1er DAN '!I24="O",'1er DAN '!A24," ") | G6: =IF('1er DAN '!I34="O",'1er DAN '!A34," ") | I6: =IF('1er DAN '!I44="O",'1er DAN '!A44," ")
A7: =IF('1er DAN '!I5="O",'1er DAN '!A5," ") | C7: =IF('1er DAN '!I15="O",'1er DAN '!A15," ") | E7: =IF('1er DAN '!I25="O",'1er DAN '!A25," ") | G7: =IF('1er DAN '!I35="O",'1er DAN '!A35," ") | I7: =IF('1er DAN '!I45="O",'1er DAN '!A45," ")
A8: =IF('1er DAN '!I6="O",'1er DAN '!A6," ") | C8: =IF('1er DAN '!I16="O",'1er DAN '!A16," ") | E8: =IF('1er DAN '!I26="O",'1er DAN '!A26," ") | G8: =IF('1er DAN '!I36="O",'1er DAN '!A36," ") | I8: =IF('1er DAN '!I46="O",'1er DAN '!A46," ")
A9: =IF('1er DAN '!I7="O",'1er DAN '!A7," ") | C9: =IF('1er DAN '!I17="O",'1er DAN '!A17," ") | E9: =IF('1er DAN '!I27="O",'1er DAN '!A27," ") | G9: =IF('1er DAN '!I37="O",'1er DAN '!A37," ") | I9: =IF('1er DAN '!I47="O",'1er DAN '!A47," ")
A10: =IF('1er DAN '!I8="O",'1er DAN '!A8," ") | C10: =IF('1er DAN '!I18="O",'1er DAN '!A18," ") | E10: =IF('1er DAN '!I28="O",'1er DAN '!A28," ") | G10: =IF('1er DAN '!I38="O",'1er DAN '!A38," ") | I10: =IF('1er DAN '!I48="O",'1er DAN '!A48," ")
A11: =IF('1er DAN '!I9="O",'1er DAN '!A9," ") | C11: =IF('1er DAN '!I19="O",'1er DAN '!A19," ") | E11: =IF('1er DAN '!I29="O",'1er DAN '!A29," ") | G11: =IF('1er DAN '!I39="O",'1er DAN '!A39," ") | I11: =IF('1er DAN '!I49="O",'1er DAN '!A49," ")
A12: =IF('1er DAN '!I10="O",'1er DAN '!A10," ") | C12: =IF('1er DAN '!I20="O",'1er DAN '!A20," ") | E12: =IF('1er DAN '!I30="O",'1er DAN '!A30," ") | G12: =IF('1er DAN '!I40="O",'1er DAN '!A40," ") | I12: =IF('1er DAN '!I50="O",'1er DAN '!A50," ")
A13: =IF('1er DAN '!I11="O",'1er DAN '!A11," ") | C13: =IF('1er DAN '!I21="O",'1er DAN '!A21," ") | E13: =IF('1er DAN '!I31="O",'1er DAN '!A31," ") | G13: =IF('1er DAN '!I41="O",'1er DAN '!A41," ") | I13: =IF('1er DAN '!I51="O",'1er DAN '!A51," ")

Sheet 2èm DAN
A1: N° | B1: Nom | C1: Prénom | D1: CLUB | E1: Date de Naissance | F1: N° licence | G1: Date du grade précédent | H1: Validation de l'inscription | I1: Inscription | J1: Résultat | K1: Enreg. | M1: Jury 1 | N1: Jury 2 | O1: Jury 3 | P1: Jury 4 | Q1: Jury 5 | R1: Decision 1 | S1: Kata | T1: Decision 2 | V1: Nb de Jury | W1: Nb de Oui | X1: Nb de Non | Y1: Nb Indécis | AA1: (J+1)/2 | AB1: (J-1)/2
A2: 201 | H2: =IF(G2<>"",IF(YEAR(G2)+1<YEAR(Date_Passage),"OK",IF(AND(YEAR(G2)+1=YEAR(Date_Passage),MONTH(G2)<=MONTH(Date_Passage)),"OK","PAS LES DELAIS")),"") | I2: 25 | J2: =('2èm DAN'!T2) -> N | K2: 0 | M2: N | N2: N | O2: N | P2: N | Q2: N | R2: =IF(AND(W2>=AA2),"O",IF(AND(X2>=AA2),"N",IF(AND(W2=AB2,X2=AB2),"O",IF(AND(W2<=AB2,X2<=AB2),"I")))) -> N | S2: N | T2: =IF(S2="","",S2) -> N | V2: =COUNTA(M2:Q2) -> 5 | W2: =COUNTIF(M2:Q2,"O") -> 0 | X2: =COUNTIF(M2:Q2,"N") -> 5 | Y2: =COUNTIF(M2:Q2,"I") -> 0 | AA2: =(V2+1)/2 -> 3 | AB2: =(V2-1)/2 -> 2
A3: 202 | H3: =IF(G3<>"",IF(YEAR(G3)+1<YEAR(Date_Passage),"OK",IF(AND(YEAR(G3)+1=YEAR(Date_Passage),MONTH(G3)<=MONTH(Date_Passage)),"OK","PAS LES DELAIS")),"") | J3: =(T3) -> N | M3: N | N3: N | O3: N | P3: N | Q3: N | R3: =IF(AND(W3>=AA3),"O",IF(AND(X3>=AA3),"N",IF(AND(W3=AB3,X3=AB3),"O",IF(AND(W3<=AB3,X3<=AB3),"I")))) -> N | S3: N | T3: =IF(S3="","",S3) -> N | V3: =COUNTA(M3:Q3) -> 5 | W3: =COUNTIF(M3:Q3,"O") -> 0 | X3: =COUNTIF(M3:Q3,"N") -> 5 | Y3: =COUNTIF(M3:Q3,"I") -> 0 | AA3: =(V3+1)/2 -> 3 | AB3: =(V3-1)/2 -> 2
A4: 203 | H4: =IF(G4<>"",IF(YEAR(G4)+1<YEAR(Date_Passage),"OK",IF(AND(YEAR(G4)+1=YEAR(Date_Passage),MONTH(G4)<=MONTH(Date_Passage)),"OK","PAS LES DELAIS")),"") | J4: =(T4) -> N | M4: N | N4: N | O4: N | P4: N | Q4: N | R4: =IF(AND(W4>=AA4),"O",IF(AND(X4>=AA4),"N",IF(AND(W4=AB4,X4=AB4),"O",IF(AND(W4<=AB4,X4<=AB4),"I")))) -> N | S4: N | T4: =IF(S4="","",S4) -> N | V4: =COUNTA(M4:Q4) -> 5 | W4: =COUNTIF(M4:Q4,"O") -> 0 | X4: =COUNTIF(M4:Q4,"N") -> 5 | Y4: =COUNTIF(M4:Q4,"I") -> 0 | AA4: =(V4+1)/2 -> 3 | AB4: =(V4-1)/2 -> 2
A5: 204 | H5: =IF(G5<>"",IF(YEAR(G5)+1<YEAR(Date_Passage),"OK",IF(AND(YEAR(G5)+1=YEAR(Date_Passage),MONTH(G5)<=MONTH(Date_Passage)),"OK","PAS LES DELAIS")),"") | J5: =(T5) -> N | M5: N | N5: N | O5: N | P5: N | Q5: N | R5: =IF(AND(W5>=AA5),"O",IF(AND(X5>=AA5),"N",IF(AND(W5=AB5,X5=AB5),"O",IF(AND(W5<=AB5,X5<=AB5),"I")))) -> N | S5: N | T5: =IF(S5="","",S5) -> N | V5: =COUNTA(M5:Q5) -> 5 | W5: =COUNTIF(M5:Q5,"O") -> 0 | X5: =COUNTIF(M5:Q5,"N") -> 5 | Y5: =COUNTIF(M5:Q5,"I") -> 0 | AA5: =(V5+1)/2 -> 3 | AB5: =(V5-1)/2 -> 2
A6: 205 | H6: =IF(G6<>"",IF(YEAR(G6)+1<YEAR(Date_Passage),"OK",IF(AND(YEAR(G6)+1=YEAR(Date_Passage),MONTH(G6)<=MONTH(Date_Passage)),"OK","PAS LES DELAIS")),"") | J6: =(T6) -> N | M6: N | N6: N | O6: N | P6: N | Q6: N | R6: =IF(AND(W6>=AA6),"O",IF(AND(X6>=AA6),"N",IF(AND(W6=AB6,X6=AB6),"O",IF(AND(W6<=AB6,X6<=AB6),"I")))) -> N | S6: N | T6: =IF(S6="","",S6) -> N | V6: =COUNTA(M6:Q6) -> 5 | W6: =COUNTIF(M6:Q6,"O") -> 0 | X6: =COUNTIF(M6:Q6,"N") -> 5 | Y6: =COUNTIF(M6:Q6,"I") -> 0 | AA6: =(V6+1)/2 -> 3 | AB6: =(V6-1)/2 -> 2
A7: 206 | H7: =IF(G7<>"",IF(YEAR(G7)+1<YEAR(Date_Passage),"OK",IF(AND(YEAR(G7)+1=YEAR(Date_Passage),MONTH(G7)<=MONTH(Date_Passage)),"OK","PAS LES DELAIS")),"") | J7: =(T7) -> N | M7: N | N7: N | O7: N | P7: N | Q7: N | R7: =IF(AND(W7>=AA7),"O",IF(AND(X7>=AA7),"N",IF(AND(W7=AB7,X7=AB7),"O",IF(AND(W7<=AB7,X7<=AB7),"I")))) -> N | S7: N | T7: =IF(S7="","",S7) -> N | V7: =COUNTA(M7:Q7) -> 5 | W7: =COUNTIF(M7:Q7,"O") -> 0 | X7: =COUNTIF(M7:Q7,"N") -> 5 | Y7: =COUNTIF(M7:Q7,"I") -> 0 | AA7: =(V7+1)/2 -> 3 | AB7: =(V7-1)/2 -> 2
A8: 207 | H8: =IF(G8<>"",IF(YEAR(G8)+1<YEAR(Date_Passage),"OK",IF(AND(YEAR(G8)+1=YEAR(Date_Passage),MONTH(G8)<=MONTH(Date_Passage)),"OK","PAS LES DELAIS")),"") | J8: =(T8) -> N | M8: N | N8: N | O8: N | P8: N | Q8: N | R8: =IF(AND(W8>=AA8),"O",IF(AND(X8>=AA8),"N",IF(AND(W8=AB8,X8=AB8),"O",IF(AND(W8<=AB8,X8<=AB8),"I")))) -> N | S8: N | T8: =IF(S8="","",S8) -> N | V8: =COUNTA(M8:Q8) -> 5 | W8: =COUNTIF(M8:Q8,"O") -> 0 | X8: =COUNTIF(M8:Q8,"N") -> 5 | Y8: =COUNTIF(M8:Q8,"I") -> 0 | AA8: =(V8+1)/2 -> 3 | AB8: =(V8-1)/2 -> 2
A9: 208 | H9: =IF(G9<>"",IF(YEAR(G9)+1<YEAR(Date_Passage),"OK",IF(AND(YEAR(G9)+1=YEAR(Date_Passage),MONTH(G9)<=MONTH(Date_Passage)),"OK","PAS LES DELAIS")),"") | J9: =(T9) -> N | M9: N | N9: N | O9: N | P9: N | Q9: N | R9: =IF(AND(W9>=AA9),"O",IF(AND(X9>=AA9),"N",IF(AND(W9=AB9,X9=AB9),"O",IF(AND(W9<=AB9,X9<=AB9),"I")))) -> N | S9: N | T9: =IF(S9="","",S9) -> N | V9: =COUNTA(M9:Q9) -> 5 | W9: =COUNTIF(M9:Q9,"O") -> 0 | X9: =COUNTIF(M9:Q9,"N") -> 5 | Y9: =COUNTIF(M9:Q9,"I") -> 0 | AA9: =(V9+1)/2 -> 3 | AB9: =(V9-1)/2 -> 2
A10: 209 | H10: =IF(G10<>"",IF(YEAR(G10)+1<YEAR(Date_Passage),"OK",IF(AND(YEAR(G10)+1=YEAR(Date_Passage),MONTH(G10)<=MONTH(Date_Passage)),"OK","PAS LES DELAIS")),"") | J10: =(T10) -> N | M10: N | N10: N | O10: N | P10: N | Q10: N | R10: =IF(AND(W10>=AA10),"O",IF(AND(X10>=AA10),"N",IF(AND(W10=AB10,X10=AB10),"O",IF(AND(W10<=AB10,X10<=AB10),"I")))) -> N | S10: N | T10: =IF(S10="","",S10) -> N | V10: =COUNTA(M10:Q10) -> 5 | W10: =COUNTIF(M10:Q10,"O") -> 0 | X10: =COUNTIF(M10:Q10,"N") -> 5 | Y10: =COUNTIF(M10:Q10,"I") -> 0 | AA10: =(V10+1)/2 -> 3 | AB10: =(V10-1)/2 -> 2
A11: 210 | H11: =IF(G11<>"",IF(YEAR(G11)+1<YEAR(Date_Passage),"OK",IF(AND(YEAR(G11)+1=YEAR(Date_Passage),MONTH(G11)<=MONTH(Date_Passage)),"OK","PAS LES DELAIS")),"") | J11: =(T11) -> N | M11: N | N11: N | O11: N | P11: N | Q11: N | R11: =IF(AND(W11>=AA11),"O",IF(AND(X11>=AA11),"N",IF(AND(W11=AB11,X11=AB11),"O",IF(AND(W11<=AB11,X11<=AB11),"I")))) -> N | S11: N | T11: =IF(S11="","",S11) -> N | V11: =COUNTA(M11:Q11) -> 5 | W11: =COUNTIF(M11:Q11,"O") -> 0 | X11: =COUNTIF(M11:Q11,"N") -> 5 | Y11: =COUNTIF(M11:Q11,"I") -> 0 | AA11: =(V11+1)/2 -> 3 | AB11: =(V11-1)/2 -> 2
A12: 211 | H12: =IF(G12<>"",IF(YEAR(G12)+1<YEAR(Date_Passage),"OK",IF(AND(YEAR(G12)+1=YEAR(Date_Passage),MONTH(G12)<=MONTH(Date_Passage)),"OK","PAS LES DELAIS")),"") | J12: =(T12) -> N | M12: N | N12: N | O12: N | P12: N | Q12: N | R12: =IF(AND(W12>=AA12),"O",IF(AND(X12>=AA12),"N",IF(AND(W12=AB12,X12=AB12),"O",IF(AND(W12<=AB12,X12<=AB12),"I")))) -> N | S12: N | T12: =IF(S12="","",S12) -> N | V12: =COUNTA(M12:Q12) -> 5 | W12: =COUNTIF(M12:Q12,"O") -> 0 | X12: =COUNTIF(M12:Q12,"N") -> 5 | Y12: =COUNTIF(M12:Q12,"I") -> 0 | AA12: =(V12+1)/2 -> 3 | AB12: =(V12-1)/2 -> 2
A13: 212 | H13: =IF(G13<>"",IF(YEAR(G13)+1<YEAR(Date_Passage),"OK",IF(AND(YEAR(G13)+1=YEAR(Date_Passage),MONTH(G13)<=MONTH(Date_Passage)),"OK","PAS LES DELAIS")),"") | J13: =(T13) -> N | M13: N | N13: N | O13: N | P13: N | Q13: N | R13: =IF(AND(W13>=AA13),"O",IF(AND(X13>=AA13),"N",IF(AND(W13=AB13,X13=AB13),"O",IF(AND(W13<=AB13,X13<=AB13),"I")))) -> N | S13: N | T13: =IF(S13="","",S13) -> N | V13: =COUNTA(M13:Q13) -> 5 | W13: =COUNTIF(M13:Q13,"O") -> 0 | X13: =COUNTIF(M13:Q13,"N") -> 5 | Y13: =COUNTIF(M13:Q13,"I") -> 0 | AA13: =(V13+1)/2 -> 3 | AB13: =(V13-1)/2 -> 2
A14: 213 | H14: =IF(G14<>"",IF(YEAR(G14)+1<YEAR(Date_Passage),"OK",IF(AND(YEAR(G14)+1=YEAR(Date_Passage),MONTH(G14)<=MONTH(Date_Passage)),"OK","PAS LES DELAIS")),"") | J14: =(T14) -> N | M14: N | N14: N | O14: N | P14: N | Q14: N | R14: =IF(AND(W14>=AA14),"O",IF(AND(X14>=AA14),"N",IF(AND(W14=AB14,X14=AB14),"O",IF(AND(W14<=AB14,X14<=AB14),"I")))) -> N | S14: N | T14: =IF(S14="","",S14) -> N | V14: =COUNTA(M14:Q14) -> 5 | W14: =COUNTIF(M14:Q14,"O") -> 0 | X14: =COUNTIF(M14:Q14,"N") -> 5 | Y14: =COUNTIF(M14:Q14,"I") -> 0 | AA14: =(V14+1)/2 -> 3 | AB14: =(V14-1)/2 -> 2
... A51: 250 | H51: =IF(G51<>"",IF(YEAR(G51)+1<YEAR(Date_Passage),"OK",IF(AND(YEAR(G51)+1=YEAR(Date_Passage),MONTH(G51)<=MONTH(Date_Passage)),"OK","PAS LES DELAIS")),"") | J51: =(T51) -> N | M51: N | N51: N | O51: N | P51: N | Q51: N | R51: =IF(AND(W51>=AA51),"O",IF(AND(X51>=AA51),"N",IF(AND(W51=AB51,X51=AB51),"O",IF(AND(W51<=AB51,X51<=AB51),"I")))) -> N | S51: N | T51: =IF(S51="","",S51) -> N | V51: =COUNTA(M51:Q51) -> 5 | W51: =COUNTIF(M51:Q51,"O") -> 0 | X51: =COUNTIF(M51:Q51,"N") -> 5 | Y51: =COUNTIF(M51:Q51,"I") -> 0 | AA51: =(V51+1)/2 -> 3 | AB51: =(V51-1)/2 -> 2
I52: =SUM(I2:I51) -> 25 | J52: =COUNTIF(J2:J51,"O") -> 0 | K52: =SUM(K2:K51) -> 0

Sheet Fiche jury 2D
A7: PASSAGE DE GRADES DU : | E7: =IF(Bilan!B2="","",Bilan!B2) | H7: - | I7: =IF(Bilan!D2="","",Bilan!D2)
A9: Nom du Juré :
A11: N° | B11: Age | C11: Kirigaeshi | D11: Keiko 1 | E11: Keiko 2 | F11: Décision 1 | G11: Kata | H11: Décision 2 | I11: Observations
A12: 201 | B12: =IF('2èm DAN'!E2="","",INT((TODAY()-'2èm DAN'!E2)/365))
A13: 202 | B13: =IF('2èm DAN'!E3="","",INT((TODAY()-'2èm DAN'!E3)/365))
A14: 203 | B14: =IF('2èm DAN'!E4="","",INT((TODAY()-'2èm DAN'!E4)/365))
A15: 204 | B15: =IF('2èm DAN'!E5="","",INT((TODAY()-'2èm DAN'!E5)/365))
A16: 205 | B16: =IF('2èm DAN'!E6="","",INT((TODAY()-'2èm DAN'!E6)/365))
A17: 206 | B17: =IF('2èm DAN'!E7="","",INT((TODAY()-'2èm DAN'!E7)/365))
A18: 207 | B18: =IF('2èm DAN'!E8="","",INT((TODAY()-'2èm DAN'!E8)/365))
A19: 208 | B19: =IF('2èm DAN'!E9="","",INT((TODAY()-'2èm DAN'!E9)/365))
A20: 209 | B20: =IF('2èm DAN'!E10="","",INT((TODAY()-'2èm DAN'!E10)/365))
A21: 210 | B21: =IF('2èm DAN'!E11="","",INT((TODAY()-'2èm DAN'!E11)/365))
A22: 211 | B22: =IF('2èm DAN'!E12="","",INT((TODAY()-'2èm DAN'!E12)/365))
A23: 212 | B23: =IF('2èm DAN'!E13="","",INT((TODAY()-'2èm DAN'!E13)/365))
... A41: 230 | B41: =IF('2èm DAN'!E31="","",INT((TODAY()-'2èm DAN'!E31)/365))
A45: SIGNATURE
F48: CNK.FFJDA - INJ. 21,25 Avenue de la Porte de Châtillon 75680 PARIS Cedex 14

Sheet Résultat 2èm DAN
A2: PASSAGE DE GRADES DU : | C2: =IF(Bilan!B2="","",Bilan!B2) | E2: =IF(Bilan!D2="","",Bilan!D2) | G2: PASSAGE DE GRADES DU : | I2: =IF(Bilan!B2="","",Bilan!B2) | J2: =IF(Bilan!D2="","",Bilan!D2)
A4: =IF('2èm DAN'!J2="O",'2èm DAN'!A2," ") | C4: =IF('2èm DAN'!J12="O",'2èm DAN'!A12," ") | E4: =IF('2èm DAN'!J22="O",'2èm DAN'!A22," ") | G4: =IF('2èm DAN'!J32="O",'2èm DAN'!A32," ") | I4: =IF('2èm DAN'!J42="O",'2èm DAN'!A42," ")
A5: =IF('2èm DAN'!J3="O",'2èm DAN'!A3," ") | C5: =IF('2èm DAN'!J13="O",'2èm DAN'!A13," ") | E5: =IF('2èm DAN'!J23="O",'2èm DAN'!A23," ") | G5: =IF('2èm DAN'!J33="O",'2èm DAN'!A33," ") | I5: =IF('2èm DAN'!J43="O",'2èm DAN'!A43," ")
A6: =IF('2èm DAN'!J4="O",'2èm DAN'!A4," ") | C6: =IF('2èm DAN'!J14="O",'2èm DAN'!A14," ") | E6: =IF('2èm DAN'!J24="O",'2èm DAN'!A24," ") | G6: =IF('2èm DAN'!J34="O",'2èm DAN'!A34," ") | I6: =IF('2èm DAN'!J44="O",'2èm DAN'!A44," ")
A7: =IF('2èm DAN'!J5="O",'2èm DAN'!A5," ") | C7: =IF('2èm DAN'!J15="O",'2èm DAN'!A15," ") | E7: =IF('2èm DAN'!J25="O",'2èm DAN'!A25," ") | G7: =IF('2èm DAN'!J35="O",'2èm DAN'!A35," ") | I7: =IF('2èm DAN'!J45="O",'2èm DAN'!A45," ")
A8: =IF('2èm DAN'!J6="O",'2èm DAN'!A6," ") | C8: =IF('2èm DAN'!J16="O",'2èm DAN'!A16," ") | E8: =IF('2èm DAN'!J26="O",'2èm DAN'!A26," ") | G8: =IF('2èm DAN'!J36="O",'2èm DAN'!A36," ") | I8: =IF('2èm DAN'!J46="O",'2èm DAN'!A46," ")
A9: =IF('2èm DAN'!J7="O",'2èm DAN'!A7," ") | C9: =IF('2èm DAN'!J17="O",'2èm DAN'!A17," ") | E9: =IF('2èm DAN'!J27="O",'2èm DAN'!A27," ") | G9: =IF('2èm DAN'!J37="O",'2èm DAN'!A37," ") | I9: =IF('2èm DAN'!J47="O",'2èm DAN'!A47," ")
A10: =IF('2èm DAN'!J8="O",'2èm DAN'!A8," ") | C10: =IF('2èm DAN'!J18="O",'2èm DAN'!A18," ") | E10: =IF('2èm DAN'!J28="O",'2èm DAN'!A28," ") | G10: =IF('2èm DAN'!J38="O",'2èm DAN'!A38," ") | I10: =IF('2èm DAN'!J48="O",'2èm DAN'!A48," ")
A11: =IF('2èm DAN'!J9="O",'2èm DAN'!A9," ") | C11: =IF('2èm DAN'!J19="O",'2èm DAN'!A19," ") | E11: =IF('2èm DAN'!J29="O",'2èm DAN'!A29," ") | G11: =IF('2èm DAN'!J39="O",'2èm DAN'!A39," ") | I11: =IF('2èm DAN'!J49="O",'2èm DAN'!A49," ")
A12: =IF('2èm DAN'!J10="O",'2èm DAN'!A10," ") | C12: =IF('2èm DAN'!J20="O",'2èm DAN'!A20," ") | E12: =IF('2èm DAN'!J30="O",'2èm DAN'!A30," ") | G12: =IF('2èm DAN'!J40="O",'2èm DAN'!A40," ") | I12: =IF('2èm DAN'!J50="O",'2èm DAN'!A50," ")
A13: =IF('2èm DAN'!J11="O",'2èm DAN'!A11," ") | C13: =IF('2èm DAN'!J21="O",'2èm DAN'!A21," ") | E13: =IF('2èm DAN'!J31="O",'2èm DAN'!A31," ") | G13: =IF('2èm DAN'!J41="O",'2èm DAN'!A41," ") | I13: =IF('2èm DAN'!J51="O",'2èm DAN'!A51," ")

Sheet 3èm DAN
A1: N° | B1: Nom | C1: Prénom | D1: CLUB | E1: Date de Naissance | F1: N° licence | G1: Date du grade précédent | H1: Validation de l'inscription | I1: Inscription | J1: Résultat | K1: Enreg. | M1: Jury 1 | N1: Jury 2 | O1: Jury 3 | P1: Jury 4 | Q1: Jury 5 | R1: Decision 1 | S1: Kata | T1: Decision 2 | V1: Nb de Jury | W1: Nb de Oui | X1: Nb de Non | Y1: Nb Indécis | AA1: (J+1)/2 | AB1: (J-1)/2
A2: 301 | H2: =IF(G2<>"",IF(YEAR(G2)+2<YEAR(Date_Passage),"OK",IF(AND(YEAR(G2)+2=YEAR(Date_Passage),MONTH(G2)<=MONTH(Date_Passage)),"OK","PAS LES DELAIS")),"") | I2: 35 | J2: =('3èm DAN'!T2) -> N | K2: 0 | M2: N | N2: N | O2: N | P2: N | Q2: N | R2: =IF(AND(W2>=AA2),"O",IF(AND(X2>=AA2),"N",IF(AND(W2=AB2,X2=AB2),"O",IF(AND(W2<=AB2,X2<=AB2),"I",IF(AND(W2=X2),"N"))))) -> N | S2: N | T2: =IF(S2="","",S2) -> N | V2: =COUNTA(M2:Q2) -> 5 | W2: =COUNTIF(M2:Q2,"O") -> 0 | X2: =COUNTIF(M2:Q2,"N") -> 5 | Y2: =COUNTIF(M2:Q2,"I") -> 0 | AA2: =(V2+1)/2 -> 3 | AB2: =(V2-1)/2 -> 2
A3: 302 | H3: =IF(G3<>"",IF(YEAR(G3)+2<YEAR(Date_Passage),"OK",IF(AND(YEAR(G3)+2=YEAR(Date_Passage),MONTH(G3)<=MONTH(Date_Passage)),"OK","PAS LES DELAIS")),"") | J3: =('3èm DAN'!T3) -> N | M3: N | N3: N | O3: N | P3: N | Q3: N | R3: =IF(AND(W3>=AA3),"O",IF(AND(X3>=AA3),"N",IF(AND(W3=AB3,X3=AB3),"O",IF(AND(W3<=AB3,X3<=AB3),"I",IF(AND(W3=X3),"N"))))) -> N | S3: N | T3: =IF(S3="","",S3) -> N | V3: =COUNTA(M3:Q3) -> 5 | W3: =COUNTIF(M3:Q3,"O") -> 0 | X3: =COUNTIF(M3:Q3,"N") -> 5 | Y3: =COUNTIF(M3:Q3,"I") -> 0 | AA3: =(V3+1)/2 -> 3 | AB3: =(V3-1)/2 -> 2
A4: 303 | H4: =IF(G4<>"",IF(YEAR(G4)+2<YEAR(Date_Passage),"OK",IF(AND(YEAR(G4)+2=YEAR(Date_Passage),MONTH(G4)<=MONTH(Date_Passage)),"OK","PAS LES DELAIS")),"") | J4: =('3èm DAN'!T4) -> N | M4: N | N4: N | O4: N | P4: N | Q4: N | R4: =IF(AND(W4>=AA4),"O",IF(AND(X4>=AA4),"N",IF(AND(W4=AB4,X4=AB4),"O",IF(AND(W4<=AB4,X4<=AB4),"I",IF(AND(W4=X4),"N"))))) -> N | S4: N | T4: =IF(S4="","",S4) -> N | V4: =COUNTA(M4:Q4) -> 5 | W4: =COUNTIF(M4:Q4,"O") -> 0 | X4: =COUNTIF(M4:Q4,"N") -> 5 | Y4: =COUNTIF(M4:Q4,"I") -> 0 | AA4: =(V4+1)/2 -> 3 | AB4: =(V4-1)/2 -> 2
A5: 304 | H5: =IF(G5<>"",IF(YEAR(G5)+2<YEAR(Date_Passage),"OK",IF(AND(YEAR(G5)+2=YEAR(Date_Passage),MONTH(G5)<=MONTH(Date_Passage)),"OK","PAS LES DELAIS")),"") | J5: =('3èm DAN'!T5) -> N | M5: N | N5: N | O5: N | P5: N | Q5: N | R5: =IF(AND(W5>=AA5),"O",IF(AND(X5>=AA5),"N",IF(AND(W5=AB5,X5=AB5),"O",IF(AND(W5<=AB5,X5<=AB5),"I",IF(AND(W5=X5),"N"))))) -> N | S5: N | T5: =IF(S5="","",S5) -> N | V5: =COUNTA(M5:Q5) -> 5 | W5: =COUNTIF(M5:Q5,"O") -> 0 | X5: =COUNTIF(M5:Q5,"N") -> 5 | Y5: =COUNTIF(M5:Q5,"I") -> 0 | AA5: =(V5+1)/2 -> 3 | AB5: =(V5-1)/2 -> 2
A6: 305 | H6: =IF(G6<>"",IF(YEAR(G6)+2<YEAR(Date_Passage),"OK",IF(AND(YEAR(G6)+2=YEAR(Date_Passage),MONTH(G6)<=MONTH(Date_Passage)),"OK","PAS LES DELAIS")),"") | J6: =('3èm DAN'!T6) -> N | M6: N | N6: N | O6: N | P6: N | Q6: N | R6: =IF(AND(W6>=AA6),"O",IF(AND(X6>=AA6),"N",IF(AND(W6=AB6,X6=AB6),"O",IF(AND(W6<=AB6,X6<=AB6),"I",IF(AND(W6=X6),"N"))))) -> N | S6: N | T6: =IF(S6="","",S6) -> N | V6: =COUNTA(M6:Q6) -> 5 | W6: =COUNTIF(M6:Q6,"O") -> 0 | X6: =COUNTIF(M6:Q6,"N") -> 5 | Y6: =COUNTIF(M6:Q6,"I") -> 0 | AA6: =(V6+1)/2 -> 3 | AB6: =(V6-1)/2 -> 2
A7: 306 | H7: =IF(G7<>"",IF(YEAR(G7)+2<YEAR(Date_Passage),"OK",IF(AND(YEAR(G7)+2=YEAR(Date_Passage),MONTH(G7)<=MONTH(Date_Passage)),"OK","PAS LES DELAIS")),"") | J7: =('3èm DAN'!T7) -> N | M7: N | N7: N | O7: N | P7: N | Q7: N | R7: =IF(AND(W7>=AA7),"O",IF(AND(X7>=AA7),"N",IF(AND(W7=AB7,X7=AB7),"O",IF(AND(W7<=AB7,X7<=AB7),"I",IF(AND(W7=X7),"N"))))) -> N | S7: N | T7: =IF(S7="","",S7) -> N | V7: =COUNTA(M7:Q7) -> 5 | W7: =COUNTIF(M7:Q7,"O") -> 0 | X7: =COUNTIF(M7:Q7,"N") -> 5 | Y7: =COUNTIF(M7:Q7,"I") -> 0 | AA7: =(V7+1)/2 -> 3 | AB7: =(V7-1)/2 -> 2
A8: 307 | H8: =IF(G8<>"",IF(YEAR(G8)+2<YEAR(Date_Passage),"OK",IF(AND(YEAR(G8)+2=YEAR(Date_Passage),MONTH(G8)<=MONTH(Date_Passage)),"OK","PAS LES DELAIS")),"") | J8: =('3èm DAN'!T8) -> N | M8: N | N8: N | O8: N | P8: N | Q8: N | R8: =IF(AND(W8>=AA8),"O",IF(AND(X8>=AA8),"N",IF(AND(W8=AB8,X8=AB8),"O",IF(AND(W8<=AB8,X8<=AB8),"I",IF(AND(W8=X8),"N"))))) -> N | S8: N | T8: =IF(S8="","",S8) -> N | V8: =COUNTA(M8:Q8) -> 5 | W8: =COUNTIF(M8:Q8,"O") -> 0 | X8: =COUNTIF(M8:Q8,"N") -> 5 | Y8: =COUNTIF(M8:Q8,"I") -> 0 | AA8: =(V8+1)/2 -> 3 | AB8: =(V8-1)/2 -> 2
A9: 308 | H9: =IF(G9<>"",IF(YEAR(G9)+2<YEAR(Date_Passage),"OK",IF(AND(YEAR(G9)+2=YEAR(Date_Passage),MONTH(G9)<=MONTH(Date_Passage)),"OK","PAS LES DELAIS")),"") | J9: =('3èm DAN'!T9) -> N | M9: N | N9: N | O9: N | P9: N | Q9: N | R9: =IF(AND(W9>=AA9),"O",IF(AND(X9>=AA9),"N",IF(AND(W9=AB9,X9=AB9),"O",IF(AND(W9<=AB9,X9<=AB9),"I",IF(AND(W9=X9),"N"))))) -> N | S9: N | T9: =IF(S9="","",S9) -> N | V9: =COUNTA(M9:Q9) -> 5 | W9: =COUNTIF(M9:Q9,"O") -> 0 | X9: =COUNTIF(M9:Q9,"N") -> 5 | Y9: =COUNTIF(M9:Q9,"I") -> 0 | AA9: =(V9+1)/2 -> 3 | AB9: =(V9-1)/2 -> 2
A10: 309 | H10: =IF(G10<>"",IF(YEAR(G10)+2<YEAR(Date_Passage),"OK",IF(AND(YEAR(G10)+2=YEAR(Date_Passage),MONTH(G10)<=MONTH(Date_Passage)),"OK","PAS LES DELAIS")),"") | J10: =('3èm DAN'!T10) -> N | M10: N | N10: N | O10: N | P10: N | Q10: N | R10: =IF(AND(W10>=AA10),"O",IF(AND(X10>=AA10),"N",IF(AND(W10=AB10,X10=AB10),"O",IF(AND(W10<=AB10,X10<=AB10),"I",IF(AND(W10=X10),"N"))))) -> N | S10: N | T10: =IF(S10="","",S10) -> N | V10: =COUNTA(M10:Q10) -> 5 | W10: =COUNTIF(M10:Q10,"O") -> 0 | X10: =COUNTIF(M10:Q10,"N") -> 5 | Y10: =COUNTIF(M10:Q10,"I") -> 0 | AA10: =(V10+1)/2 -> 3 | AB10: =(V10-1)/2 -> 2
A11: 310 | H11: =IF(G11<>"",IF(YEAR(G11)+2<YEAR(Date_Passage),"OK",IF(AND(YEAR(G11)+2=YEAR(Date_Passage),MONTH(G11)<=MONTH(Date_Passage)),"OK","PAS LES DELAIS")),"") | J11: =('3èm DAN'!T11) -> N | M11: N | N11: N | O11: N | P11: N | Q11: N | R11: =IF(AND(W11>=AA11),"O",IF(AND(X11>=AA11),"N",IF(AND(W11=AB11,X11=AB11),"O",IF(AND(W11<=AB11,X11<=AB11),"I",IF(AND(W11=X11),"N"))))) -> N | S11: N | T11: =IF(S11="","",S11) -> N | V11: =COUNTA(M11:Q11) -> 5 | W11: =COUNTIF(M11:Q11,"O") -> 0 | X11: =COUNTIF(M11:Q11,"N") -> 5 | Y11: =COUNTIF(M11:Q11,"I") -> 0 | AA11: =(V11+1)/2 -> 3 | AB11: =(V11-1)/2 -> 2
A12: 311 | H12: =IF(G12<>"",IF(YEAR(G12)+2<YEAR(Date_Passage),"OK",IF(AND(YEAR(G12)+2=YEAR(Date_Passage),MONTH(G12)<=MONTH(Date_Passage)),"OK","PAS LES DELAIS")),"") | J12: =('3èm DAN'!T12) -> N | M12: N | N12: N | O12: N | P12: N | Q12: N | R12: =IF(AND(W12>=AA12),"O",IF(AND(X12>=AA12),"N",IF(AND(W12=AB12,X12=AB12),"O",IF(AND(W12<=AB12,X12<=AB12),"I",IF(AND(W12=X12),"N"))))) -> N | S12: N | T12: =IF(S12="","",S12) -> N | V12: =COUNTA(M12:Q12) -> 5 | W12: =COUNTIF(M12:Q12,"O") -> 0 | X12: =COUNTIF(M12:Q12,"N") -> 5 | Y12: =COUNTIF(M12:Q12,"I") -> 0 | AA12: =(V12+1)/2 -> 3 | AB12: =(V12-1)/2 -> 2
A13: 312 | H13: =IF(G13<>"",IF(YEAR(G13)+2<YEAR(Date_Passage),"OK",IF(AND(YEAR(G13)+2=YEAR(Date_Passage),MONTH(G13)<=MONTH(Date_Passage)),"OK","PAS LES DELAIS")),"") | J13: =('3èm DAN'!T13) -> N | M13: N | N13: N | O13: N | P13: N | Q13: N | R13: =IF(AND(W13>=AA13),"O",IF(AND(X13>=AA13),"N",IF(AND(W13=AB13,X13=AB13),"O",IF(AND(W13<=AB13,X13<=AB13),"I",IF(AND(W13=X13),"N"))))) -> N | S13: N | T13: =IF(S13="","",S13) -> N | V13: =COUNTA(M13:Q13) -> 5 | W13: =COUNTIF(M13:Q13,"O") -> 0 | X13: =COUNTIF(M13:Q13,"N") -> 5 | Y13: =COUNTIF(M13:Q13,"I") -> 0 | AA13: =(V13+1)/2 -> 3 | AB13: =(V13-1)/2 -> 2
A14: 313 | H14: =IF(G14<>"",IF(YEAR(G14)+2<YEAR(Date_Passage),"OK",IF(AND(YEAR(G14)+2=YEAR(Date_Passage),MONTH(G14)<=MONTH(Date_Passage)),"OK","PAS LES DELAIS")),"") | J14: =('3èm DAN'!T14) -> N | M14: N | N14: N | O14: N | P14: N | Q14: N | R14: =IF(AND(W14>=AA14),"O",IF(AND(X14>=AA14),"N",IF(AND(W14=AB14,X14=AB14),"O",IF(AND(W14<=AB14,X14<=AB14),"I",IF(AND(W14=X14),"N"))))) -> N | S14: N | T14: =IF(S14="","",S14) -> N | V14: =COUNTA(M14:Q14) -> 5 | W14: =COUNTIF(M14:Q14,"O") -> 0 | X14: =COUNTIF(M14:Q14,"N") -> 5 | Y14: =COUNTIF(M14:Q14,"I") -> 0 | AA14: =(V14+1)/2 -> 3 | AB14: =(V14-1)/2 -> 2
... A51: 350 | H51: =IF(G51<>"",IF(YEAR(G51)+2<YEAR(Date_Passage),"OK",IF(AND(YEAR(G51)+2=YEAR(Date_Passage),MONTH(G51)<=MONTH(Date_Passage)),"OK","PAS LES DELAIS")),"") | J51: =('3èm DAN'!T51) -> N | M51: N | N51: N | O51: N | P51: N | Q51: N | R51: =IF(AND(W51>=AA51),"O",IF(AND(X51>=AA51),"N",IF(AND(W51=AB51,X51=AB51),"O",IF(AND(W51<=AB51,X51<=AB51),"I",IF(AND(W51=X51),"N"))))) -> N | S51: N | T51: =IF(S51="","",S51) -> N | V51: =COUNTA(M51:Q51) -> 5 | W51: =COUNTIF(M51:Q51,"O") -> 0 | X51: =COUNTIF(M51:Q51,"N") -> 5 | Y51: =COUNTIF(M51:Q51,"I") -> 0 | AA51: =(V51+1)/2 -> 3 | AB51: =(V51-1)/2 -> 2
I52: =SUM(I2:I51) -> 35 | J52: =COUNTIF(J2:J51,"O") -> 0 | K52: =SUM(K2:K51) -> 0

Sheet Fiche jury 3D
A7: PASSAGE DE GRADES DU : | E7: =IF(Bilan!B2="","",Bilan!B2) | H7: - | I7: =IF(Bilan!D2="","",Bilan!D2)
A9: Nom du Juré :
A11: N° | B11: Age | C11: Kirigaeshi | D11: Keiko 1 | E11: Keiko 2 | F11: Décision 1 | G11: Kata | H11: Décision 2 | I11: Observations
A12: 301 | B12: =IF('3èm DAN'!E2="","",INT((TODAY()-'3èm DAN'!E2)/365))
A13: 302 | B13: =IF('3èm DAN'!E3="","",INT((TODAY()-'3èm DAN'!E3)/365))
A14: 303 | B14: =IF('3èm DAN'!E4="","",INT((TODAY()-'3èm DAN'!E4)/365))
A15: 304 | B15: =IF('3èm DAN'!E5="","",INT((TODAY()-'3èm DAN'!E5)/365))
A16: 305 | B16: =IF('3èm DAN'!E6="","",INT((TODAY()-'3èm DAN'!E6)/365))
A17: 306 | B17: =IF('3èm DAN'!E7="","",INT((TODAY()-'3èm DAN'!E7)/365))
A18: 307 | B18: =IF('3èm DAN'!E8="","",INT((TODAY()-'3èm DAN'!E8)/365))
A19: 308 | B19: =IF('3èm DAN'!E9="","",INT((TODAY()-'3èm DAN'!E9)/365))
A20: 309 | B20: =IF('3èm DAN'!E10="","",INT((TODAY()-'3èm DAN'!E10)/365))
A21: 310 | B21: =IF('3èm DAN'!E11="","",INT((TODAY()-'3èm DAN'!E11)/365))
A22: 311 | B22: =IF('3èm DAN'!E12="","",INT((TODAY()-'3èm DAN'!E12)/365))
A23: 312 | B23: =IF('3èm DAN'!E13="","",INT((TODAY()-'3èm DAN'!E13)/365))
... A41: 330 | B41: =IF('3èm DAN'!E31="","",INT((TODAY()-'3èm DAN'!E31)/365))
A45: SIGNATURE
F48: CNK.FFJDA - INJ. 21,25 Avenue de la Porte de Châtillon 75680 PARIS Cedex 14

Sheet Résultat 3èm D
A2: PASSAGE DE GRADES DU : | C2: =IF(Bilan!B2="","",Bilan!B2) | E2: =IF(Bilan!D2="","",Bilan!D2) | G2: PASSAGE DE GRADES DU : | I2: =IF(Bilan!B2="","",Bilan!B2) | K2: =IF(Bilan!D2="","",Bilan!D2)
A4: =IF('3èm DAN'!J2="O",'3èm DAN'!A2," ") | C4: =IF('3èm DAN'!J12="O",'3èm DAN'!A12," ") | E4: =IF('3èm DAN'!J22="O",'3èm DAN'!A22," ") | G4: =IF('3èm DAN'!J32="O",'3èm DAN'!A32," ") | I4: =IF('3èm DAN'!J42="O",'3èm DAN'!A42," ")
A5: =IF('3èm DAN'!J3="O",'3èm DAN'!A3," ") | C5: =IF('3èm DAN'!J13="O",'3èm DAN'!A13," ") | E5: =IF('3èm DAN'!J23="O",'3èm DAN'!A23," ") | G5: =IF('3èm DAN'!J33="O",'3èm DAN'!A33," ") | I5: =IF('3èm DAN'!J43="O",'3èm DAN'!A43," ")
A6: =IF('3èm DAN'!J4="O",'3èm DAN'!A4," ") | C6: =IF('3èm DAN'!J14="O",'3èm DAN'!A14," ") | E6: =IF('3èm DAN'!J24="O",'3èm DAN'!A24," ") | G6: =IF('3èm DAN'!J34="O",'3èm DAN'!A34," ") | I6: =IF('3èm DAN'!J44="O",'3èm DAN'!A44," ")
A7: =IF('3èm DAN'!J5="O",'3èm DAN'!A5," ") | C7: =IF('3èm DAN'!J15="O",'3èm DAN'!A15," ") | E7: =IF('3èm DAN'!J25="O",'3èm DAN'!A25," ") | G7: =IF('3èm DAN'!J35="O",'3èm DAN'!A35," ") | I7: =IF('3èm DAN'!J45="O",'3èm DAN'!A45," ")
A8: =IF('3èm DAN'!J6="O",'3èm DAN'!A6," ") | C8: =IF('3èm DAN'!J16="O",'3èm DAN'!A16," ") | E8: =IF('3èm DAN'!J26="O",'3èm DAN'!A26," ") | G8: =IF('3èm DAN'!J36="O",'3èm DAN'!A36," ") | I8: =IF('3èm DAN'!J46="O",'3èm DAN'!A46," ")
A9: =IF('3èm DAN'!J7="O",'3èm DAN'!A7," ") | C9: =IF('3èm DAN'!J17="O",'3èm DAN'!A17," ") | E9: =IF('3èm DAN'!J27="O",'3èm DAN'!A27," ") | G9: =IF('3èm DAN'!J37="O",'3èm DAN'!A37," ") | I9: =IF('3èm DAN'!J47="O",'3èm DAN'!A47," ")
A10: =IF('3èm DAN'!J8="O",'3èm DAN'!A8," ") | C10: =IF('3èm DAN'!J18="O",'3èm DAN'!A18," ") | E10: =IF('3èm DAN'!J28="O",'3èm DAN'!A28," ") | G10: =IF('3èm DAN'!J38="O",'3èm DAN'!A38," ") | I10: =IF('3èm DAN'!J48="O",'3èm DAN'!A48," ")
A11: =IF('3èm DAN'!J9="O",'3èm DAN'!A9," ") | C11: =IF('3èm DAN'!J19="O",'3èm DAN'!A19," ") | E11: =IF('3èm DAN'!J29="O",'3èm DAN'!A29," ") | G11: =IF('3èm DAN'!J39="O",'3èm DAN'!A39," ") | I11: =IF('3èm DAN'!J49="O",'3èm DAN'!A49," ")
A12: =IF('3èm DAN'!J10="O",'3èm DAN'!A10," ") | C12: =IF('3èm DAN'!J20="O",'3èm DAN'!A20," ") | E12: =IF('3èm DAN'!J30="O",'3èm DAN'!A30," ") | G12: =IF('3èm DAN'!J40="O",'3èm DAN'!A40," ") | I12: =IF('3èm DAN'!J50="O",'3èm DAN'!A50," ")
A13: =IF('3èm DAN'!J11="O",'3èm DAN'!A11," ") | C13: =IF('3èm DAN'!J21="O",'3èm DAN'!A21," ") | E13: =IF('3èm DAN'!J31="O",'3èm DAN'!A31," ") | G13: =IF('3èm DAN'!J41="O",'3èm DAN'!A41," ") | I13: =IF('3èm DAN'!J51="O",'3èm DAN'!A51," ")

Sheet 4èm DAN
A1: N° | B1: Nom | C1: Prénom | D1: CLUB | E1: Date de Naissance | F1: N° licence | G1: Date du grade précédent | H1: Validation de l'inscription | I1: Inscription | J1: Résultat | K1: Enreg. | M1: Jury 1 | N1: Jury 2 | O1: Jury 3 | P1: Jury 4 | Q1: Jury 5 | R1: Jury 6 | S1: Decision 1 | T1: Kata | U1: Decision 2 | W1: Nb de Jury | X1: Nb de Oui | Y1: Nb de Non | Z1: Nb Indécis | AB1: (J+1)/2 | AC1: (J-1)/2
A2: 401 | H2: =IF(G2<>"",IF(YEAR(G2)+3<YEAR(Date_Passage),"OK",IF(AND(YEAR(G2)+3=YEAR(Date_Passage),MONTH(G2)<=MONTH(Date_Passage)),"OK","PAS LES DELAIS")),"") | I2: 45 | J2: =(U2) -> N | K2: 0 | M2: N | N2: N | O2: N | P2: N | Q2: N | R2: N | S2: =IF(AND(X2>=4),"O",IF(AND(Y2>=3),"N",IF(AND(X2=3,Y2=2),"O",IF(AND(X2<=4,Y2<=3),"I")))) -> N | T2: N | U2: =IF(T2="","",T2) -> N | W2: =COUNTA(M2:R2) -> 6 | X2: =COUNTIF(M2:R2,"O") -> 0 | Y2: =COUNTIF(M2:R2,"N") -> 6 | Z2: =COUNTIF(M2:R2,"I") -> 0 | AB2: =(W2+1)/2 -> 3.5 | AC2: =(W2-1)/2 -> 2.5
A3: 402 | H3: =IF(G3<>"",IF(YEAR(G3)+3<YEAR(Date_Passage),"OK",IF(AND(YEAR(G3)+3=YEAR(Date_Passage),MONTH(G3)<=MONTH(Date_Passage)),"OK","PAS LES DELAIS")),"") | J3: =(U3) -> N | M3: N | N3: N | O3: N | P3: N | Q3: N | R3: N | S3: =IF(AND(X3>=4),"O",IF(AND(Y3>=3),"N",IF(AND(X3=3,Y3=2),"O",IF(AND(X3<=4,Y3<=3),"I")))) -> N | T3: N | U3: =IF(T3="","",T3) -> N | W3: =COUNTA(M3:R3) -> 6 | X3: =COUNTIF(M3:R3,"O") -> 0 | Y3: =COUNTIF(M3:R3,"N") -> 6 | Z3: =COUNTIF(M3:R3,"I") -> 0 | AB3: =(W3+1)/2 -> 3.5 | AC3: =(W3-1)/2 -> 2.5
A4: 403 | H4: =IF(G4<>"",IF(YEAR(G4)+3<YEAR(Date_Passage),"OK",IF(AND(YEAR(G4)+3=YEAR(Date_Passage),MONTH(G4)<=MONTH(Date_Passage)),"OK","PAS LES DELAIS")),"") | J4: =(U4) -> N | M4: N | N4: N | O4: N | P4: N | Q4: N | R4: N | S4: =IF(AND(X4>=4),"O",IF(AND(Y4>=3),"N",IF(AND(X4=3,Y4=2),"O",IF(AND(X4<=4,Y4<=3),"I")))) -> N | T4: N | U4: =IF(T4="","",T4) -> N | W4: =COUNTA(M4:R4) -> 6 | X4: =COUNTIF(M4:R4,"O") -> 0 | Y4: =COUNTIF(M4:R4,"N") -> 6 | Z4: =COUNTIF(M4:R4,"I") -> 0 | AB4: =(W4+1)/2 -> 3.5 | AC4: =(W4-1)/2 -> 2.5
A5: 404 | H5: =IF(G5<>"",IF(YEAR(G5)+3<YEAR(Date_Passage),"OK",IF(AND(YEAR(G5)+3=YEAR(Date_Passage),MONTH(G5)<=MONTH(Date_Passage)),"OK","PAS LES DELAIS")),"") | J5: =(U5) -> N | M5: N | N5: N | O5: N | P5: N | Q5: N | R5: N | S5: =IF(AND(X5>=4),"O",IF(AND(Y5>=3),"N",IF(AND(X5=3,Y5=2),"O",IF(AND(X5<=4,Y5<=3),"I")))) -> N | T5: N | U5: =IF(T5="","",T5) -> N | W5: =COUNTA(M5:R5) -> 6 | X5: =COUNTIF(M5:R5,"O") -> 0 | Y5: =COUNTIF(M5:R5,"N") -> 6 | Z5: =COUNTIF(M5:R5,"I") -> 0 | AB5: =(W5+1)/2 -> 3.5 | AC5: =(W5-1)/2 -> 2.5
A6: 405 | H6: =IF(G6<>"",IF(YEAR(G6)+3<YEAR(Date_Passage),"OK",IF(AND(YEAR(G6)+3=YEAR(Date_Passage),MONTH(G6)<=MONTH(Date_Passage)),"OK","PAS LES DELAIS")),"") | J6: =(U6) -> N | M6: N | N6: N | O6: N | P6: N | Q6: N | R6: N | S6: =IF(AND(X6>=4),"O",IF(AND(Y6>=3),"N",IF(AND(X6=3,Y6=2),"O",IF(AND(X6<=4,Y6<=3),"I")))) -> N | T6: N | U6: =IF(T6="","",T6) -> N | W6: =COUNTA(M6:R6) -> 6 | X6: =COUNTIF(M6:R6,"O") -> 0 | Y6: =COUNTIF(M6:R6,"N") -> 6 | Z6: =COUNTIF(M6:R6,"I") -> 0 | AB6: =(W6+1)/2 -> 3.5 | AC6: =(W6-1)/2 -> 2.5
A7: 406 | H7: =IF(G7<>"",IF(YEAR(G7)+3<YEAR(Date_Passage),"OK",IF(AND(YEAR(G7)+3=YEAR(Date_Passage),MONTH(G7)<=MONTH(Date_Passage)),"OK","PAS LES DELAIS")),"") | J7: =(U7) -> N | M7: N | N7: N | O7: N | P7: N | Q7: N | R7: N | S7: =IF(AND(X7>=4),"O",IF(AND(Y7>=3),"N",IF(AND(X7=3,Y7=2),"O",IF(AND(X7<=4,Y7<=3),"I")))) -> N | T7: N | U7: =IF(T7="","",T7) -> N | W7: =COUNTA(M7:R7) -> 6 | X7: =COUNTIF(M7:R7,"O") -> 0 | Y7: =COUNTIF(M7:R7,"N") -> 6 | Z7: =COUNTIF(M7:R7,"I") -> 0 | AB7: =(W7+1)/2 -> 3.5 | AC7: =(W7-1)/2 -> 2.5
A8: 407 | H8: =IF(G8<>"",IF(YEAR(G8)+3<YEAR(Date_Passage),"OK",IF(AND(YEAR(G8)+3=YEAR(Date_Passage),MONTH(G8)<=MONTH(Date_Passage)),"OK","PAS LES DELAIS")),"") | J8: =(U8) -> N | M8: N | N8: N | O8: N | P8: N | Q8: N | R8: N | S8: =IF(AND(X8>=4),"O",IF(AND(Y8>=3),"N",IF(AND(X8=3,Y8=2),"O",IF(AND(X8<=4,Y8<=3),"I")))) -> N | T8: N | U8: =IF(T8="","",T8) -> N | W8: =COUNTA(M8:R8) -> 6 | X8: =COUNTIF(M8:R8,"O") -> 0 | Y8: =COUNTIF(M8:R8,"N") -> 6 | Z8: =COUNTIF(M8:R8,"I") -> 0 | AB8: =(W8+1)/2 -> 3.5 | AC8: =(W8-1)/2 -> 2.5
A9: 408 | H9: =IF(G9<>"",IF(YEAR(G9)+3<YEAR(Date_Passage),"OK",IF(AND(YEAR(G9)+3=YEAR(Date_Passage),MONTH(G9)<=MONTH(Date_Passage)),"OK","PAS LES DELAIS")),"") | J9: =(U9) -> N | M9: N | N9: N | O9: N | P9: N | Q9: N | R9: N | S9: =IF(AND(X9>=4),"O",IF(AND(Y9>=3),"N",IF(AND(X9=3,Y9=2),"O",IF(AND(X9<=4,Y9<=3),"I")))) -> N | T9: N | U9: =IF(T9="","",T9) -> N | W9: =COUNTA(M9:R9) -> 6 | X9: =COUNTIF(M9:R9,"O") -> 0 | Y9: =COUNTIF(M9:R9,"N") -> 6 | Z9: =COUNTIF(M9:R9,"I") -> 0 | AB9: =(W9+1)/2 -> 3.5 | AC9: =(W9-1)/2 -> 2.5
A10: 409 | H10: =IF(G10<>"",IF(YEAR(G10)+3<YEAR(Date_Passage),"OK",IF(AND(YEAR(G10)+3=YEAR(Date_Passage),MONTH(G10)<=MONTH(Date_Passage)),"OK","PAS LES DELAIS")),"") | J10: =(U10) -> N | M10: N | N10: N | O10: N | P10: N | Q10: N | R10: N | S10: =IF(AND(X10>=4),"O",IF(AND(Y10>=3),"N",IF(AND(X10=3,Y10=2),"O",IF(AND(X10<=4,Y10<=3),"I")))) -> N | T10: N | U10: =IF(T10="","",T10) -> N | W10: =COUNTA(M10:R10) -> 6 | X10: =COUNTIF(M10:R10,"O") -> 0 | Y10: =COUNTIF(M10:R10,"N") -> 6 | Z10: =COUNTIF(M10:R10,"I") -> 0 | AB10: =(W10+1)/2 -> 3.5 | AC10: =(W10-1)/2 -> 2.5
A11: 410 | H11: =IF(G11<>"",IF(YEAR(G11)+3<YEAR(Date_Passage),"OK",IF(AND(YEAR(G11)+3=YEAR(Date_Passage),MONTH(G11)<=MONTH(Date_Passage)),"OK","PAS LES DELAIS")),"") | J11: =(U11) -> N | M11: N | N11: N | O11: N | P11: N | Q11: N | R11: N | S11: =IF(AND(X11>=4),"O",IF(AND(Y11>=3),"N",IF(AND(X11=3,Y11=2),"O",IF(AND(X11<=4,Y11<=3),"I")))) -> N | T11: N | U11: =IF(T11="","",T11) -> N | W11: =COUNTA(M11:R11) -> 6 | X11: =COUNTIF(M11:R11,"O") -> 0 | Y11: =COUNTIF(M11:R11,"N") -> 6 | Z11: =COUNTIF(M11:R11,"I") -> 0 | AB11: =(W11+1)/2 -> 3.5 | AC11: =(W11-1)/2 -> 2.5
A12: 411 | H12: =IF(G12<>"",IF(YEAR(G12)+3<YEAR(Date_Passage),"OK",IF(AND(YEAR(G12)+3=YEAR(Date_Passage),MONTH(G12)<=MONTH(Date_Passage)),"OK","PAS LES DELAIS")),"") | J12: =(U12) -> N | M12: N | N12: N | O12: N | P12: N | Q12: N | R12: N | S12: =IF(AND(X12>=4),"O",IF(AND(Y12>=3),"N",IF(AND(X12=3,Y12=2),"O",IF(AND(X12<=4,Y12<=3),"I")))) -> N | T12: N | U12: =IF(T12="","",T12) -> N | W12: =COUNTA(M12:R12) -> 6 | X12: =COUNTIF(M12:R12,"O") -> 0 | Y12: =COUNTIF(M12:R12,"N") -> 6 | Z12: =COUNTIF(M12:R12,"I") -> 0 | AB12: =(W12+1)/2 -> 3.5 | AC12: =(W12-1)/2 -> 2.5
A13: 412 | H13: =IF(G13<>"",IF(YEAR(G13)+3<YEAR(Date_Passage),"OK",IF(AND(YEAR(G13)+3=YEAR(Date_Passage),MONTH(G13)<=MONTH(Date_Passage)),"OK","PAS LES DELAIS")),"") | J13: =(U13) -> N | M13: N | N13: N | O13: N | P13: N | Q13: N | R13: N | S13: =IF(AND(X13>=4),"O",IF(AND(Y13>=3),"N",IF(AND(X13=3,Y13=2),"O",IF(AND(X13<=4,Y13<=3),"I")))) -> N | T13: N | U13: =IF(T13="","",T13) -> N | W13: =COUNTA(M13:R13) -> 6 | X13: =COUNTIF(M13:R13,"O") -> 0 | Y13: =COUNTIF(M13:R13,"N") -> 6 | Z13: =COUNTIF(M13:R13,"I") -> 0 | AB13: =(W13+1)/2 -> 3.5 | AC13: =(W13-1)/2 -> 2.5
A14: 413 | H14: =IF(G14<>"",IF(YEAR(G14)+3<YEAR(Date_Passage),"OK",IF(AND(YEAR(G14)+3=YEAR(Date_Passage),MONTH(G14)<=MONTH(Date_Passage)),"OK","PAS LES DELAIS")),"") | J14: =(U14) -> N | M14: N | N14: N | O14: N | P14: N | Q14: N | R14: N | S14: =IF(AND(X14>=4),"O",IF(AND(Y14>=3),"N",IF(AND(X14=3,Y14=2),"O",IF(AND(X14<=4,Y14<=3),"I")))) -> N | T14: N | U14: =IF(T14="","",T14) -> N | W14: =COUNTA(M14:R14) -> 6 | X14: =COUNTIF(M14:R14,"O") -> 0 | Y14: =COUNTIF(M14:R14,"N") -> 6 | Z14: =COUNTIF(M14:R14,"I") -> 0 | AB14: =(W14+1)/2 -> 3.5 | AC14: =(W14-1)/2 -> 2.5
... A51: 450 | H51: =IF(G51<>"",IF(YEAR(G51)+3<YEAR(Date_Passage),"OK",IF(AND(YEAR(G51)+3=YEAR(Date_Passage),MONTH(G51)<=MONTH(Date_Passage)),"OK","PAS LES DELAIS")),"") | J51: =(U51) -> N | M51: N | N51: N | O51: N | P51: N | Q51: N | R51: N | S51: =IF(AND(X51>=4),"O",IF(AND(Y51>=3),"N",IF(AND(X51=3,Y51=2),"O",IF(AND(X51<=4,Y51<=3),"I")))) -> N | T51: N | U51: =IF(T51="","",T51) -> N | W51: =COUNTA(M51:R51) -> 6 | X51: =COUNTIF(M51:R51,"O") -> 0 | Y51: =COUNTIF(M51:R51,"N") -> 6 | Z51: =COUNTIF(M51:R51,"I") -> 0 | AB51: =(W51+1)/2 -> 3.5 | AC51: =(W51-1)/2 -> 2.5
I52: =SUM(I2:I51) -> 45 | J52: =COUNTIF(J2:J51,"O") -> 0 | K52: =SUM(K2:K51) -> 0

Sheet Fiche jury 4D
A7: PASSAGE DE GRADES DU : | E7: =IF(Bilan!B2="","",Bilan!B2) | H7: - | I7: =IF(Bilan!D2="","",Bilan!D2)
A9: Nom du Juré :
A11: N° | B11: Age | C11: Kirigaeshi | D11: Keiko 1 | E11: Keiko 2 | F11: Décision 1 | G11: Kata | H11: Décision 2 | I11: Observations
A12: 401 | B12: =IF('4èm DAN'!E2="","",INT((TODAY()-'4èm DAN'!E2)/365))
A13: 402 | B13: =IF('4èm DAN'!E3="","",INT((TODAY()-'4èm DAN'!E3)/365))
A14: 403 | B14: =IF('4èm DAN'!E4="","",INT((TODAY()-'4èm DAN'!E4)/365))
A15: 404 | B15: =IF('4èm DAN'!E5="","",INT((TODAY()-'4èm DAN'!E5)/365))
A16: 405 | B16: =IF('4èm DAN'!E6="","",INT((TODAY()-'4èm DAN'!E6)/365))
A17: 406 | B17: =IF('4èm DAN'!E7="","",INT((TODAY()-'4èm DAN'!E7)/365))
A18: 407 | B18: =IF('4èm DAN'!E8="","",INT((TODAY()-'4èm DAN'!E8)/365))
A19: 408 | B19: =IF('4èm DAN'!E9="","",INT((TODAY()-'4èm DAN'!E9)/365))
A20: 409 | B20: =IF('4èm DAN'!E10="","",INT((TODAY()-'4èm DAN'!E10)/365))
A21: 410 | B21: =IF('4èm DAN'!E11="","",INT((TODAY()-'4èm DAN'!E11)/365))
A22: 411 | B22: =IF('4èm DAN'!E12="","",INT((TODAY()-'4èm DAN'!E12)/365))
A23: 412 | B23: =IF('4èm DAN'!E13="","",INT((TODAY()-'4èm DAN'!E13)/365))
... A41: 430 | B41: =IF('4èm DAN'!E31="","",INT((TODAY()-'4èm DAN'!E31)/365))
A45: SIGNATURE
F48: CNK.FFJDA - INJ. 21,25 Avenue de la Porte de Châtillon 75680 PARIS Cedex 14

Sheet Résultat 4èm DAN
A2: PASSAGE DE GRADES DU : | C2: =IF(Bilan!B2="","",Bilan!B2) | E2: =IF(Bilan!D2="","",Bilan!D2) | G2: PASSAGE DE GRADES DU : | I2: =IF(Bilan!B2="","",Bilan!B2) | K2: =IF(Bilan!D2="","",Bilan!D2)
A4: =IF('4èm DAN'!J2="O",'4èm DAN'!A2," ") | C4: =IF('4èm DAN'!J12="O",'4èm DAN'!A12," ") | E4: =IF('4èm DAN'!J22="O",'4èm DAN'!A22," ") | G4: =IF('4èm DAN'!J32="O",'4èm DAN'!A32," ") | I4: =IF('4èm DAN'!J42="O",'4èm DAN'!A42," ")
A5: =IF('4èm DAN'!J3="O",'4èm DAN'!A3," ") | C5: =IF('4èm DAN'!J13="O",'4èm DAN'!A13," ") | E5: =IF('4èm DAN'!J23="O",'4èm DAN'!A23," ") | G5: =IF('4èm DAN'!J33="O",'4èm DAN'!A33," ") | I5: =IF('4èm DAN'!J43="O",'4èm DAN'!A43," ")
A6: =IF('4èm DAN'!J4="O",'4èm DAN'!A4," ") | C6: =IF('4èm DAN'!J14="O",'4èm DAN'!A14," ") | E6: =IF('4èm DAN'!J24="O",'4èm DAN'!A24," ") | G6: =IF('4èm DAN'!J34="O",'4èm DAN'!A34," ") | I6: =IF('4èm DAN'!J44="O",'4èm DAN'!A44," ")
A7: =IF('4èm DAN'!J5="O",'4èm DAN'!A5," ") | C7: =IF('4èm DAN'!J15="O",'4èm DAN'!A15," ") | E7: =IF('4èm DAN'!J25="O",'4èm DAN'!A25," ") | G7: =IF('4èm DAN'!J35="O",'4èm DAN'!A35," ") | I7: =IF('4èm DAN'!J45="O",'4èm DAN'!A45," ")
A8: =IF('4èm DAN'!J6="O",'4èm DAN'!A6," ") | C8: =IF('4èm DAN'!J16="O",'4èm DAN'!A16," ") | E8: =IF('4èm DAN'!J26="O",'4èm DAN'!A26," ") | G8: =IF('4èm DAN'!J36="O",'4èm DAN'!A36," ") | I8: =IF('4èm DAN'!J46="O",'4èm DAN'!A46," ")
A9: =IF('4èm DAN'!J7="O",'4èm DAN'!A7," ") | C9: =IF('4èm DAN'!J17="O",'4èm DAN'!A17," ") | E9: =IF('4èm DAN'!J27="O",'4èm DAN'!A27," ") | G9: =IF('4èm DAN'!J37="O",'4èm DAN'!A37," ") | I9: =IF('4èm DAN'!J47="O",'4èm DAN'!A47," ")
A10: =IF('4èm DAN'!J8="O",'4èm DAN'!A8," ") | C10: =IF('4èm DAN'!J18="O",'4èm DAN'!A18," ") | E10: =IF('4èm DAN'!J28="O",'4èm DAN'!A28," ") | G10: =IF('4èm DAN'!J38="O",'4èm DAN'!A38," ") | I10: =IF('4èm DAN'!J48="O",'4èm DAN'!A48," ")
A11: =IF('4èm DAN'!J9="O",'4èm DAN'!A9," ") | C11: =IF('4èm DAN'!J19="O",'4èm DAN'!A19," ") | E11: =IF('4èm DAN'!J29="O",'4èm DAN'!A29," ") | G11: =IF('4èm DAN'!J39="O",'4èm DAN'!A39," ") | I11: =IF('4èm DAN'!J49="O",'4èm DAN'!A49," ")
A12: =IF('4èm DAN'!J10="O",'4èm DAN'!A10," ") | C12: =IF('4èm DAN'!J20="O",'4èm DAN'!A20," ") | E12: =IF('4èm DAN'!J30="O",'4èm DAN'!A30," ") | G12: =IF('4èm DAN'!J40="O",'4èm DAN'!A40," ") | I12: =IF('4èm DAN'!J50="O",'4èm DAN'!A50," ")
A13: =IF('4èm DAN'!J11="O",'4èm DAN'!A11," ") | C13: =IF('4èm DAN'!J21="O",'4èm DAN'!A21," ") | E13: =IF('4èm DAN'!J31="O",'4èm DAN'!A31," ") | G13: =IF('4èm DAN'!J41="O",'4èm DAN'!A41," ") | I13: =IF('4èm DAN'!J51="O",'4èm DAN'!A51," ")

Sheet 5èm DAN
A1: N° | B1: Nom | C1: Prénom | D1: CLUB | E1: Date de Naissance | F1: N° licence | G1: Date du grade précédent | H1: Validation de l'inscription | I1: Inscription | J1: Résultat | K1: Enreg. | M1: Jury 1 | N1: Jury 2 | O1: Jury 3 | P1: Jury 4 | Q1: Jury 5 | R1: Jury 6 | S1: Decision 1 | T1: Kata | U1: Decision 2 | W1: Nb de Jury | X1: Nb de Oui | Y1: Nb de Non | Z1: Nb Indécis | AB1: (J+1)/2 | AC1: (J-1)/2
A2: 501 | H2: =IF(G2<>"",IF(YEAR(G2)+4<YEAR(Date_Passage),"OK",IF(AND(YEAR(G2)+4=YEAR(Date_Passage),MONTH(G2)<=MONTH(Date_Passage)),"OK","PAS LES DELAIS")),"") | I2: 55 | J2: =(U2) -> N | K2: 0 | M2: N | N2: N | O2: N | P2: N | Q2: N | R2: N | S2: =IF(AND(X2>=4),"O",IF(AND(Y2>=3),"N",IF(AND(X2=3,Y2=2),"O",IF(AND(X2<=4,Y2<=3),"I")))) -> N | T2: N | U2: =IF(T2="","",T2) -> N | W2: =COUNTA(M2:R2) -> 6 | X2: =COUNTIF(M2:R2,"O") -> 0 | Y2: =COUNTIF(M2:R2,"N") -> 6 | Z2: =COUNTIF(M2:R2,"I") -> 0 | AB2: =(W2+1)/2 -> 3.5 | AC2: =(W2-1)/2 -> 2.5
A3: 502 | H3: =IF(G3<>"",IF(YEAR(G3)+4<YEAR(Date_Passage),"OK",IF(AND(YEAR(G3)+4=YEAR(Date_Passage),MONTH(G3)<=MONTH(Date_Passage)),"OK","PAS LES DELAIS")),"") | J3: =(U3) -> N | M3: N | N3: N | O3: N | P3: N | Q3: N | R3: N | S3: =IF(AND(X3>=4),"O",IF(AND(Y3>=3),"N",IF(AND(X3=3,Y3=2),"O",IF(AND(X3<=4,Y3<=3),"I")))) -> N | T3: N | U3: =IF(T3="","",T3) -> N | W3: =COUNTA(M3:R3) -> 6 | X3: =COUNTIF(M3:R3,"O") -> 0 | Y3: =COUNTIF(M3:R3,"N") -> 6 | Z3: =COUNTIF(M3:R3,"I") -> 0 | AB3: =(W3+1)/2 -> 3.5 | AC3: =(W3-1)/2 -> 2.5
A4: 503 | H4: =IF(G4<>"",IF(YEAR(G4)+4<YEAR(Date_Passage),"OK",IF(AND(YEAR(G4)+4=YEAR(Date_Passage),MONTH(G4)<=MONTH(Date_Passage)),"OK","PAS LES DELAIS")),"") | J4: =(U4) -> N | M4: N | N4: N | O4: N | P4: N | Q4: N | R4: N | S4: =IF(AND(X4>=4),"O",IF(AND(Y4>=3),"N",IF(AND(X4=3,Y4=2),"O",IF(AND(X4<=4,Y4<=3),"I")))) -> N | T4: N | U4: =IF(T4="","",T4) -> N | W4: =COUNTA(M4:R4) -> 6 | X4: =COUNTIF(M4:R4,"O") -> 0 | Y4: =COUNTIF(M4:R4,"N") -> 6 | Z4: =COUNTIF(M4:R4,"I") -> 0 | AB4: =(W4+1)/2 -> 3.5 | AC4: =(W4-1)/2 -> 2.5
A5: 504 | H5: =IF(G5<>"",IF(YEAR(G5)+4<YEAR(Date_Passage),"OK",IF(AND(YEAR(G5)+4=YEAR(Date_Passage),MONTH(G5)<=MONTH(Date_Passage)),"OK","PAS LES DELAIS")),"") | J5: =(U5) -> N | M5: N | N5: N | O5: N | P5: N | Q5: N | R5: N | S5: =IF(AND(X5>=4),"O",IF(AND(Y5>=3),"N",IF(AND(X5=3,Y5=2),"O",IF(AND(X5<=4,Y5<=3),"I")))) -> N | T5: N | U5: =IF(T5="","",T5) -> N | W5: =COUNTA(M5:R5) -> 6 | X5: =COUNTIF(M5:R5,"O") -> 0 | Y5: =COUNTIF(M5:R5,"N") -> 6 | Z5: =COUNTIF(M5:R5,"I") -> 0 | AB5: =(W5+1)/2 -> 3.5 | AC5: =(W5-1)/2 -> 2.5
A6: 505 | H6: =IF(G6<>"",IF(YEAR(G6)+4<YEAR(Date_Passage),"OK",IF(AND(YEAR(G6)+4=YEAR(Date_Passage),MONTH(G6)<=MONTH(Date_Passage)),"OK","PAS LES DELAIS")),"") | J6: =(U6) -> N | M6: N | N6: N | O6: N | P6: N | Q6: N | R6: N | S6: =IF(AND(X6>=4),"O",IF(AND(Y6>=3),"N",IF(AND(X6=3,Y6=2),"O",IF(AND(X6<=4,Y6<=3),"I")))) -> N | T6: N | U6: =IF(T6="","",T6) -> N | W6: =COUNTA(M6:R6) -> 6 | X6: =COUNTIF(M6:R6,"O") -> 0 | Y6: =COUNTIF(M6:R6,"N") -> 6 | Z6: =COUNTIF(M6:R6,"I") -> 0 | AB6: =(W6+1)/2 -> 3.5 | AC6: =(W6-1)/2 -> 2.5
A7: 506 | H7: =IF(G7<>"",IF(YEAR(G7)+4<YEAR(Date_Passage),"OK",IF(AND(YEAR(G7)+4=YEAR(Date_Passage),MONTH(G7)<=MONTH(Date_Passage)),"OK","PAS LES DELAIS")),"") | J7: =(U7) -> N | M7: N | N7: N | O7: N | P7: N | Q7: N | R7: N | S7: =IF(AND(X7>=4),"O",IF(AND(Y7>=3),"N",IF(AND(X7=3,Y7=2),"O",IF(AND(X7<=4,Y7<=3),"I")))) -> N | T7: N | U7: =IF(T7="","",T7) -> N | W7: =COUNTA(M7:R7) -> 6 | X7: =COUNTIF(M7:R7,"O") -> 0 | Y7: =COUNTIF(M7:R7,"N") -> 6 | Z7: =COUNTIF(M7:R7,"I") -> 0 | AB7: =(W7+1)/2 -> 3.5 | AC7: =(W7-1)/2 -> 2.5
A8: 507 | H8: =IF(G8<>"",IF(YEAR(G8)+4<YEAR(Date_Passage),"OK",IF(AND(YEAR(G8)+4=YEAR(Date_Passage),MONTH(G8)<=MONTH(Date_Passage)),"OK","PAS LES DELAIS")),"") | J8: =(U8) -> N | M8: N | N8: N | O8: N | P8: N | Q8: N | R8: N | S8: =IF(AND(X8>=4),"O",IF(AND(Y8>=3),"N",IF(AND(X8=3,Y8=2),"O",IF(AND(X8<=4,Y8<=3),"I")))) -> N | T8: N | U8: =IF(T8="","",T8) -> N | W8: =COUNTA(M8:R8) -> 6 | X8: =COUNTIF(M8:R8,"O") -> 0 | Y8: =COUNTIF(M8:R8,"N") -> 6 | Z8: =COUNTIF(M8:R8,"I") -> 0 | AB8: =(W8+1)/2 -> 3.5 | AC8: =(W8-1)/2 -> 2.5
A9: 508 | H9: =IF(G9<>"",IF(YEAR(G9)+4<YEAR(Date_Passage),"OK",IF(AND(YEAR(G9)+4=YEAR(Date_Passage),MONTH(G9)<=MONTH(Date_Passage)),"OK","PAS LES DELAIS")),"") | J9: =(U9) -> N | M9: N | N9: N | O9: N | P9: N | Q9: N | R9: N | S9: =IF(AND(X9>=4),"O",IF(AND(Y9>=3),"N",IF(AND(X9=3,Y9=2),"O",IF(AND(X9<=4,Y9<=3),"I")))) -> N | T9: N | U9: =IF(T9="","",T9) -> N | W9: =COUNTA(M9:R9) -> 6 | X9: =COUNTIF(M9:R9,"O") -> 0 | Y9: =COUNTIF(M9:R9,"N") -> 6 | Z9: =COUNTIF(M9:R9,"I") -> 0 | AB9: =(W9+1)/2 -> 3.5 | AC9: =(W9-1)/2 -> 2.5
A10: 509 | H10: =IF(G10<>"",IF(YEAR(G10)+4<YEAR(Date_Passage),"OK",IF(AND(YEAR(G10)+4=YEAR(Date_Passage),MONTH(G10)<=MONTH(Date_Passage)),"OK","PAS LES DELAIS")),"") | J10: =(U10) -> N | M10: N | N10: N | O10: N | P10: N | Q10: N | R10: N | S10: =IF(AND(X10>=4),"O",IF(AND(Y10>=3),"N",IF(AND(X10=3,Y10=2),"O",IF(AND(X10<=4,Y10<=3),"I")))) -> N | T10: N | U10: =IF(T10="","",T10) -> N | W10: =COUNTA(M10:R10) -> 6 | X10: =COUNTIF(M10:R10,"O") -> 0 | Y10: =COUNTIF(M10:R10,"N") -> 6 | Z10: =COUNTIF(M10:R10,"I") -> 0 | AB10: =(W10+1)/2 -> 3.5 | AC10: =(W10-1)/2 -> 2.5
A11: 510 | H11: =IF(G11<>"",IF(YEAR(G11)+4<YEAR(Date_Passage),"OK",IF(AND(YEAR(G11)+4=YEAR(Date_Passage),MONTH(G11)<=MONTH(Date_Passage)),"OK","PAS LES DELAIS")),"") | J11: =(U11) -> N | M11: N | N11: N | O11: N | P11: N | Q11: N | R11: N | S11: =IF(AND(X11>=4),"O",IF(AND(Y11>=3),"N",IF(AND(X11=3,Y11=2),"O",IF(AND(X11<=4,Y11<=3),"I")))) -> N | T11: N | U11: =IF(T11="","",T11) -> N | W11: =COUNTA(M11:R11) -> 6 | X11: =COUNTIF(M11:R11,"O") -> 0 | Y11: =COUNTIF(M11:R11,"N") -> 6 | Z11: =COUNTIF(M11:R11,"I") -> 0 | AB11: =(W11+1)/2 -> 3.5 | AC11: =(W11-1)/2 -> 2.5
A12: 511 | H12: =IF(G12<>"",IF(YEAR(G12)+4<YEAR(Date_Passage),"OK",IF(AND(YEAR(G12)+4=YEAR(Date_Passage),MONTH(G12)<=MONTH(Date_Passage)),"OK","PAS LES DELAIS")),"") | J12: =(U12) -> N | M12: N | N12: N | O12: N | P12: N | Q12: N | R12: N | S12: =IF(AND(X12>=4),"O",IF(AND(Y12>=3),"N",IF(AND(X12=3,Y12=2),"O",IF(AND(X12<=4,Y12<=3),"I")))) -> N | T12: N | U12: =IF(T12="","",T12) -> N | W12: =COUNTA(M12:R12) -> 6 | X12: =COUNTIF(M12:R12,"O") -> 0 | Y12: =COUNTIF(M12:R12,"N") -> 6 | Z12: =COUNTIF(M12:R12,"I") -> 0 | AB12: =(W12+1)/2 -> 3.5 | AC12: =(W12-1)/2 -> 2.5
A13: 512 | H13: =IF(G13<>"",IF(YEAR(G13)+4<YEAR(Date_Passage),"OK",IF(AND(YEAR(G13)+4=YEAR(Date_Passage),MONTH(G13)<=MONTH(Date_Passage)),"OK","PAS LES DELAIS")),"") | J13: =(U13) -> N | M13: N | N13: N | O13: N | P13: N | Q13: N | R13: N | S13: =IF(AND(X13>=4),"O",IF(AND(Y13>=3),"N",IF(AND(X13=3,Y13=2),"O",IF(AND(X13<=4,Y13<=3),"I")))) -> N | T13: N | U13: =IF(T13="","",T13) -> N | W13: =COUNTA(M13:R13) -> 6 | X13: =COUNTIF(M13:R13,"O") -> 0 | Y13: =COUNTIF(M13:R13,"N") -> 6 | Z13: =COUNTIF(M13:R13,"I") -> 0 | AB13: =(W13+1)/2 -> 3.5 | AC13: =(W13-1)/2 -> 2.5
A14: 513 | H14: =IF(G14<>"",IF(YEAR(G14)+4<YEAR(Date_Passage),"OK",IF(AND(YEAR(G14)+4=YEAR(Date_Passage),MONTH(G14)<=MONTH(Date_Passage)),"OK","PAS LES DELAIS")),"") | J14: =(U14) -> N | M14: N | N14: N | O14: N | P14: N | Q14: N | R14: N | S14: =IF(AND(X14>=4),"O",IF(AND(Y14>=3),"N",IF(AND(X14=3,Y14=2),"O",IF(AND(X14<=4,Y14<=3),"I")))) -> N | T14: N | U14: =IF(T14="","",T14) -> N | W14: =COUNTA(M14:R14) -> 6 | X14: =COUNTIF(M14:R14,"O") -> 0 | Y14: =COUNTIF(M14:R14,"N") -> 6 | Z14: =COUNTIF(M14:R14,"I") -> 0 | AB14: =(W14+1)/2 -> 3.5 | AC14: =(W14-1)/2 -> 2.5
... A17: 516 | H17: =IF(G17<>"",IF(YEAR(G17)+4<YEAR(Date_Passage),"OK",IF(AND(YEAR(G17)+4=YEAR(Date_Passage),MONTH(G17)<=MONTH(Date_Passage)),"OK","PAS LES DELAIS")),"") | J17: =(U17) -> N | M17: N | N17: N | O17: N | P17: N | Q17: N | R17: N | S17: =IF(AND(X17>=4),"O",IF(AND(Y17>=3),"N",IF(AND(X17=3,Y17=2),"O",IF(AND(X17<=4,Y17<=3),"I")))) -> N | T17: N | U17: =IF(T17="","",T17) -> N | W17: =COUNTA(M17:R17) -> 6 | X17: =COUNTIF(M17:R17,"O") -> 0 | Y17: =COUNTIF(M17:R17,"N") -> 6 | Z17: =COUNTIF(M17:R17,"I") -> 0 | AB17: =(W17+1)/2 -> 3.5 | AC17: =(W17-1)/2 -> 2.5
A18: 517 | J18: =(U18) -> N | M18: N | N18: N | O18: N | P18: N | Q18: N | R18: N | S18: =IF(AND(X18>=4),"O",IF(AND(Y18>=3),"N",IF(AND(X18=3,Y18=2),"O",IF(AND(X18<=4,Y18<=3),"I")))) -> N | T18: N | U18: =IF(T18="","",T18) -> N | W18: =COUNTA(M18:R18) -> 6 | X18: =COUNTIF(M18:R18,"O") -> 0 | Y18: =COUNTIF(M18:R18,"N") -> 6 | Z18: =COUNTIF(M18:R18,"I") -> 0 | AB18: =(W18+1)/2 -> 3.5 | AC18: =(W18-1)/2 -> 2.5
A19: 518 | H19: =IF(G19<>"",IF(YEAR(G19)+4<YEAR(Date_Passage),"OK",IF(AND(YEAR(G19)+4=YEAR(Date_Passage),MONTH(G19)<=MONTH(Date_Passage)),"OK","PAS LES DELAIS")),"") | J19: =(U19) -> N | M19: N | N19: N | O19: N | P19: N | Q19: N | R19: N | S19: =IF(AND(X19>=4),"O",IF(AND(Y19>=3),"N",IF(AND(X19=3,Y19=2),"O",IF(AND(X19<=4,Y19<=3),"I")))) -> N | T19: N | U19: =IF(T19="","",T19) -> N | W19: =COUNTA(M19:R19) -> 6 | X19: =COUNTIF(M19:R19,"O") -> 0 | Y19: =COUNTIF(M19:R19,"N") -> 6 | Z19: =COUNTIF(M19:R19,"I") -> 0 | AB19: =(W19+1)/2 -> 3.5 | AC19: =(W19-1)/2 -> 2.5
A20: 519 | H20: =IF(G20<>"",IF(YEAR(G20)+4<YEAR(Date_Passage),"OK",IF(AND(YEAR(G20)+4=YEAR(Date_Passage),MONTH(G20)<=MONTH(Date_Passage)),"OK","PAS LES DELAIS")),"") | J20: =(U20) -> N | M20: N | N20: N | O20: N | P20: N | Q20: N | R20: N | S20: =IF(AND(X20>=4),"O",IF(AND(Y20>=3),"N",IF(AND(X20=3,Y20=2),"O",IF(AND(X20<=4,Y20<=3),"I")))) -> N | T20: N | U20: =IF(T20="","",T20) -> N | W20: =COUNTA(M20:R20) -> 6 | X20: =COUNTIF(M20:R20,"O") -> 0 | Y20: =COUNTIF(M20:R20,"N") -> 6 | Z20: =COUNTIF(M20:R20,"I") -> 0 | AB20: =(W20+1)/2 -> 3.5 | AC20: =(W20-1)/2 -> 2.5
A21: 520 | H21: =IF(G21<>"",IF(YEAR(G21)+4<YEAR(Date_Passage),"OK",IF(AND(YEAR(G21)+4=YEAR(Date_Passage),MONTH(G21)<=MONTH(Date_Passage)),"OK","PAS LES DELAIS")),"") | J21: =(U21) -> N | M21: N | N21: N | O21: N | P21: N | Q21: N | R21: N | S21: =IF(AND(X21>=4),"O",IF(AND(Y21>=3),"N",IF(AND(X21=3,Y21=2),"O",IF(AND(X21<=4,Y21<=3),"I")))) -> N | T21: N | U21: =IF(T21="","",T21) -> N | W21: =COUNTA(M21:R21) -> 6 | X21: =COUNTIF(M21:R21,"O") -> 0 | Y21: =COUNTIF(M21:R21,"N") -> 6 | Z21: =COUNTIF(M21:R21,"I") -> 0 | AB21: =(W21+1)/2 -> 3.5 | AC21: =(W21-1)/2 -> 2.5
A22: 521 | H22: =IF(G22<>"",IF(YEAR(G22)+4<YEAR(Date_Passage),"OK",IF(AND(YEAR(G22)+4=YEAR(Date_Passage),MONTH(G22)<=MONTH(Date_Passage)),"OK","PAS LES DELAIS")),"") | J22: =(U22) -> N | M22: N | N22: N | O22: N | P22: N | Q22: N | R22: N | S22: =IF(AND(X22>=4),"O",IF(AND(Y22>=3),"N",IF(AND(X22=3,Y22=2),"O",IF(AND(X22<=4,Y22<=3),"I")))) -> N | T22: N | U22: =IF(T22="","",T22) -> N | W22: =COUNTA(M22:R22) -> 6 | X22: =COUNTIF(M22:R22,"O") -> 0 | Y22: =COUNTIF(M22:R22,"N") -> 6 | Z22: =COUNTIF(M22:R22,"I") -> 0 | AB22: =(W22+1)/2 -> 3.5 | AC22: =(W22-1)/2 -> 2.5
A23: 522 | H23: =IF(G23<>"",IF(YEAR(G23)+4<YEAR(Date_Passage),"OK",IF(AND(YEAR(G23)+4=YEAR(Date_Passage),MONTH(G23)<=MONTH(Date_Passage)),"OK","PAS LES DELAIS")),"") | J23: =(U23) -> N | M23: N | N23: N | O23: N | P23: N | Q23: N | R23: N | S23: =IF(AND(X23>=4),"O",IF(AND(Y23>=3),"N",IF(AND(X23=3,Y23=2),"O",IF(AND(X23<=4,Y23<=3),"I")))) -> N | T23: N | U23: =IF(T23="","",T23) -> N | W23: =COUNTA(M23:R23) -> 6 | X23: =COUNTIF(M23:R23,"O") -> 0 | Y23: =COUNTIF(M23:R23,"N") -> 6 | Z23: =COUNTIF(M23:R23,"I") -> 0 | AB23: =(W23+1)/2 -> 3.5 | AC23: =(W23-1)/2 -> 2.5
A24: 523 | H24: =IF(G24<>"",IF(YEAR(G24)+4<YEAR(Date_Passage),"OK",IF(AND(YEAR(G24)+4=YEAR(Date_Passage),MONTH(G24)<=MONTH(Date_Passage)),"OK","PAS LES DELAIS")),"") | J24: =(U24) -> N | M24: N | N24: N | O24: N | P24: N | Q24: N | R24: N | S24: =IF(AND(X24>=4),"O",IF(AND(Y24>=3),"N",IF(AND(X24=3,Y24=2),"O",IF(AND(X24<=4,Y24<=3),"I")))) -> N | T24: N | U24: =IF(T24="","",T24) -> N | W24: =COUNTA(M24:R24) -> 6 | X24: =COUNTIF(M24:R24,"O") -> 0 | Y24: =COUNTIF(M24:R24,"N") -> 6 | Z24: =COUNTIF(M24:R24,"I") -> 0 | AB24: =(W24+1)/2 -> 3.5 | AC24: =(W24-1)/2 -> 2.5
A25: 524 | H25: =IF(G25<>"",IF(YEAR(G25)+4<YEAR(Date_Passage),"OK",IF(AND(YEAR(G25)+4=YEAR(Date_Passage),MONTH(G25)<=MONTH(Date_Passage)),"OK","PAS LES DELAIS")),"") | J25: =(U25) -> N | M25: N | N25: N | O25: N | P25: N | Q25: N | R25: N | S25: =IF(AND(X25>=4),"O",IF(AND(Y25>=3),"N",IF(AND(X25=3,Y25=2),"O",IF(AND(X25<=4,Y25<=3),"I")))) -> N | T25: N | U25: =IF(T25="","",T25) -> N | W25: =COUNTA(M25:R25) -> 6 | X25: =COUNTIF(M25:R25,"O") -> 0 | Y25: =COUNTIF(M25:R25,"N") -> 6 | Z25: =COUNTIF(M25:R25,"I") -> 0 | AB25: =(W25+1)/2 -> 3.5 | AC25: =(W25-1)/2 -> 2.5
A26: 525 | H26: =IF(G26<>"",IF(YEAR(G26)+4<YEAR(Date_Passage),"OK",IF(AND(YEAR(G26)+4=YEAR(Date_Passage),MONTH(G26)<=MONTH(Date_Passage)),"OK","PAS LES DELAIS")),"") | J26: =(U26) -> N | M26: N | N26: N | O26: N | P26: N | Q26: N | R26: N | S26: =IF(AND(X26>=4),"O",IF(AND(Y26>=3),"N",IF(AND(X26=3,Y26=2),"O",IF(AND(X26<=4,Y26<=3),"I")))) -> N | T26: N | U26: =IF(T26="","",T26) -> N | W26: =COUNTA(M26:R26) -> 6 | X26: =COUNTIF(M26:R26,"O") -> 0 | Y26: =COUNTIF(M26:R26,"N") -> 6 | Z26: =COUNTIF(M26:R26,"I") -> 0 | AB26: =(W26+1)/2 -> 3.5 | AC26: =(W26-1)/2 -> 2.5
A27: 526 | H27: =IF(G27<>"",IF(YEAR(G27)+4<YEAR(Date_Passage),"OK",IF(AND(YEAR(G27)+4=YEAR(Date_Passage),MONTH(G27)<=MONTH(Date_Passage)),"OK","PAS LES DELAIS")),"") | J27: =(U27) -> N | M27: N | N27: N | O27: N | P27: N | Q27: N | R27: N | S27: =IF(AND(X27>=4),"O",IF(AND(Y27>=3),"N",IF(AND(X27=3,Y27=2),"O",IF(AND(X27<=4,Y27<=3),"I")))) -> N | T27: N | U27: =IF(T27="","",T27) -> N | W27: =COUNTA(M27:R27) -> 6 | X27: =COUNTIF(M27:R27,"O") -> 0 | Y27: =COUNTIF(M27:R27,"N") -> 6 | Z27: =COUNTIF(M27:R27,"I") -> 0 | AB27: =(W27+1)/2 -> 3.5 | AC27: =(W27-1)/2 -> 2.5
A28: 527 | H28: =IF(G28<>"",IF(YEAR(G28)+4<YEAR(Date_Passage),"OK",IF(AND(YEAR(G28)+4=YEAR(Date_Passage),MONTH(G28)<=MONTH(Date_Passage)),"OK","PAS LES DELAIS")),"") | J28: =(U28) -> N | M28: N | N28: N | O28: N | P28: N | Q28: N | R28: N | S28: =IF(AND(X28>=4),"O",IF(AND(Y28>=3),"N",IF(AND(X28=3,Y28=2),"O",IF(AND(X28<=4,Y28<=3),"I")))) -> N | T28: N | U28: =IF(T28="","",T28) -> N | W28: =COUNTA(M28:R28) -> 6 | X28: =COUNTIF(M28:R28,"O") -> 0 | Y28: =COUNTIF(M28:R28,"N") -> 6 | Z28: =COUNTIF(M28:R28,"I") -> 0 | AB28: =(W28+1)/2 -> 3.5 | AC28: =(W28-1)/2 -> 2.5
A29: 528 | H29: =IF(G29<>"",IF(YEAR(G29)+4<YEAR(Date_Passage),"OK",IF(AND(YEAR(G29)+4=YEAR(Date_Passage),MONTH(G29)<=MONTH(Date_Passage)),"OK","PAS LES DELAIS")),"") | J29: =(U29) -> N | M29: N | N29: N | O29: N | P29: N | Q29: N | R29: N | S29: =IF(AND(X29>=4),"O",IF(AND(Y29>=3),"N",IF(AND(X29=3,Y29=2),"O",IF(AND(X29<=4,Y29<=3),"I")))) -> N | T29: N | U29: =IF(T29="","",T29) -> N | W29: =COUNTA(M29:R29) -> 6 | X29: =COUNTIF(M29:R29,"O") -> 0 | Y29: =COUNTIF(M29:R29,"N") -> 6 | Z29: =COUNTIF(M29:R29,"I") -> 0 | AB29: =(W29+1)/2 -> 3.5 | AC29: =(W29-1)/2 -> 2.5
A30: 529 | H30: =IF(G30<>"",IF(YEAR(G30)+4<YEAR(Date_Passage),"OK",IF(AND(YEAR(G30)+4=YEAR(Date_Passage),MONTH(G30)<=MONTH(Date_Passage)),"OK","PAS LES DELAIS")),"") | J30: =(U30) -> N | M30: N | N30: N | O30: N | P30: N | Q30: N | R30: N | S30: =IF(AND(X30>=4),"O",IF(AND(Y30>=3),"N",IF(AND(X30=3,Y30=2),"O",IF(AND(X30<=4,Y30<=3),"I")))) -> N | T30: N | U30: =IF(T30="","",T30) -> N | W30: =COUNTA(M30:R30) -> 6 | X30: =COUNTIF(M30:R30,"O") -> 0 | Y30: =COUNTIF(M30:R30,"N") -> 6 | Z30: =COUNTIF(M30:R30,"I") -> 0 | AB30: =(W30+1)/2 -> 3.5 | AC30: =(W30-1)/2 -> 2.5
... A51: 550 | H51: =IF(G51<>"",IF(YEAR(G51)+4<YEAR(Date_Passage),"OK",IF(AND(YEAR(G51)+4=YEAR(Date_Passage),MONTH(G51)<=MONTH(Date_Passage)),"OK","PAS LES DELAIS")),"") | J51: =(U51) -> N | M51: N | N51: N | O51: N | P51: N | Q51: N | R51: N | S51: =IF(AND(X51>=4),"O",IF(AND(Y51>=3),"N",IF(AND(X51=3,Y51=2),"O",IF(AND(X51<=4,Y51<=3),"I")))) -> N | T51: N | U51: =IF(T51="","",T51) -> N | W51: =COUNTA(M51:R51) -> 6 | X51: =COUNTIF(M51:R51,"O") -> 0 | Y51: =COUNTIF(M51:R51,"N") -> 6 | Z51: =COUNTIF(M51:R51,"I") -> 0 | AB51: =(W51+1)/2 -> 3.5 | AC51: =(W51-1)/2 -> 2.5
I52: =SUM(I2:I51) -> 55 | J52: =COUNTIF(J2:J51,"O") -> 0 | K52: =SUM(K2:K51) -> 0

Sheet Fiche jury 5D
A7: PASSAGE DE GRADES DU : | E7: =IF(Bilan!B2="","",Bilan!B2) | H7: - | I7: =IF(Bilan!D2="","",Bilan!D2)
A9: Nom du Juré :
A11: N° | B11: Age | C11: Kirigaeshi | D11: Keiko 1 | E11: Keiko 2 | F11: Décision 1 | G11: Kata | H11: Décision 2 | I11: Observations
A12: 501 | B12: =IF('5èm DAN'!E2="","",INT((TODAY()-'5èm DAN'!E2)/365))
A13: 502 | B13: =IF('5èm DAN'!E3="","",INT((TODAY()-'5èm DAN'!E3)/365))
A14: 503 | B14: =IF('5èm DAN'!E4="","",INT((TODAY()-'5èm DAN'!E4)/365))
A15: 504 | B15: =IF('5èm DAN'!E5="","",INT((TODAY()-'5èm DAN'!E5)/365))
A16: 505 | B16: =IF('5èm DAN'!E6="","",INT((TODAY()-'5èm DAN'!E6)/365))
A17: 506 | B17: =IF('5èm DAN'!E7="","",INT((TODAY()-'5èm DAN'!E7)/365))
A18: 507 | B18: =IF('5èm DAN'!E8="","",INT((TODAY()-'5èm DAN'!E8)/365))
A19: 508 | B19: =IF('5èm DAN'!E9="","",INT((TODAY()-'5èm DAN'!E9)/365))
A20: 509 | B20: =IF('5èm DAN'!E10="","",INT((TODAY()-'5èm DAN'!E10)/365))
A21: 510 | B21: =IF('5èm DAN'!E11="","",INT((TODAY()-'5èm DAN'!E11)/365))
A22: 511 | B22: =IF('5èm DAN'!E12="","",INT((TODAY()-'5èm DAN'!E12)/365))
A23: 512 | B23: =IF('5èm DAN'!E13="","",INT((TODAY()-'5èm DAN'!E13)/365))
... A41: 530 | B41: =IF('5èm DAN'!E31="","",INT((TODAY()-'5èm DAN'!E31)/365))
A45: SIGNATURE
F48: CNK.FFJDA - INJ. 21,25 Avenue de la Porte de Châtillon 75680 PARIS Cedex 14

Sheet Résultat 5èm DAN
A2: PASSAGE DE GRADES DU : | C2: =IF(Bilan!B2="","",Bilan!B2) | E2: =IF(Bilan!D2="","",Bilan!D2) | G2: PASSAGE DE GRADES DU : | I2: =IF(Bilan!B2="","",Bilan!B2) | K2: =IF(Bilan!D2="","",Bilan!D2)
A4: =IF('5èm DAN'!J2="O",'5èm DAN'!A2," ") | C4: =IF('5èm DAN'!J12="O",'5èm DAN'!A12," ") | E4: =IF('5èm DAN'!J22="O",'5èm DAN'!A22," ") | G4: =IF('5èm DAN'!J32="O",'5èm DAN'!A32," ") | I4: =IF('5èm DAN'!J42="O",'5èm DAN'!A42," ")
A5: =IF('5èm DAN'!J3="O",'5èm DAN'!A3," ") | C5: =IF('5èm DAN'!J13="O",'5èm DAN'!A13," ") | E5: =IF('5èm DAN'!J23="O",'5èm DAN'!A23," ") | G5: =IF('5èm DAN'!J33="O",'5èm DAN'!A33," ") | I5: =IF('5èm DAN'!J43="O",'5èm DAN'!A43," ")
A6: =IF('5èm DAN'!J4="O",'5èm DAN'!A4," ") | C6: =IF('5èm DAN'!J14="O",'5èm DAN'!A14," ") | E6: =IF('5èm DAN'!J24="O",'5èm DAN'!A24," ") | G6: =IF('5èm DAN'!J34="O",'5èm DAN'!A34," ") | I6: =IF('5èm DAN'!J44="O",'5èm DAN'!A44," ")
A7: =IF('5èm DAN'!J5="O",'5èm DAN'!A5," ") | C7: =IF('5èm DAN'!J15="O",'5èm DAN'!A15," ") | E7: =IF('5èm DAN'!J25="O",'5èm DAN'!A25," ") | G7: =IF('5èm DAN'!J35="O",'5èm DAN'!A35," ") | I7: =IF('5èm DAN'!J45="O",'5èm DAN'!A45," ")
A8: =IF('5èm DAN'!J6="O",'5èm DAN'!A6," ") | C8: =IF('5èm DAN'!J16="O",'5èm DAN'!A16," ") | E8: =IF('5èm DAN'!J26="O",'5èm DAN'!A26," ") | G8: =IF('5èm DAN'!J36="O",'5èm DAN'!A36," ") | I8: =IF('5èm DAN'!J46="O",'5èm DAN'!A46," ")
A9: =IF('5èm DAN'!J7="O",'5èm DAN'!A7," ") | C9: =IF('5èm DAN'!J17="O",'5èm DAN'!A17," ") | E9: =IF('5èm DAN'!J27="O",'5èm DAN'!A27," ") | G9: =IF('5èm DAN'!J37="O",'5èm DAN'!A37," ") | I9: =IF('5èm DAN'!J47="O",'5èm DAN'!A47," ")
A10: =IF('5èm DAN'!J8="O",'5èm DAN'!A8," ") | C10: =IF('5èm DAN'!J18="O",'5èm DAN'!A18," ") | E10: =IF('5èm DAN'!J28="O",'5èm DAN'!A28," ") | G10: =IF('5èm DAN'!J38="O",'5èm DAN'!A38," ") | I10: =IF('5èm DAN'!J48="O",'5èm DAN'!A48," ")
A11: =IF('5èm DAN'!J9="O",'5èm DAN'!A9," ") | C11: =IF('5èm DAN'!J19="O",'5èm DAN'!A19," ") | E11: =IF('5èm DAN'!J29="O",'5èm DAN'!A29," ") | G11: =IF('5èm DAN'!J39="O",'5èm DAN'!A39," ") | I11: =IF('5èm DAN'!J49="O",'5èm DAN'!A49," ")
A12: =IF('5èm DAN'!J10="O",'5èm DAN'!A10," ") | C12: =IF('5èm DAN'!J20="O",'5èm DAN'!A20," ") | E12: =IF('5èm DAN'!J30="O",'5èm DAN'!A30," ") | G12: =IF('5èm DAN'!J40="O",'5èm DAN'!A40," ") | I12: =IF('5èm DAN'!J50="O",'5èm DAN'!A50," ")
A13: =IF('5èm DAN'!J11="O",'5èm DAN'!A11," ") | C13: =IF('5èm DAN'!J21="O",'5èm DAN'!A21," ") | E13: =IF('5èm DAN'!J31="O",'5èm DAN'!A31," ") | G13: =IF('5èm DAN'!J41="O",'5èm DAN'!A41," ") | I13: =IF('5èm DAN'!J51="O",'5èm DAN'!A51," ")

Sheet 6èm Dan
A1: N° | B1: Nom | C1: Prénom | D1: Club | E1: Date de Naissance | F1: N° licence | G1: Date du 5ème DAN | H1: Verification des delais | I1: Inscription | J1: Résultat | K1: Enreg. | M1: Jury 1 | N1: Jury 2 | O1: Jury 3 | P1: Jury 4 | Q1: Jury 5 | R1: Jury 6 | S1: Decision 1 | T1: Kata | U1: Decision 2 | W1: Nb de Jury | X1: Nb de Oui | Y1: Nb de Non | Z1: Nb Indécis | AB1: (J+1)/2 | AC1: (J-1)/2
A2: 601 | H2: =IF(G2<>"",IF(AND(ROUNDDOWN((Date_Passage-E2)/365,0)<60,YEAR(G2)+5<YEAR(Date_Passage)),"OK",IF(AND(ROUNDDOWN((Date_Passage-E2)/365,0)<60,YEAR(G2)+5=YEAR(Date_Passage),MONTH(G2)<=MONTH(Date_Passage)),"OK",IF(AND(ROUNDDOWN((Date_Passage-E2)/365,0)>=60,YEAR(G2)+2<YEAR(Date_Passage)),"OK",IF(AND(ROUNDDOWN((Date_Passage-E2)/365,0)>=60,YEAR(G2)+2=YEAR(Date_Passage),MONTH(G2)<=MONTH(Date_Passage)),"OK","PAS LES DELAIS")))),"") | J2: =(U2) | M2: N | N2: N | O2: N | P2: N | Q2: N | R2: N | S2: =IF(AND(X2>=4),"O",IF(AND(Y2>=3),"N",IF(AND(X2=3,Y2=2),"O",IF(AND(X2<=4,Y2<=3),"I")))) -> N | U2: =IF(T2="","",T2) | W2: =COUNTA(M2:R2) -> 6 | X2: =COUNTIF(M2:R2,"O") -> 0 | Y2: =COUNTIF(M2:R2,"N") -> 6 | Z2: =COUNTIF(M2:R2,"I") -> 0 | AB2: =(W2+1)/2 -> 3.5 | AC2: =(W2-1)/2 -> 2.5
A3: 602 | H3: =IF(G3<>"",IF(AND(ROUNDDOWN((Date_Passage-E3)/365,0)<60,YEAR(G3)+5<YEAR(Date_Passage)),"OK",IF(AND(ROUNDDOWN((Date_Passage-E3)/365,0)<60,YEAR(G3)+5=YEAR(Date_Passage),MONTH(G3)<=MONTH(Date_Passage)),"OK",IF(AND(ROUNDDOWN((Date_Passage-E3)/365,0)>=60,YEAR(G3)+2<YEAR(Date_Passage)),"OK",IF(AND(ROUNDDOWN((Date_Passage-E3)/365,0)>=60,YEAR(G3)+2=YEAR(Date_Passage),MONTH(G3)<=MONTH(Date_Passage)),"OK","PAS LES DELAIS")))),"") | J3: =(U3) | M3: N | N3: N | O3: N | P3: N | Q3: N | R3: N | S3: =IF(AND(X3>=4),"O",IF(AND(Y3>=3),"N",IF(AND(X3=3,Y3=2),"O",IF(AND(X3<=4,Y3<=3),"I")))) -> N | U3: =IF(T3="","",T3) | W3: =COUNTA(M3:R3) -> 6 | X3: =COUNTIF(M3:R3,"O") -> 0 | Y3: =COUNTIF(M3:R3,"N") -> 6 | Z3: =COUNTIF(M3:R3,"I") -> 0 | AB3: =(W3+1)/2 -> 3.5 | AC3: =(W3-1)/2 -> 2.5
A4: 603 | H4: =IF(G4<>"",IF(AND(ROUNDDOWN((Date_Passage-E4)/365,0)<60,YEAR(G4)+5<YEAR(Date_Passage)),"OK",IF(AND(ROUNDDOWN((Date_Passage-E4)/365,0)<60,YEAR(G4)+5=YEAR(Date_Passage),MONTH(G4)<=MONTH(Date_Passage)),"OK",IF(AND(ROUNDDOWN((Date_Passage-E4)/365,0)>=60,YEAR(G4)+2<YEAR(Date_Passage)),"OK",IF(AND(ROUNDDOWN((Date_Passage-E4)/365,0)>=60,YEAR(G4)+2=YEAR(Date_Passage),MONTH(G4)<=MONTH(Date_Passage)),"OK","PAS LES DELAIS")))),"") | J4: =(U4) | M4: N | N4: N | O4: N | P4: N | Q4: N | R4: N | S4: =IF(AND(X4>=4),"O",IF(AND(Y4>=3),"N",IF(AND(X4=3,Y4=2),"O",IF(AND(X4<=4,Y4<=3),"I")))) -> N | U4: =IF(T4="","",T4) | W4: =COUNTA(M4:R4) -> 6 | X4: =COUNTIF(M4:R4,"O") -> 0 | Y4: =COUNTIF(M4:R4,"N") -> 6 | Z4: =COUNTIF(M4:R4,"I") -> 0 | AB4: =(W4+1)/2 -> 3.5 | AC4: =(W4-1)/2 -> 2.5
A5: 604 | H5: =IF(G5<>"",IF(AND(ROUNDDOWN((Date_Passage-E5)/365,0)<60,YEAR(G5)+5<YEAR(Date_Passage)),"OK",IF(AND(ROUNDDOWN((Date_Passage-E5)/365,0)<60,YEAR(G5)+5=YEAR(Date_Passage),MONTH(G5)<=MONTH(Date_Passage)),"OK",IF(AND(ROUNDDOWN((Date_Passage-E5)/365,0)>=60,YEAR(G5)+2<YEAR(Date_Passage)),"OK",IF(AND(ROUNDDOWN((Date_Passage-E5)/365,0)>=60,YEAR(G5)+2=YEAR(Date_Passage),MONTH(G5)<=MONTH(Date_Passage)),"OK","PAS LES DELAIS")))),"") | J5: =(U5) | M5: N | N5: N | O5: N | P5: N | Q5: N | R5: N | S5: =IF(AND(X5>=4),"O",IF(AND(Y5>=3),"N",IF(AND(X5=3,Y5=2),"O",IF(AND(X5<=4,Y5<=3),"I")))) -> N | U5: =IF(T5="","",T5) | W5: =COUNTA(M5:R5) -> 6 | X5: =COUNTIF(M5:R5,"O") -> 0 | Y5: =COUNTIF(M5:R5,"N") -> 6 | Z5: =COUNTIF(M5:R5,"I") -> 0 | AB5: =(W5+1)/2 -> 3.5 | AC5: =(W5-1)/2 -> 2.5
A6: 605 | H6: =IF(G6<>"",IF(AND(ROUNDDOWN((Date_Passage-E6)/365,0)<60,YEAR(G6)+5<YEAR(Date_Passage)),"OK",IF(AND(ROUNDDOWN((Date_Passage-E6)/365,0)<60,YEAR(G6)+5=YEAR(Date_Passage),MONTH(G6)<=MONTH(Date_Passage)),"OK",IF(AND(ROUNDDOWN((Date_Passage-E6)/365,0)>=60,YEAR(G6)+2<YEAR(Date_Passage)),"OK",IF(AND(ROUNDDOWN((Date_Passage-E6)/365,0)>=60,YEAR(G6)+2=YEAR(Date_Passage),MONTH(G6)<=MONTH(Date_Passage)),"OK","PAS LES DELAIS")))),"") | J6: =(U6) | M6: N | N6: N | O6: N | P6: N | Q6: N | R6: N | S6: =IF(AND(X6>=4),"O",IF(AND(Y6>=3),"N",IF(AND(X6=3,Y6=2),"O",IF(AND(X6<=4,Y6<=3),"I")))) -> N | U6: =IF(T6="","",T6) | W6: =COUNTA(M6:R6) -> 6 | X6: =COUNTIF(M6:R6,"O") -> 0 | Y6: =COUNTIF(M6:R6,"N") -> 6 | Z6: =COUNTIF(M6:R6,"I") -> 0 | AB6: =(W6+1)/2 -> 3.5 | AC6: =(W6-1)/2 -> 2.5
A7: 606 | H7: =IF(G7<>"",IF(AND(ROUNDDOWN((Date_Passage-E7)/365,0)<60,YEAR(G7)+5<YEAR(Date_Passage)),"OK",IF(AND(ROUNDDOWN((Date_Passage-E7)/365,0)<60,YEAR(G7)+5=YEAR(Date_Passage),MONTH(G7)<=MONTH(Date_Passage)),"OK",IF(AND(ROUNDDOWN((Date_Passage-E7)/365,0)>=60,YEAR(G7)+2<YEAR(Date_Passage)),"OK",IF(AND(ROUNDDOWN((Date_Passage-E7)/365,0)>=60,YEAR(G7)+2=YEAR(Date_Passage),MONTH(G7)<=MONTH(Date_Passage)),"OK","PAS LES DELAIS")))),"") | J7: =(U7) | M7: N | N7: N | O7: N | P7: N | Q7: N | R7: N | S7: =IF(AND(X7>=4),"O",IF(AND(Y7>=3),"N",IF(AND(X7=3,Y7=2),"O",IF(AND(X7<=4,Y7<=3),"I")))) -> N | U7: =IF(T7="","",T7) | W7: =COUNTA(M7:R7) -> 6 | X7: =COUNTIF(M7:R7,"O") -> 0 | Y7: =COUNTIF(M7:R7,"N") -> 6 | Z7: =COUNTIF(M7:R7,"I") -> 0 | AB7: =(W7+1)/2 -> 3.5 | AC7: =(W7-1)/2 -> 2.5
A8: 607 | H8: =IF(G8<>"",IF(AND(ROUNDDOWN((Date_Passage-E8)/365,0)<60,YEAR(G8)+5<YEAR(Date_Passage)),"OK",IF(AND(ROUNDDOWN((Date_Passage-E8)/365,0)<60,YEAR(G8)+5=YEAR(Date_Passage),MONTH(G8)<=MONTH(Date_Passage)),"OK",IF(AND(ROUNDDOWN((Date_Passage-E8)/365,0)>=60,YEAR(G8)+2<YEAR(Date_Passage)),"OK",IF(AND(ROUNDDOWN((Date_Passage-E8)/365,0)>=60,YEAR(G8)+2=YEAR(Date_Passage),MONTH(G8)<=MONTH(Date_Passage)),"OK","PAS LES DELAIS")))),"") | J8: =(U8) | M8: N | N8: N | O8: N | P8: N | Q8: N | R8: N | S8: =IF(AND(X8>=4),"O",IF(AND(Y8>=3),"N",IF(AND(X8=3,Y8=2),"O",IF(AND(X8<=4,Y8<=3),"I")))) -> N | U8: =IF(T8="","",T8) | W8: =COUNTA(M8:R8) -> 6 | X8: =COUNTIF(M8:R8,"O") -> 0 | Y8: =COUNTIF(M8:R8,"N") -> 6 | Z8: =COUNTIF(M8:R8,"I") -> 0 | AB8: =(W8+1)/2 -> 3.5 | AC8: =(W8-1)/2 -> 2.5
A9: 608 | H9: =IF(G9<>"",IF(AND(ROUNDDOWN((Date_Passage-E9)/365,0)<60,YEAR(G9)+5<YEAR(Date_Passage)),"OK",IF(AND(ROUNDDOWN((Date_Passage-E9)/365,0)<60,YEAR(G9)+5=YEAR(Date_Passage),MONTH(G9)<=MONTH(Date_Passage)),"OK",IF(AND(ROUNDDOWN((Date_Passage-E9)/365,0)>=60,YEAR(G9)+2<YEAR(Date_Passage)),"OK",IF(AND(ROUNDDOWN((Date_Passage-E9)/365,0)>=60,YEAR(G9)+2=YEAR(Date_Passage),MONTH(G9)<=MONTH(Date_Passage)),"OK","PAS LES DELAIS")))),"") | J9: =(U9) | M9: N | N9: N | O9: N | P9: N | Q9: N | R9: N | S9: =IF(AND(X9>=4),"O",IF(AND(Y9>=3),"N",IF(AND(X9=3,Y9=2),"O",IF(AND(X9<=4,Y9<=3),"I")))) -> N | U9: =IF(T9="","",T9) | W9: =COUNTA(M9:R9) -> 6 | X9: =COUNTIF(M9:R9,"O") -> 0 | Y9: =COUNTIF(M9:R9,"N") -> 6 | Z9: =COUNTIF(M9:R9,"I") -> 0 | AB9: =(W9+1)/2 -> 3.5 | AC9: =(W9-1)/2 -> 2.5
A10: 609 | H10: =IF(G10<>"",IF(AND(ROUNDDOWN((Date_Passage-E10)/365,0)<60,YEAR(G10)+5<YEAR(Date_Passage)),"OK",IF(AND(ROUNDDOWN((Date_Passage-E10)/365,0)<60,YEAR(G10)+5=YEAR(Date_Passage),MONTH(G10)<=MONTH(Date_Passage)),"OK",IF(AND(ROUNDDOWN((Date_Passage-E10)/365,0)>=60,YEAR(G10)+2<YEAR(Date_Passage)),"OK",IF(AND(ROUNDDOWN((Date_Passage-E10)/365,0)>=60,YEAR(G10)+2=YEAR(Date_Passage),MONTH(G10)<=MONTH(Date_Passage)),"OK","PAS LES DELAIS")))),"") | J10: =(U10) | M10: N | N10: N | O10: N | P10: N | Q10: N | R10: N | S10: =IF(AND(X10>=4),"O",IF(AND(Y10>=3),"N",IF(AND(X10=3,Y10=2),"O",IF(AND(X10<=4,Y10<=3),"I")))) -> N | U10: =IF(T10="","",T10) | W10: =COUNTA(M10:R10) -> 6 | X10: =COUNTIF(M10:R10,"O") -> 0 | Y10: =COUNTIF(M10:R10,"N") -> 6 | Z10: =COUNTIF(M10:R10,"I") -> 0 | AB10: =(W10+1)/2 -> 3.5 | AC10: =(W10-1)/2 -> 2.5
A11: 610 | H11: =IF(G11<>"",IF(AND(ROUNDDOWN((Date_Passage-E11)/365,0)<60,YEAR(G11)+5<YEAR(Date_Passage)),"OK",IF(AND(ROUNDDOWN((Date_Passage-E11)/365,0)<60,YEAR(G11)+5=YEAR(Date_Passage),MONTH(G11)<=MONTH(Date_Passage)),"OK",IF(AND(ROUNDDOWN((Date_Passage-E11)/365,0)>=60,YEAR(G11)+2<YEAR(Date_Passage)),"OK",IF(AND(ROUNDDOWN((Date_Passage-E11)/365,0)>=60,YEAR(G11)+2=YEAR(Date_Passage),MONTH(G11)<=MONTH(Date_Passage)),"OK","PAS LES DELAIS")))),"") | J11: =(U11) | M11: N | N11: N | O11: N | P11: N | Q11: N | R11: N | S11: =IF(AND(X11>=4),"O",IF(AND(Y11>=3),"N",IF(AND(X11=3,Y11=2),"O",IF(AND(X11<=4,Y11<=3),"I")))) -> N | U11: =IF(T11="","",T11) | W11: =COUNTA(M11:R11) -> 6 | X11: =COUNTIF(M11:R11,"O") -> 0 | Y11: =COUNTIF(M11:R11,"N") -> 6 | Z11: =COUNTIF(M11:R11,"I") -> 0 | AB11: =(W11+1)/2 -> 3.5 | AC11: =(W11-1)/2 -> 2.5
A12: 611 | H12: =IF(G12<>"",IF(AND(ROUNDDOWN((Date_Passage-E12)/365,0)<60,YEAR(G12)+5<YEAR(Date_Passage)),"OK",IF(AND(ROUNDDOWN((Date_Passage-E12)/365,0)<60,YEAR(G12)+5=YEAR(Date_Passage),MONTH(G12)<=MONTH(Date_Passage)),"OK",IF(AND(ROUNDDOWN((Date_Passage-E12)/365,0)>=60,YEAR(G12)+2<YEAR(Date_Passage)),"OK",IF(AND(ROUNDDOWN((Date_Passage-E12)/365,0)>=60,YEAR(G12)+2=YEAR(Date_Passage),MONTH(G12)<=MONTH(Date_Passage)),"OK","PAS LES DELAIS")))),"") | J12: =(U12) | M12: N | N12: N | O12: N | P12: N | Q12: N | R12: N | S12: =IF(AND(X12>=4),"O",IF(AND(Y12>=3),"N",IF(AND(X12=3,Y12=2),"O",IF(AND(X12<=4,Y12<=3),"I")))) -> N | U12: =IF(T12="","",T12) | W12: =COUNTA(M12:R12) -> 6 | X12: =COUNTIF(M12:R12,"O") -> 0 | Y12: =COUNTIF(M12:R12,"N") -> 6 | Z12: =COUNTIF(M12:R12,"I") -> 0 | AB12: =(W12+1)/2 -> 3.5 | AC12: =(W12-1)/2 -> 2.5
A13: 612 | H13: =IF(G13<>"",IF(AND(ROUNDDOWN((Date_Passage-E13)/365,0)<60,YEAR(G13)+5<YEAR(Date_Passage)),"OK",IF(AND(ROUNDDOWN((Date_Passage-E13)/365,0)<60,YEAR(G13)+5=YEAR(Date_Passage),MONTH(G13)<=MONTH(Date_Passage)),"OK",IF(AND(ROUNDDOWN((Date_Passage-E13)/365,0)>=60,YEAR(G13)+2<YEAR(Date_Passage)),"OK",IF(AND(ROUNDDOWN((Date_Passage-E13)/365,0)>=60,YEAR(G13)+2=YEAR(Date_Passage),MONTH(G13)<=MONTH(Date_Passage)),"OK","PAS LES DELAIS")))),"") | J13: =(U13) | M13: N | N13: N | O13: N | P13: N | Q13: N | R13: N | S13: =IF(AND(X13>=4),"O",IF(AND(Y13>=3),"N",IF(AND(X13=3,Y13=2),"O",IF(AND(X13<=4,Y13<=3),"I")))) -> N | U13: =IF(T13="","",T13) | W13: =COUNTA(M13:R13) -> 6 | X13: =COUNTIF(M13:R13,"O") -> 0 | Y13: =COUNTIF(M13:R13,"N") -> 6 | Z13: =COUNTIF(M13:R13,"I") -> 0 | AB13: =(W13+1)/2 -> 3.5 | AC13: =(W13-1)/2 -> 2.5
... A51: 650 | H51: =IF(G51<>"",IF(AND(ROUNDDOWN((Date_Passage-E51)/365,0)<60,YEAR(G51)+5<YEAR(Date_Passage)),"OK",IF(AND(ROUNDDOWN((Date_Passage-E51)/365,0)<60,YEAR(G51)+5=YEAR(Date_Passage),MONTH(G51)<=MONTH(Date_Passage)),"OK",IF(AND(ROUNDDOWN((Date_Passage-E51)/365,0)>=60,YEAR(G51)+2<YEAR(Date_Passage)),"OK",IF(AND(ROUNDDOWN((Date_Passage-E51)/365,0)>=60,YEAR(G51)+2=YEAR(Date_Passage),MONTH(G51)<=MONTH(Date_Passage)),"OK","PAS LES DELAIS")))),"") | J51: =(U51) | M51: N | N51: N | O51: N | P51: N | Q51: N | R51: N | S51: =IF(AND(X51>=4),"O",IF(AND(Y51>=3),"N",IF(AND(X51=3,Y51=2),"O",IF(AND(X51<=4,Y51<=3),"I")))) -> N | U51: =IF(T51="","",T51) | W51: =COUNTA(M51:R51) -> 6 | X51: =COUNTIF(M51:R51,"O") -> 0 | Y51: =COUNTIF(M51:R51,"N") -> 6 | Z51: =COUNTIF(M51:R51,"I") -> 0 | AB51: =(W51+1)/2 -> 3.5 | AC51: =(W51-1)/2 -> 2.5
I52: =SUM(I2:I51) -> 0 | J52: =COUNTIF(J2:J51,"O") -> 0 | K52: =SUM(K2:K51) -> 0

Sheet Fiche jury 6D
A7: PASSAGE DE GRADES DU : | E7: =IF(Bilan!B2="","",Bilan!B2) | H7: - | I7: =IF(Bilan!D2="","",Bilan!D2)
A9: Nom du Juré :
A11: N° | B11: Age | C11: Kirigaeshi | D11: Keiko 1 | E11: Keiko 2 | F11: Décision 1 | G11: Kata | H11: Décision 2 | I11: Observations
A12: 601 | B12: =IF('6èm Dan'!E2="","",INT((TODAY()-'6èm Dan'!E2)/365))
A13: 602 | B13: =IF('6èm Dan'!E3="","",INT((TODAY()-'6èm Dan'!E3)/365))
A14: 603 | B14: =IF('6èm Dan'!E4="","",INT((TODAY()-'6èm Dan'!E4)/365))
A15: 604 | B15: =IF('6èm Dan'!E5="","",INT((TODAY()-'6èm Dan'!E5)/365))
A16: 605 | B16: =IF('6èm Dan'!E6="","",INT((TODAY()-'6èm Dan'!E6)/365))
A17: 606 | B17: =IF('6èm Dan'!E7="","",INT((TODAY()-'6èm Dan'!E7)/365))
A18: 607 | B18: =IF('6èm Dan'!E8="","",INT((TODAY()-'6èm Dan'!E8)/365))
A19: 608 | B19: =IF('6èm Dan'!E9="","",INT((TODAY()-'6èm Dan'!E9)/365))
A20: 609 | B20: =IF('6èm Dan'!E10="","",INT((TODAY()-'6èm Dan'!E10)/365))
A21: 610 | B21: =IF('6èm Dan'!E11="","",INT((TODAY()-'6èm Dan'!E11)/365))
A22: 611 | B22: =IF('6èm Dan'!E12="","",INT((TODAY()-'6èm Dan'!E12)/365))
A23: 612 | B23: =IF('6èm Dan'!E13="","",INT((TODAY()-'6èm Dan'!E13)/365))
... A41: 630 | B41: =IF('6èm Dan'!E31="","",INT((TODAY()-'6èm Dan'!E31)/365))
A45: SIGNATURE
F48: CNK.FFJDA - INJ. 21,25 Avenue de la Porte de Châtillon 75680 PARIS Cedex 14

Sheet Résultat 6èm DAN
A2: PASSAGE DE GRADES DU : | C2: =IF(Bilan!B2="","",Bilan!B2) | E2: =IF(Bilan!D2="","",Bilan!D2) | G2: PASSAGE DE GRADES DU : | I2: =IF(Bilan!B2="","",Bilan!B2) | K2: =IF(Bilan!D2="","",Bilan!D2)
A4: =IF('6èm Dan'!J2="O",'6èm Dan'!A2," ") | C4: =IF('6èm Dan'!J12="O",'6èm Dan'!A12," ") | E4: =IF('6èm Dan'!J22="O",'6èm Dan'!A22," ") | G4: =IF('6èm Dan'!J32="O",'6èm Dan'!A32," ") | I4: =IF('6èm Dan'!J42="O",'6èm Dan'!A42," ")
A5: =IF('6èm Dan'!J3="O",'6èm Dan'!A3," ") | C5: =IF('6èm Dan'!J13="O",'6èm Dan'!A13," ") | E5: =IF('6èm Dan'!J23="O",'6èm Dan'!A23," ") | G5: =IF('6èm Dan'!J33="O",'6èm Dan'!A33," ") | I5: =IF('6èm Dan'!J43="O",'6èm Dan'!A43," ")
A6: =IF('6èm Dan'!J4="O",'6èm Dan'!A4," ") | C6: =IF('6èm Dan'!J14="O",'6èm Dan'!A14," ") | E6: =IF('6èm Dan'!J24="O",'6èm Dan'!A24," ") | G6: =IF('6èm Dan'!J34="O",'6èm Dan'!A34," ") | I6: =IF('6èm Dan'!J44="O",'6èm Dan'!A44," ")
A7: =IF('6èm Dan'!J5="O",'6èm Dan'!A5," ") | C7: =IF('6èm Dan'!J15="O",'6èm Dan'!A15," ") | E7: =IF('6èm Dan'!J25="O",'6èm Dan'!A25," ") | G7: =IF('6èm Dan'!J35="O",'6èm Dan'!A35," ") | I7: =IF('6èm Dan'!J45="O",'6èm Dan'!A45," ")
A8: =IF('6èm Dan'!J6="O",'6èm Dan'!A6," ") | C8: =IF('6èm Dan'!J16="O",'6èm Dan'!A16," ") | E8: =IF('6èm Dan'!J26="O",'6èm Dan'!A26," ") | G8: =IF('6èm Dan'!J36="O",'6èm Dan'!A36," ") | I8: =IF('6èm Dan'!J46="O",'6èm Dan'!A46," ")
A9: =IF('6èm Dan'!J7="O",'6èm Dan'!A7," ") | C9: =IF('6èm Dan'!J17="O",'6èm Dan'!A17," ") | E9: =IF('6èm Dan'!J27="O",'6èm Dan'!A27," ") | G9: =IF('6èm Dan'!J37="O",'6èm Dan'!A37," ") | I9: =IF('6èm Dan'!J47="O",'6èm Dan'!A47," ")
A10: =IF('6èm Dan'!J8="O",'6èm Dan'!A8," ") | C10: =IF('6èm Dan'!J18="O",'6èm Dan'!A18," ") | E10: =IF('6èm Dan'!J28="O",'6èm Dan'!A28," ") | G10: =IF('6èm Dan'!J38="O",'6èm Dan'!A38," ") | I10: =IF('6èm Dan'!J48="O",'6èm Dan'!A48," ")
A11: =IF('6èm Dan'!J9="O",'6èm Dan'!A9," ") | C11: =IF('6èm Dan'!J19="O",'6èm Dan'!A19," ") | E11: =IF('6èm Dan'!J29="O",'6èm Dan'!A29," ") | G11: =IF('6èm Dan'!J39="O",'6èm Dan'!A39," ") | I11: =IF('6èm Dan'!J49="O",'6èm Dan'!A49," ")
A12: =IF('6èm Dan'!J10="O",'6èm Dan'!A10," ") | C12: =IF('6èm Dan'!J20="O",'6èm Dan'!A20," ") | E12: =IF('6èm Dan'!J30="O",'6èm Dan'!A30," ") | G12: =IF('6èm Dan'!J40="O",'6èm Dan'!A40," ") | I12: =IF('6èm Dan'!J50="O",'6èm Dan'!A50," ")
A13: =IF('6èm Dan'!J11="O",'6èm Dan'!A11," ") | C13: =IF('6èm Dan'!J21="O",'6èm Dan'!A21," ") | E13: =IF('6èm Dan'!J31="O",'6èm Dan'!A31," ") | G13: =IF('6èm Dan'!J41="O",'6èm Dan'!A41," ") | I13: =IF('6èm Dan'!J51="O",'6èm Dan'!A51," ")

Sheet 7èm DAN
A1: N° | B1: Nom | C1: Prénom | D1: Club | E1: Date de Naissance | F1: N° licence | G1: Date du 6ème DAN | H1: Verification des delais | I1: Inscription | J1: Résultat | K1: Enreg. | M1: Jury 1 | N1: Jury 2 | O1: Jury 3 | P1: Jury 4 | Q1: Jury 5 | R1: Jury 6 | S1: Decision 1 | T1: Kata | U1: Decision 2 | W1: Nb de Jury | X1: Nb de Oui | Y1: Nb de Non | Z1: Nb Indécis | AB1: (J+1)/2 | AC1: (J-1)/2
A2: 701 | H2: =IF(G2<>"",IF(AND(ROUNDDOWN((Date_Passage-E2)/365,0)<60,YEAR(G2)+6<YEAR(Date_Passage)),"OK",IF(AND(ROUNDDOWN((Date_Passage-E2)/365,0)<60,YEAR(G2)+6=YEAR(Date_Passage),MONTH(G2)<=MONTH(Date_Passage)),"OK",IF(AND(ROUNDDOWN((Date_Passage-E2)/365,0)>=60,YEAR(G2)+3<YEAR(Date_Passage)),"OK",IF(AND(ROUNDDOWN((Date_Passage-E2)/365,0)>=60,YEAR(G2)+3=YEAR(Date_Passage),MONTH(G2)<=MONTH(Date_Passage)),"OK","PAS LES DELAIS")))),"") | J2: =(U2) | M2: N | N2: N | O2: N | P2: N | Q2: N | R2: N | S2: =IF(AND(X2>=4),"O",IF(AND(Y2>=3),"N",IF(AND(X2=3,Y2=2),"O",IF(AND(X2<=4,Y2<=3),"I")))) -> N | U2: =IF(T2="","",T2) | W2: =COUNTA(M2:R2) -> 6 | X2: =COUNTIF(M2:R2,"O") -> 0 | Y2: =COUNTIF(M2:R2,"N") -> 6 | Z2: =COUNTIF(M2:R2,"I") -> 0 | AB2: =(W2+1)/2 -> 3.5 | AC2: =(W2-1)/2 -> 2.5
A3: 702 | H3: =IF(G3<>"",IF(AND(ROUNDDOWN((Date_Passage-E3)/365,0)<60,YEAR(G3)+6<YEAR(Date_Passage)),"OK",IF(AND(ROUNDDOWN((Date_Passage-E3)/365,0)<60,YEAR(G3)+6=YEAR(Date_Passage),MONTH(G3)<=MONTH(Date_Passage)),"OK",IF(AND(ROUNDDOWN((Date_Passage-E3)/365,0)>=60,YEAR(G3)+3<YEAR(Date_Passage)),"OK",IF(AND(ROUNDDOWN((Date_Passage-E3)/365,0)>=60,YEAR(G3)+3=YEAR(Date_Passage),MONTH(G3)<=MONTH(Date_Passage)),"OK","PAS LES DELAIS")))),"") | J3: =(U3) | M3: N | N3: N | O3: N | P3: N | Q3: N | R3: N | S3: =IF(AND(X3>=4),"O",IF(AND(Y3>=3),"N",IF(AND(X3=3,Y3=2),"O",IF(AND(X3<=4,Y3<=3),"I")))) -> N | U3: =IF(T3="","",T3) | W3: =COUNTA(M3:R3) -> 6 | X3: =COUNTIF(M3:R3,"O") -> 0 | Y3: =COUNTIF(M3:R3,"N") -> 6 | Z3: =COUNTIF(M3:R3,"I") -> 0 | AB3: =(W3+1)/2 -> 3.5 | AC3: =(W3-1)/2 -> 2.5
A4: 703 | H4: =IF(G4<>"",IF(AND(ROUNDDOWN((Date_Passage-E4)/365,0)<60,YEAR(G4)+6<YEAR(Date_Passage)),"OK",IF(AND(ROUNDDOWN((Date_Passage-E4)/365,0)<60,YEAR(G4)+6=YEAR(Date_Passage),MONTH(G4)<=MONTH(Date_Passage)),"OK",IF(AND(ROUNDDOWN((Date_Passage-E4)/365,0)>=60,YEAR(G4)+3<YEAR(Date_Passage)),"OK",IF(AND(ROUNDDOWN((Date_Passage-E4)/365,0)>=60,YEAR(G4)+3=YEAR(Date_Passage),MONTH(G4)<=MONTH(Date_Passage)),"OK","PAS LES DELAIS")))),"") | J4: =(U4) | M4: N | N4: N | O4: N | P4: N | Q4: N | R4: N | S4: =IF(AND(X4>=4),"O",IF(AND(Y4>=3),"N",IF(AND(X4=3,Y4=2),"O",IF(AND(X4<=4,Y4<=3),"I")))) -> N | U4: =IF(T4="","",T4) | W4: =COUNTA(M4:R4) -> 6 | X4: =COUNTIF(M4:R4,"O") -> 0 | Y4: =COUNTIF(M4:R4,"N") -> 6 | Z4: =COUNTIF(M4:R4,"I") -> 0 | AB4: =(W4+1)/2 -> 3.5 | AC4: =(W4-1)/2 -> 2.5
A5: 704 | H5: =IF(G5<>"",IF(AND(ROUNDDOWN((Date_Passage-E5)/365,0)<60,YEAR(G5)+6<YEAR(Date_Passage)),"OK",IF(AND(ROUNDDOWN((Date_Passage-E5)/365,0)<60,YEAR(G5)+6=YEAR(Date_Passage),MONTH(G5)<=MONTH(Date_Passage)),"OK",IF(AND(ROUNDDOWN((Date_Passage-E5)/365,0)>=60,YEAR(G5)+3<YEAR(Date_Passage)),"OK",IF(AND(ROUNDDOWN((Date_Passage-E5)/365,0)>=60,YEAR(G5)+3=YEAR(Date_Passage),MONTH(G5)<=MONTH(Date_Passage)),"OK","PAS LES DELAIS")))),"") | J5: =(U5) | M5: N | N5: N | O5: N | P5: N | Q5: N | R5: N | S5: =IF(AND(X5>=4),"O",IF(AND(Y5>=3),"N",IF(AND(X5=3,Y5=2),"O",IF(AND(X5<=4,Y5<=3),"I")))) -> N | U5: =IF(T5="","",T5) | W5: =COUNTA(M5:R5) -> 6 | X5: =COUNTIF(M5:R5,"O") -> 0 | Y5: =COUNTIF(M5:R5,"N") -> 6 | Z5: =COUNTIF(M5:R5,"I") -> 0 | AB5: =(W5+1)/2 -> 3.5 | AC5: =(W5-1)/2 -> 2.5
A6: 705 | H6: =IF(G6<>"",IF(AND(ROUNDDOWN((Date_Passage-E6)/365,0)<60,YEAR(G6)+6<YEAR(Date_Passage)),"OK",IF(AND(ROUNDDOWN((Date_Passage-E6)/365,0)<60,YEAR(G6)+6=YEAR(Date_Passage),MONTH(G6)<=MONTH(Date_Passage)),"OK",IF(AND(ROUNDDOWN((Date_Passage-E6)/365,0)>=60,YEAR(G6)+3<YEAR(Date_Passage)),"OK",IF(AND(ROUNDDOWN((Date_Passage-E6)/365,0)>=60,YEAR(G6)+3=YEAR(Date_Passage),MONTH(G6)<=MONTH(Date_Passage)),"OK","PAS LES DELAIS")))),"") | J6: =(U6) | M6: N | N6: N | O6: N | P6: N | Q6: N | R6: N | S6: =IF(AND(X6>=4),"O",IF(AND(Y6>=3),"N",IF(AND(X6=3,Y6=2),"O",IF(AND(X6<=4,Y6<=3),"I")))) -> N | U6: =IF(T6="","",T6) | W6: =COUNTA(M6:R6) -> 6 | X6: =COUNTIF(M6:R6,"O") -> 0 | Y6: =COUNTIF(M6:R6,"N") -> 6 | Z6: =COUNTIF(M6:R6,"I") -> 0 | AB6: =(W6+1)/2 -> 3.5 | AC6: =(W6-1)/2 -> 2.5
A7: 706 | H7: =IF(G7<>"",IF(AND(ROUNDDOWN((Date_Passage-E7)/365,0)<60,YEAR(G7)+6<YEAR(Date_Passage)),"OK",IF(AND(ROUNDDOWN((Date_Passage-E7)/365,0)<60,YEAR(G7)+6=YEAR(Date_Passage),MONTH(G7)<=MONTH(Date_Passage)),"OK",IF(AND(ROUNDDOWN((Date_Passage-E7)/365,0)>=60,YEAR(G7)+3<YEAR(Date_Passage)),"OK",IF(AND(ROUNDDOWN((Date_Passage-E7)/365,0)>=60,YEAR(G7)+3=YEAR(Date_Passage),MONTH(G7)<=MONTH(Date_Passage)),"OK","PAS LES DELAIS")))),"") | J7: =(U7) | M7: N | N7: N | O7: N | P7: N | Q7: N | R7: N | S7: =IF(AND(X7>=4),"O",IF(AND(Y7>=3),"N",IF(AND(X7=3,Y7=2),"O",IF(AND(X7<=4,Y7<=3),"I")))) -> N | U7: =IF(T7="","",T7) | W7: =COUNTA(M7:R7) -> 6 | X7: =COUNTIF(M7:R7,"O") -> 0 | Y7: =COUNTIF(M7:R7,"N") -> 6 | Z7: =COUNTIF(M7:R7,"I") -> 0 | AB7: =(W7+1)/2 -> 3.5 | AC7: =(W7-1)/2 -> 2.5
A8: 707 | H8: =IF(G8<>"",IF(AND(ROUNDDOWN((Date_Passage-E8)/365,0)<60,YEAR(G8)+6<YEAR(Date_Passage)),"OK",IF(AND(ROUNDDOWN((Date_Passage-E8)/365,0)<60,YEAR(G8)+6=YEAR(Date_Passage),MONTH(G8)<=MONTH(Date_Passage)),"OK",IF(AND(ROUNDDOWN((Date_Passage-E8)/365,0)>=60,YEAR(G8)+3<YEAR(Date_Passage)),"OK",IF(AND(ROUNDDOWN((Date_Passage-E8)/365,0)>=60,YEAR(G8)+3=YEAR(Date_Passage),MONTH(G8)<=MONTH(Date_Passage)),"OK","PAS LES DELAIS")))),"") | J8: =(U8) | M8: N | N8: N | O8: N | P8: N | Q8: N | R8: N | S8: =IF(AND(X8>=4),"O",IF(AND(Y8>=3),"N",IF(AND(X8=3,Y8=2),"O",IF(AND(X8<=4,Y8<=3),"I")))) -> N | U8: =IF(T8="","",T8) | W8: =COUNTA(M8:R8) -> 6 | X8: =COUNTIF(M8:R8,"O") -> 0 | Y8: =COUNTIF(M8:R8,"N") -> 6 | Z8: =COUNTIF(M8:R8,"I") -> 0 | AB8: =(W8+1)/2 -> 3.5 | AC8: =(W8-1)/2 -> 2.5
A9: 708 | H9: =IF(G9<>"",IF(AND(ROUNDDOWN((Date_Passage-E9)/365,0)<60,YEAR(G9)+6<YEAR(Date_Passage)),"OK",IF(AND(ROUNDDOWN((Date_Passage-E9)/365,0)<60,YEAR(G9)+6=YEAR(Date_Passage),MONTH(G9)<=MONTH(Date_Passage)),"OK",IF(AND(ROUNDDOWN((Date_Passage-E9)/365,0)>=60,YEAR(G9)+3<YEAR(Date_Passage)),"OK",IF(AND(ROUNDDOWN((Date_Passage-E9)/365,0)>=60,YEAR(G9)+3=YEAR(Date_Passage),MONTH(G9)<=MONTH(Date_Passage)),"OK","PAS LES DELAIS")))),"") | J9: =(U9) | M9: N | N9: N | O9: N | P9: N | Q9: N | R9: N | S9: =IF(AND(X9>=4),"O",IF(AND(Y9>=3),"N",IF(AND(X9=3,Y9=2),"O",IF(AND(X9<=4,Y9<=3),"I")))) -> N | U9: =IF(T9="","",T9) | W9: =COUNTA(M9:R9) -> 6 | X9: =COUNTIF(M9:R9,"O") -> 0 | Y9: =COUNTIF(M9:R9,"N") -> 6 | Z9: =COUNTIF(M9:R9,"I") -> 0 | AB9: =(W9+1)/2 -> 3.5 | AC9: =(W9-1)/2 -> 2.5
A10: 709 | H10: =IF(G10<>"",IF(AND(ROUNDDOWN((Date_Passage-E10)/365,0)<60,YEAR(G10)+6<YEAR(Date_Passage)),"OK",IF(AND(ROUNDDOWN((Date_Passage-E10)/365,0)<60,YEAR(G10)+6=YEAR(Date_Passage),MONTH(G10)<=MONTH(Date_Passage)),"OK",IF(AND(ROUNDDOWN((Date_Passage-E10)/365,0)>=60,YEAR(G10)+3<YEAR(Date_Passage)),"OK",IF(AND(ROUNDDOWN((Date_Passage-E10)/365,0)>=60,YEAR(G10)+3=YEAR(Date_Passage),MONTH(G10)<=MONTH(Date_Passage)),"OK","PAS LES DELAIS")))),"") | J10: =(U10) | M10: N | N10: N | O10: N | P10: N | Q10: N | R10: N | S10: =IF(AND(X10>=4),"O",IF(AND(Y10>=3),"N",IF(AND(X10=3,Y10=2),"O",IF(AND(X10<=4,Y10<=3),"I")))) -> N | U10: =IF(T10="","",T10) | W10: =COUNTA(M10:R10) -> 6 | X10: =COUNTIF(M10:R10,"O") -> 0 | Y10: =COUNTIF(M10:R10,"N") -> 6 | Z10: =COUNTIF(M10:R10,"I") -> 0 | AB10: =(W10+1)/2 -> 3.5 | AC10: =(W10-1)/2 -> 2.5
A11: 710 | H11: =IF(G11<>"",IF(AND(ROUNDDOWN((Date_Passage-E11)/365,0)<60,YEAR(G11)+6<YEAR(Date_Passage)),"OK",IF(AND(ROUNDDOWN((Date_Passage-E11)/365,0)<60,YEAR(G11)+6=YEAR(Date_Passage),MONTH(G11)<=MONTH(Date_Passage)),"OK",IF(AND(ROUNDDOWN((Date_Passage-E11)/365,0)>=60,YEAR(G11)+3<YEAR(Date_Passage)),"OK",IF(AND(ROUNDDOWN((Date_Passage-E11)/365,0)>=60,YEAR(G11)+3=YEAR(Date_Passage),MONTH(G11)<=MONTH(Date_Passage)),"OK","PAS LES DELAIS")))),"") | J11: =(U11) | M11: N | N11: N | O11: N | P11: N | Q11: N | R11: N | S11: =IF(AND(X11>=4),"O",IF(AND(Y11>=3),"N",IF(AND(X11=3,Y11=2),"O",IF(AND(X11<=4,Y11<=3),"I")))) -> N | U11: =IF(T11="","",T11) | W11: =COUNTA(M11:R11) -> 6 | X11: =COUNTIF(M11:R11,"O") -> 0 | Y11: =COUNTIF(M11:R11,"N") -> 6 | Z11: =COUNTIF(M11:R11,"I") -> 0 | AB11: =(W11+1)/2 -> 3.5 | AC11: =(W11-1)/2 -> 2.5
A12: 711 | H12: =IF(G12<>"",IF(AND(ROUNDDOWN((Date_Passage-E12)/365,0)<60,YEAR(G12)+6<YEAR(Date_Passage)),"OK",IF(AND(ROUNDDOWN((Date_Passage-E12)/365,0)<60,YEAR(G12)+6=YEAR(Date_Passage),MONTH(G12)<=MONTH(Date_Passage)),"OK",IF(AND(ROUNDDOWN((Date_Passage-E12)/365,0)>=60,YEAR(G12)+3<YEAR(Date_Passage)),"OK",IF(AND(ROUNDDOWN((Date_Passage-E12)/365,0)>=60,YEAR(G12)+3=YEAR(Date_Passage),MONTH(G12)<=MONTH(Date_Passage)),"OK","PAS LES DELAIS")))),"") | J12: =(U12) | M12: N | N12: N | O12: N | P12: N | Q12: N | R12: N | S12: =IF(AND(X12>=4),"O",IF(AND(Y12>=3),"N",IF(AND(X12=3,Y12=2),"O",IF(AND(X12<=4,Y12<=3),"I")))) -> N | U12: =IF(T12="","",T12) | W12: =COUNTA(M12:R12) -> 6 | X12: =COUNTIF(M12:R12,"O") -> 0 | Y12: =COUNTIF(M12:R12,"N") -> 6 | Z12: =COUNTIF(M12:R12,"I") -> 0 | AB12: =(W12+1)/2 -> 3.5 | AC12: =(W12-1)/2 -> 2.5
A13: 712 | H13: =IF(G13<>"",IF(AND(ROUNDDOWN((Date_Passage-E13)/365,0)<60,YEAR(G13)+6<YEAR(Date_Passage)),"OK",IF(AND(ROUNDDOWN((Date_Passage-E13)/365,0)<60,YEAR(G13)+6=YEAR(Date_Passage),MONTH(G13)<=MONTH(Date_Passage)),"OK",IF(AND(ROUNDDOWN((Date_Passage-E13)/365,0)>=60,YEAR(G13)+3<YEAR(Date_Passage)),"OK",IF(AND(ROUNDDOWN((Date_Passage-E13)/365,0)>=60,YEAR(G13)+3=YEAR(Date_Passage),MONTH(G13)<=MONTH(Date_Passage)),"OK","PAS LES DELAIS")))),"") | J13: =(U13) | M13: N | N13: N | O13: N | P13: N | Q13: N | R13: N | S13: =IF(AND(X13>=4),"O",IF(AND(Y13>=3),"N",IF(AND(X13=3,Y13=2),"O",IF(AND(X13<=4,Y13<=3),"I")))) -> N | U13: =IF(T13="","",T13) | W13: =COUNTA(M13:R13) -> 6 | X13: =COUNTIF(M13:R13,"O") -> 0 | Y13: =COUNTIF(M13:R13,"N") -> 6 | Z13: =COUNTIF(M13:R13,"I") -> 0 | AB13: =(W13+1)/2 -> 3.5 | AC13: =(W13-1)/2 -> 2.5
... A51: 750 | H51: =IF(G51<>"",IF(AND(ROUNDDOWN((Date_Passage-E51)/365,0)<60,YEAR(G51)+6<YEAR(Date_Passage)),"OK",IF(AND(ROUNDDOWN((Date_Passage-E51)/365,0)<60,YEAR(G51)+6=YEAR(Date_Passage),MONTH(G51)<=MONTH(Date_Passage)),"OK",IF(AND(ROUNDDOWN((Date_Passage-E51)/365,0)>=60,YEAR(G51)+3<YEAR(Date_Passage)),"OK",IF(AND(ROUNDDOWN((Date_Passage-E51)/365,0)>=60,YEAR(G51)+3=YEAR(Date_Passage),MONTH(G51)<=MONTH(Date_Passage)),"OK","PAS LES DELAIS")))),"") | J51: =(U51) | M51: N | N51: N | O51: N | P51: N | Q51: N | R51: N | S51: =IF(AND(X51>=4),"O",IF(AND(Y51>=3),"N",IF(AND(X51=3,Y51=2),"O",IF(AND(X51<=4,Y51<=3),"I")))) -> N | U51: =IF(T51="","",T51) | W51: =COUNTA(M51:R51) -> 6 | X51: =COUNTIF(M51:R51,"O") -> 0 | Y51: =COUNTIF(M51:R51,"N") -> 6 | Z51: =COUNTIF(M51:R51,"I") -> 0 | AB51: =(W51+1)/2 -> 3.5 | AC51: =(W51-1)/2 -> 2.5
I52: =SUM(I2:I51) -> 0 | J52: =COUNTIF(J2:J51,"O") -> 0 | K52: =SUM(K2:K51) -> 0

Sheet Fiche Jury 7D
A7: PASSAGE DE GRADES DU : | E7: =IF(Bilan!B2="","",Bilan!B2) | H7: - | I7: =IF(Bilan!D2="","",Bilan!D2)
A9: Nom du Juré :
A11: N° | B11: Age | C11: Kirigaeshi | D11: Keiko 1 | E11: Keiko 2 | F11: Décision 1 | G11: Kata | H11: Décision 2 | I11: Observations
A12: 701 | B12: =IF('7èm DAN'!E2="","",INT((TODAY()-'7èm DAN'!E2)/365))
A13: 702 | B13: =IF('7èm DAN'!E3="","",INT((TODAY()-'7èm DAN'!E3)/365))
A14: 703 | B14: =IF('7èm DAN'!E4="","",INT((TODAY()-'7èm DAN'!E4)/365))
A15: 704 | B15: =IF('7èm DAN'!E5="","",INT((TODAY()-'7èm DAN'!E5)/365))
A16: 705 | B16: =IF('7èm DAN'!E6="","",INT((TODAY()-'7èm DAN'!E6)/365))
A17: 706 | B17: =IF('7èm DAN'!E7="","",INT((TODAY()-'7èm DAN'!E7)/365))
A18: 707 | B18: =IF('7èm DAN'!E8="","",INT((TODAY()-'7èm DAN'!E8)/365))
A19: 708 | B19: =IF('7èm DAN'!E9="","",INT((TODAY()-'7èm DAN'!E9)/365))
A20: 709 | B20: =IF('7èm DAN'!E10="","",INT((TODAY()-'7èm DAN'!E10)/365))
A21: 710 | B21: =IF('7èm DAN'!E11="","",INT((TODAY()-'7èm DAN'!E11)/365))
A22: 711 | B22: =IF('7èm DAN'!E12="","",INT((TODAY()-'7èm DAN'!E12)/365))
A23: 712 | B23: =IF('7èm DAN'!E13="","",INT((TODAY()-'7èm DAN'!E13)/365))
... A41: 730 | B41: =IF('7èm DAN'!E31="","",INT((TODAY()-'7èm DAN'!E31)/365))
A45: SIGNATURE
F48: CNK.FFJDA - INJ. 21,25 Avenue de la Porte de Châtillon 75680 PARIS Cedex 14

Sheet Résultat 7èm DAN
A2: PASSAGE DE GRADES DU : | C2: =IF(Bilan!B2="","",Bilan!B2) | E2: =IF(Bilan!D2="","",Bilan!D2) | G2: PASSAGE DE GRADES DU : | I2: =IF(Bilan!B2="","",Bilan!B2) | K2: =IF(Bilan!D2="","",Bilan!D2)
A4: =IF('7èm DAN'!J2="O",'7èm DAN'!A2," ") | C4: =IF('7èm DAN'!J12="O",'7èm DAN'!A12," ") | E4: =IF('7èm DAN'!J22="O",'7èm DAN'!A22," ") | G4: =IF('7èm DAN'!J32="O",'7èm DAN'!A32," ") | I4: =IF('7èm DAN'!J42="O",'7èm DAN'!A42," ")
A5: =IF('7èm DAN'!J3="O",'7èm DAN'!A3," ") | C5: =IF('7èm DAN'!J13="O",'7èm DAN'!A13," ") | E5: =IF('7èm DAN'!J23="O",'7èm DAN'!A23," ") | G5: =IF('7èm DAN'!J33="O",'7èm DAN'!A33," ") | I5: =IF('7èm DAN'!J43="O",'7èm DAN'!A43," ")
A6: =IF('7èm DAN'!J4="O",'7èm DAN'!A4," ") | C6: =IF('7èm DAN'!J14="O",'7èm DAN'!A14," ") | E6: =IF('7èm DAN'!J24="O",'7èm DAN'!A24," ") | G6: =IF('7èm DAN'!J34="O",'7èm DAN'!A34," ") | I6: =IF('7èm DAN'!J44="O",'7èm DAN'!A44," ")
A7: =IF('7èm DAN'!J5="O",'7èm DAN'!A5," ") | C7: =IF('7èm DAN'!J15="O",'7èm DAN'!A15," ") | E7: =IF('7èm DAN'!J25="O",'7èm DAN'!A25," ") | G7: =IF('7èm DAN'!J35="O",'7èm DAN'!A35," ") | I7: =IF('7èm DAN'!J45="O",'7èm DAN'!A45," ")
A8: =IF('7èm DAN'!J6="O",'7èm DAN'!A6," ") | C8: =IF('7èm DAN'!J16="O",'7èm DAN'!A16," ") | E8: =IF('7èm DAN'!J26="O",'7èm DAN'!A26," ") | G8: =IF('7èm DAN'!J36="O",'7èm DAN'!A36," ") | I8: =IF('7èm DAN'!J46="O",'7èm DAN'!A46," ")
A9: =IF('7èm DAN'!J7="O",'7èm DAN'!A7," ") | C9: =IF('7èm DAN'!J17="O",'7èm DAN'!A17," ") | E9: =IF('7èm DAN'!J27="O",'7èm DAN'!A27," ") | G9: =IF('7èm DAN'!J37="O",'7èm DAN'!A37," ") | I9: =IF('7èm DAN'!J47="O",'7èm DAN'!A47," ")
A10: =IF('7èm DAN'!J8="O",'7èm DAN'!A8," ") | C10: =IF('7èm DAN'!J18="O",'7èm DAN'!A18," ") | E10: =IF('7èm DAN'!J28="O",'7èm DAN'!A28," ") | G10: =IF('7èm DAN'!J38="O",'7èm DAN'!A38," ") | I10: =IF('7èm DAN'!J48="O",'7èm DAN'!A48," ")
A11: =IF('7èm DAN'!J9="O",'7èm DAN'!A9," ") | C11: =IF('7èm DAN'!J19="O",'7èm DAN'!A19," ") | E11: =IF('7èm DAN'!J29="O",'7èm DAN'!A29," ") | G11: =IF('7èm DAN'!J39="O",'7èm DAN'!A39," ") | I11: =IF('7èm DAN'!J49="O",'7èm DAN'!A49," ")
A12: =IF('7èm DAN'!J10="O",'7èm DAN'!A10," ") | C12: =IF('7èm DAN'!J20="O",'7èm DAN'!A20," ") | E12: =IF('7èm DAN'!J30="O",'7èm DAN'!A30," ") | G12: =IF('7èm DAN'!J40="O",'7èm DAN'!A40," ") | I12: =IF('7èm DAN'!J50="O",'7èm DAN'!A50," ")
A13: =IF('7èm DAN'!J11="O",'7èm DAN'!A11," ") | C13: =IF('7èm DAN'!J21="O",'7èm DAN'!A21," ") | E13: =IF('7èm DAN'!J31="O",'7èm DAN'!A31," ") | G13: =IF('7èm DAN'!J41="O",'7èm DAN'!A41," ") | I13: =IF('7èm DAN'!J51="O",'7èm DAN'!A51," ")
