BEGIN:VCALENDAR
VERSION:2.0
PRODID:-//Comité National de Kendo et Disciplines Rattachées - ECPv6.15.20//NONSGML v1.0//EN
CALSCALE:GREGORIAN
METHOD:PUBLISH
X-WR-CALNAME:Comité National de Kendo et Disciplines Rattachées
X-ORIGINAL-URL:https://cnkendo-dr.com
X-WR-CALDESC:Évènements pour Comité National de Kendo et Disciplines Rattachées
REFRESH-INTERVAL;VALUE=DURATION:PT1H
X-Robots-Tag:noindex
X-PUBLISHED-TTL:PT1H
BEGIN:VTIMEZONE
TZID:Europe/Paris
BEGIN:DAYLIGHT
TZOFFSETFROM:+0100
TZOFFSETTO:+0200
TZNAME:CEST
DTSTART:20220327T010000
END:DAYLIGHT
BEGIN:STANDARD
TZOFFSETFROM:+0200
TZOFFSETTO:+0100
TZNAME:CET
DTSTART:20221030T010000
END:STANDARD
BEGIN:DAYLIGHT
TZOFFSETFROM:+0100
TZOFFSETTO:+0200
TZNAME:CEST
DTSTART:20230326T010000
END:DAYLIGHT
BEGIN:STANDARD
TZOFFSETFROM:+0200
TZOFFSETTO:+0100
TZNAME:CET
DTSTART:20231029T010000
END:STANDARD
BEGIN:DAYLIGHT
TZOFFSETFROM:+0100
TZOFFSETTO:+0200
TZNAME:CEST
DTSTART:20240331T010000
END:DAYLIGHT
BEGIN:STANDARD
TZOFFSETFROM:+0200
TZOFFSETTO:+0100
TZNAME:CET
DTSTART:20241027T010000
END:STANDARD
END:VTIMEZONE
BEGIN:VEVENT
DTSTART;VALUE=DATE:20230617
DTEND;VALUE=DATE:20230619
DTSTAMP:20260425T173616
CREATED:20230228T180604Z
LAST-MODIFIED:20230420T074118Z
UID:30023-1686960000-1687132799@cnkendo-dr.com
SUMMARY:Iaïdo - Stage Haut Niveau CNKDR/EKF High Level Seminar- Mulhouse
DESCRIPTION:PROGRAMME : Dimanche 31 Mars 13h-16h  \n13h00 : Contrôle des inscriptions 13h30 : Début de la compétition15h30 : Remise des récompences \n \nAdministration \nRéférence chapitres : A./Engagement – C./Déroulement des manifestations – D./Formule de compétition. \n \n  \nAccès \nOuvert aux pratiquantes des catégories (8) : séniors femmes âgées de 18 ans et +\, seules les Espoirs de 17 ans ont la possibilité d’être surclassées   (voir annexe N° C/1)  \nOuvert à toutes les pratiquantes ayant une licence française en-cours. \nLes inscriptions se feront informatiquement par un club affilié CNKDR. Le club peut inscrire une équipe à partir du moment où il a au minimum deux combattantes. \nPour les pratiquantes seules\, des inscriptions appelées « Ronin » seront réalisées. \n  \nArbitrage \nRèglement international (Sanbon Shobu) \n  \nFormule de compétition \nPoule éliminatoire de 3 ou 4 puis tableau final. \nLes deux  premières de chaque poule sont qualifiées et se placent pour le tableau final selon leur résultat en poule. (Chapitre D.§III). \n  \nTemps de compétition \n4 minutes en poule.  \n5 minutes en tableau avec combat supplémentaire en Ippon Shobu\, si égalité de victoires et de points à l’issue de la rencontre. \n  \nTirage au sort \nEn présence de membres du Comité de Direction\, le tirage informatique pourra être effectué avant la compétition\, une fois la clôture des inscriptions effective. \nLes équipes d’un même club seront éloignées dans la mesure du possible. \nLe podium de l’année passée sera écarté. \nL’attribution des Ronins se fera par rapprochement géographique. \n  \nComposition de l’équipe \nEquipe de 3 combattantes + 1 remplaçante d’un même club.  \nLa composition des équipes peut être changée à chaque match\, mais l’ordre doit toujours respecter les grades (ordre croissant) \nL’ordre de passage est déterminé par les grades de kyu à 7eme Dan (ordre croissant). \nLes équipières saluent et combattent dans l’ordre de passage. \nTout changement de place\, non réglementaire\, entraîne la disqualification de toute l’équipe.
URL:https://cnkendo-dr.com/event/iaido-high-level-seminar/
LOCATION:MULHOUSE – Centre Sportif Régional Alsace\, 5 Rue des Frères Lumière\, MULHOUSE\, 68200\, France
CATEGORIES:Examens,Passages de grade,Stage
ATTACH;FMTTYPE=image/jpeg:https://cnkendo-dr.com/wp-content/uploads/2023/02/StageIaidoMulhouse23.jpg
ORGANIZER;CN="CNKDR Iaido":MAILTO:iaido@cnkendo-dr.com
END:VEVENT
END:VCALENDAR