BEGIN:VCALENDAR
VERSION:2.0
PRODID:-//Comité National de Kendo et Disciplines Rattachées - ECPv6.15.20//NONSGML v1.0//EN
CALSCALE:GREGORIAN
METHOD:PUBLISH
X-WR-CALNAME:Comité National de Kendo et Disciplines Rattachées
X-ORIGINAL-URL:https://cnkendo-dr.com
X-WR-CALDESC:Évènements pour Comité National de Kendo et Disciplines Rattachées
REFRESH-INTERVAL;VALUE=DURATION:PT1H
X-Robots-Tag:noindex
X-PUBLISHED-TTL:PT1H
BEGIN:VTIMEZONE
TZID:Europe/Paris
BEGIN:DAYLIGHT
TZOFFSETFROM:+0100
TZOFFSETTO:+0200
TZNAME:CEST
DTSTART:20240331T010000
END:DAYLIGHT
BEGIN:STANDARD
TZOFFSETFROM:+0200
TZOFFSETTO:+0100
TZNAME:CET
DTSTART:20241027T010000
END:STANDARD
BEGIN:DAYLIGHT
TZOFFSETFROM:+0100
TZOFFSETTO:+0200
TZNAME:CEST
DTSTART:20250330T010000
END:DAYLIGHT
BEGIN:STANDARD
TZOFFSETFROM:+0200
TZOFFSETTO:+0100
TZNAME:CET
DTSTART:20251026T010000
END:STANDARD
BEGIN:DAYLIGHT
TZOFFSETFROM:+0100
TZOFFSETTO:+0200
TZNAME:CEST
DTSTART:20260329T010000
END:DAYLIGHT
BEGIN:STANDARD
TZOFFSETFROM:+0200
TZOFFSETTO:+0100
TZNAME:CET
DTSTART:20261025T010000
END:STANDARD
END:VTIMEZONE
BEGIN:VEVENT
DTSTART;VALUE=DATE:20251206
DTEND;VALUE=DATE:20251208
DTSTAMP:20260424T231103
CREATED:20251001T191457Z
LAST-MODIFIED:20251006T121856Z
UID:36323-1764979200-1765151999@cnkendo-dr.com
SUMMARY:JODO - Stage ZNKR JODO organisé CRKPACA
DESCRIPTION:Les 6 et 7 décembre 2025 à Marseille\nDirigé par MORIMOTO Kunifumi sensei Hanshi 8° DAN responsable Jodo ZNKR\nProgramme :  JODO ZNKR\nStage ouvert à tous les pratiquants licenciés JODO 2025/2026\nlieu : Gymnase RUFFI 35 rue de Ruffi 13003 Marseille\nHoraire  \nSamedi 6 décembre : 10H00-12H00 / 14H00 -17H00\nDimanche 7 décembre :  9H30 -12H.00 / 13H30 -16H00\nPrix 40 Euros\nInscription jusqu’au 3 décembre 2025 uniquement en ligne : CLIQUER ICI\nRenseignements : jodo@cnkendo-dr.com ou par téléphone 0659650446
URL:https://cnkendo-dr.com/event/36323/
LOCATION:Gymnase RUFFI\, 35 rue de Ruffi\, Marseille\, 13003\, France
END:VEVENT
END:VCALENDAR